BEGIN:VCALENDAR
VERSION:2.0
PRODID:-//FAIREVER - ECPv6.15.20//NONSGML v1.0//EN
CALSCALE:GREGORIAN
METHOD:PUBLISH
X-ORIGINAL-URL:https://www.fairever-events.com
X-WR-CALDESC:Veranstaltungen für FAIREVER
REFRESH-INTERVAL;VALUE=DURATION:PT1H
X-Robots-Tag:noindex
X-PUBLISHED-TTL:PT1H
BEGIN:VTIMEZONE
TZID:Europe/Berlin
BEGIN:DAYLIGHT
TZOFFSETFROM:+0100
TZOFFSETTO:+0200
TZNAME:CEST
DTSTART:20230326T010000
END:DAYLIGHT
BEGIN:STANDARD
TZOFFSETFROM:+0200
TZOFFSETTO:+0100
TZNAME:CET
DTSTART:20231029T010000
END:STANDARD
BEGIN:DAYLIGHT
TZOFFSETFROM:+0100
TZOFFSETTO:+0200
TZNAME:CEST
DTSTART:20240331T010000
END:DAYLIGHT
BEGIN:STANDARD
TZOFFSETFROM:+0200
TZOFFSETTO:+0100
TZNAME:CET
DTSTART:20241027T010000
END:STANDARD
BEGIN:DAYLIGHT
TZOFFSETFROM:+0100
TZOFFSETTO:+0200
TZNAME:CEST
DTSTART:20250330T010000
END:DAYLIGHT
BEGIN:STANDARD
TZOFFSETFROM:+0200
TZOFFSETTO:+0100
TZNAME:CET
DTSTART:20251026T010000
END:STANDARD
END:VTIMEZONE
BEGIN:VEVENT
DTSTART;VALUE=DATE:20240203
DTEND;VALUE=DATE:20240208
DTSTAMP:20260422T093556
CREATED:20240108T175940Z
LAST-MODIFIED:20240108T180128Z
UID:6385-1706918400-1707350399@www.fairever-events.com
SUMMARY:INTERGASTRA 2024
DESCRIPTION:INTERGASTRA 2024: Fairever – Ihr Schlüssel zum erfolgreichen Branchenauftritt!\nTauchen Sie ein in die Welt der Hotellerie und Gastronomie auf der internationalen Leitmesse INTERGASTRA 2024. Mit einer beeindruckenden Fläche von 115.000 m² in den gesamten 10 Hallen der Messe Stuttgart ist die INTERGASTRA der größte Branchentreffpunkt in Deutschland. Alle zwei Jahre vereint sie rund 1.500 Ausstellende und knapp 100.000 Fachbesuchende\, um einen Gesamtüberblick über die neuesten Trends\, Technologien und Innovationen in der Gastronomie und Hotellerie zu bieten. Mit Fairever als Ihrem zuverlässigen Partner gestalten wir Ihren Messeauftritt so\, dass er nicht nur ins Auge sticht\, sondern auch unvergessliche Eindrücke hinterlässt. \nIhre INTERGASTRA-Erfolgsfaktoren mit Fairever:\n1. Innovative Standgestaltung: Fairever schafft für Sie einen Messestand\, der nicht nur ins Auge sticht\, sondern Ihre Produkte und Dienstleistungen optimal präsentiert. \n2. Fachkundige Hostessen: Unsere Hostessen sind nicht nur repräsentativ\, sondern auch fachkundig\, um Ihr Unternehmen kompetent zu vertreten und Besucher zu begeistern. \n3. Zielgerichtete Kommunikationsstrategie: Gemeinsam mit Fairever entwickeln wir eine Strategie\, die nicht nur informiert\, sondern auch inspiriert. Wir setzen Ihre Botschaften gezielt in Szene. \n4. Rundum-Service: Von der detaillierten Planung bis zur umfassenden Nachbereitung – Fairever begleitet Sie auf jedem Schritt. Wir kümmern uns um die Details\, damit Sie sich auf das Wesentliche konzentrieren können: Ihren erfolgreichen Messeauftritt. \n5. Interaktive Produktpräsentation: Fairever ermöglicht nicht nur das Ansehen\, sondern auch das Probieren Ihrer Produkte. Wir schaffen interaktive Erlebnisse\, die Besucher begeistern und Ihnen wertvolle Informationen über Ihre Dienstleistungen vermitteln. \nErleben Sie die Vielfalt der INTERGASTRA 2024 – mit Fairever als Ihrem starken Partner!\nEntdecken Sie die Themenbereiche der INTERGASTRA 2024\, von Küche und Food über Einrichtung und Tischkultur bis hin zu Dienstleistungen\, IT\, DEHOGA und vielem mehr. Kontaktieren Sie uns heute und lassen Sie uns gemeinsam Ihren erfolgreichen Auftritt auf der INTERGASTRA 2024 planen! \n\n		Fragen Sie jetzt an
URL:https://www.fairever-events.com/eventagentur/intergastra-2024-stuttgart-hostess-und-messeagentur/
LOCATION:Messe Stuttgart\, Messepiazza 1\, Stuttgart\, 70629\, Germany
CATEGORIES:Messen in Stuttgart
ATTACH;FMTTYPE=image/png:https://www.fairever-events.com/wp-content/uploads/2024/01/Intergastra_logo.png
END:VEVENT
END:VCALENDAR