BEGIN:VCALENDAR
VERSION:2.0
PRODID:-//FAIREVER - ECPv6.15.20//NONSGML v1.0//EN
CALSCALE:GREGORIAN
METHOD:PUBLISH
X-WR-CALNAME:FAIREVER
X-ORIGINAL-URL:https://www.fairever-events.com
X-WR-CALDESC:Veranstaltungen für FAIREVER
REFRESH-INTERVAL;VALUE=DURATION:PT1H
X-Robots-Tag:noindex
X-PUBLISHED-TTL:PT1H
BEGIN:VTIMEZONE
TZID:Europe/Berlin
BEGIN:DAYLIGHT
TZOFFSETFROM:+0100
TZOFFSETTO:+0200
TZNAME:CEST
DTSTART:20230326T010000
END:DAYLIGHT
BEGIN:STANDARD
TZOFFSETFROM:+0200
TZOFFSETTO:+0100
TZNAME:CET
DTSTART:20231029T010000
END:STANDARD
BEGIN:DAYLIGHT
TZOFFSETFROM:+0100
TZOFFSETTO:+0200
TZNAME:CEST
DTSTART:20240331T010000
END:DAYLIGHT
BEGIN:STANDARD
TZOFFSETFROM:+0200
TZOFFSETTO:+0100
TZNAME:CET
DTSTART:20241027T010000
END:STANDARD
BEGIN:DAYLIGHT
TZOFFSETFROM:+0100
TZOFFSETTO:+0200
TZNAME:CEST
DTSTART:20250330T010000
END:DAYLIGHT
BEGIN:STANDARD
TZOFFSETFROM:+0200
TZOFFSETTO:+0100
TZNAME:CET
DTSTART:20251026T010000
END:STANDARD
END:VTIMEZONE
BEGIN:VEVENT
DTSTART;VALUE=DATE:20240213
DTEND;VALUE=DATE:20240217
DTSTAMP:20260422T075052
CREATED:20240108T181332Z
LAST-MODIFIED:20240108T182113Z
UID:6391-1707782400-1708127999@www.fairever-events.com
SUMMARY:BIOFACH 2024 in Nürnberg
DESCRIPTION:BIOFACH 2024 in Nürnberg – Gemeinsam Bio-Lifestyle gestalten mit Fairever!\nTauchen Sie ein in die Welt der Bio-Lebensmittel auf der BIOFACH 2024\, der Weltleitmesse für ökologische Lebensmittel\, die jährlich im Messezentrum Nürnberg stattfindet. Seit ihrer Gründung 1990 in Ludwigshafen hat sich die BIOFACH zu einer festen Größe in der globalen Messelandschaft entwickelt. Als Ihr Partner im Full-Service-Management sorgt Fairever dafür\, dass Ihr Messeauftritt nicht nur auffällt\, sondern auch Ihre nachhaltigen Werte und Produkte authentisch präsentiert. \nIhre BIOFACH-Erfolgsfaktoren mit Fairever:\n1. Kreative Standkonzeption: Fairever gestaltet Ihren Messestand so\, dass er nicht nur auffällt\, sondern die nachhaltigen Werte Ihrer Bio-Produkte widerspiegelt. \n2. Kompetente Standbetreuung: Unsere Hostessen sind nicht nur repräsentativ\, sondern auch fachkundig. Sie vermitteln nicht nur Informationen\, sondern schaffen eine authentische Verbindung zu Ihrem Unternehmen. \n3. Zielgerichtete Kommunikationsstrategie: Gemeinsam mit Fairever entwickeln wir eine Kommunikationsstrategie\, die nicht nur Ihre Produkte\, sondern auch Ihre nachhaltige Unternehmensphilosophie in den Fokus rückt. \n4. Rundum-Service: Fairever begleitet Sie von der Planung bis zur Nachbereitung. Wir nehmen Ihnen organisatorische Aufgaben ab\, damit Sie sich auf die Präsentation Ihrer Bio-Produkte konzentrieren können. \n5. Interaktive Produktpräsentation: Fairever ermöglicht nicht nur das Ansehen\, sondern auch das Probieren Ihrer Bio-Lebensmittel. Wir schaffen Erlebnisse\, die die Besucher aktiv einbinden und für nachhaltige Genussmomente sorgen. \nBIOFACH-Kongress – Die Zukunft der Bio-Lebensmittel gestalten!\nDer BIOFACH-Kongress begleitet die Messe und widmet sich Themen wie Transformation\, globales Krisenmanagement\, Ernährungssicherheit und der Verbindung zwischen ökologischer Landwirtschaft und der Zukunft. Fairever unterstützt Sie dabei\, Ihre Position als Vorreiter im Bereich Bio-Lebensmittel zu festigen. \nErleben Sie die Vielfalt der BIOFACH 2024 – mit Fairever als Ihrem starken Full-Service-Management-Partner!\nEntdecken Sie das breite Spektrum an Bio-Produkten\, von Frischwaren über Tiefkühlprodukte bis zu Non-Food-Artikeln und Technik. Kontaktieren Sie uns heute und lassen Sie uns gemeinsam Ihren erfolgreichen Auftritt auf der BIOFACH 2024 planen! \n  \n\n		Fragen Sie jetzt an
URL:https://www.fairever-events.com/eventagentur/biofach-2024-in-nuernberg/
LOCATION:Messe Nürnberg\, Messezentrum 1\, Nürnberg\, Bayern\, 90471\, Germany
CATEGORIES:Messen in Nürnberg
ATTACH;FMTTYPE=image/png:https://www.fairever-events.com/wp-content/uploads/2024/01/Logo-Biofach.png
END:VEVENT
END:VCALENDAR