BEGIN:VCALENDAR
VERSION:2.0
PRODID:-//FAIREVER - ECPv6.15.20//NONSGML v1.0//EN
CALSCALE:GREGORIAN
METHOD:PUBLISH
X-ORIGINAL-URL:https://www.fairever-events.com
X-WR-CALDESC:Veranstaltungen für FAIREVER
REFRESH-INTERVAL;VALUE=DURATION:PT1H
X-Robots-Tag:noindex
X-PUBLISHED-TTL:PT1H
BEGIN:VTIMEZONE
TZID:Europe/Berlin
BEGIN:DAYLIGHT
TZOFFSETFROM:+0100
TZOFFSETTO:+0200
TZNAME:CEST
DTSTART:20240331T010000
END:DAYLIGHT
BEGIN:STANDARD
TZOFFSETFROM:+0200
TZOFFSETTO:+0100
TZNAME:CET
DTSTART:20241027T010000
END:STANDARD
BEGIN:DAYLIGHT
TZOFFSETFROM:+0100
TZOFFSETTO:+0200
TZNAME:CEST
DTSTART:20250330T010000
END:DAYLIGHT
BEGIN:STANDARD
TZOFFSETFROM:+0200
TZOFFSETTO:+0100
TZNAME:CET
DTSTART:20251026T010000
END:STANDARD
BEGIN:DAYLIGHT
TZOFFSETFROM:+0100
TZOFFSETTO:+0200
TZNAME:CEST
DTSTART:20260329T010000
END:DAYLIGHT
BEGIN:STANDARD
TZOFFSETFROM:+0200
TZOFFSETTO:+0100
TZNAME:CET
DTSTART:20261025T010000
END:STANDARD
END:VTIMEZONE
BEGIN:VEVENT
DTSTART;VALUE=DATE:20250117
DTEND;VALUE=DATE:20250127
DTSTAMP:20260421T113617
CREATED:20240103T233555Z
LAST-MODIFIED:20241029T102916Z
UID:6266-1737072000-1737935999@www.fairever-events.com
SUMMARY:Internationale Grüne Woche (IGW) Berlin 2025
DESCRIPTION:Entdecken Sie mit Fairever nicht nur einen verlässlichen und kompetenten Partner\, sondern auch einen Innovator für Ihren Messeauftritt auf der Internationalen Grünen Woche Berlin 2025 (IGW). Unsere erfahrene Messe- und Eventagentur versteht sich nicht nur als Dienstleister\, sondern als Motor für innovative Ideen\, um Ihr Unternehmen optimal auf dieser einzigartigen Plattform zu präsentieren.\n\n		Jetzt Anfrage stellen\n	\n\nDie IGW Berlin\, als weltgrößte Messe für Ernährung\, Landwirtschaft und Gartenbau\, bietet eine herausragende Plattform. Fairever setzt nicht nur auf eine ansprechende Präsentation Ihrer Produkte\, sondern integriert auch digitale Tools wie Surveys/Umfragen mit Tablets. Diese ermöglichen nicht nur ein interaktives Erlebnis für Besucher\, sondern auch die Sammlung wertvoller Daten für eine detaillierte Analyse. \nWas uns besonders auszeichnet: Fairever verfügt in Berlin über einen eigenen großen Pool an qualifiziertem Personal. Dieser wurde über viele Jahre aufgebaut und ermöglicht es uns\, nicht nur Hostessen und Hosts\, sondern auch erfahrene Fachkräfte im Umgang mit digitalen Tools bereitzustellen. \nUnsere Full-Service-Leistungen zielen darauf ab\, Ihnen eine umfassende Unterstützung bei der Planung und Durchführung Ihres Messeauftritts zu bieten. Fairever steht Ihnen zur Seite\, um sicherzustellen\, dass Ihr Unternehmen nicht nur im besten Licht erscheint\, sondern auch die neuesten digitalen Möglichkeiten ausschöpft. \nLassen Sie uns gemeinsam Ihren Messeauftritt auf der IGW Berlin zu einem innovativen Erfolg machen. Fairever freut sich darauf\, mit Ihnen zusammenzuarbeiten und Ihre Marke professionell und zielführend zu präsentieren.
URL:https://www.fairever-events.com/eventagentur/internationale-gruene-woche-berlin-hostessen-service/
LOCATION:Messe Berlin\, Messedamm 22\, Berlin\, Berlin\, 14055\, Germany
CATEGORIES:Messen in Berlin
ATTACH;FMTTYPE=image/jpeg:https://www.fairever-events.com/wp-content/uploads/2024/01/gw-logo-claim_cmyk_dunkelgruen_horizontal.jpg
END:VEVENT
END:VCALENDAR