BEGIN:VCALENDAR
VERSION:2.0
PRODID:-//FAIREVER - ECPv6.15.20//NONSGML v1.0//EN
CALSCALE:GREGORIAN
METHOD:PUBLISH
X-ORIGINAL-URL:https://www.fairever-events.com
X-WR-CALDESC:Veranstaltungen für FAIREVER
REFRESH-INTERVAL;VALUE=DURATION:PT1H
X-Robots-Tag:noindex
X-PUBLISHED-TTL:PT1H
BEGIN:VTIMEZONE
TZID:Europe/Berlin
BEGIN:DAYLIGHT
TZOFFSETFROM:+0100
TZOFFSETTO:+0200
TZNAME:CEST
DTSTART:20240331T010000
END:DAYLIGHT
BEGIN:STANDARD
TZOFFSETFROM:+0200
TZOFFSETTO:+0100
TZNAME:CET
DTSTART:20241027T010000
END:STANDARD
BEGIN:DAYLIGHT
TZOFFSETFROM:+0100
TZOFFSETTO:+0200
TZNAME:CEST
DTSTART:20250330T010000
END:DAYLIGHT
BEGIN:STANDARD
TZOFFSETFROM:+0200
TZOFFSETTO:+0100
TZNAME:CET
DTSTART:20251026T010000
END:STANDARD
BEGIN:DAYLIGHT
TZOFFSETFROM:+0100
TZOFFSETTO:+0200
TZNAME:CEST
DTSTART:20260329T010000
END:DAYLIGHT
BEGIN:STANDARD
TZOFFSETFROM:+0200
TZOFFSETTO:+0100
TZNAME:CET
DTSTART:20261025T010000
END:STANDARD
END:VTIMEZONE
BEGIN:VEVENT
DTSTART;VALUE=DATE:20250905
DTEND;VALUE=DATE:20250910
DTSTAMP:20260420T212611
CREATED:20250429T151946Z
LAST-MODIFIED:20250429T152504Z
UID:7118-1757030400-1757462399@www.fairever-events.com
SUMMARY:Messepersonal\, Hostessen & Promotion für die IFA 2025
DESCRIPTION:Setzen Sie Ihre Innovationen perfekt in Szene – auf der IFA 2025\, der weltweit führenden Messe für Consumer Electronics\, Home Appliances und digitale Trends. Vom 05. bis 09. September 2025 sorgt FAIREVER mit erfahrenem Messepersonal und einem individuellen Full-Service-Paket dafür\, dass Ihre Marke auf dem internationalen Technologiemarkt glänzt – sichtbar\, professionell und wirkungsvoll. \nDie IFA 2025 – Ihre Bühne für Consumer Tech\, Smart Living & globale Innovationen\nDie IFA ist die Plattform für Technikvisionäre\, Branchenführer und Zukunftsdenker. Hier trifft sich die Welt\, um neueste Entwicklungen zu erleben: \n\nUnterhaltungselektronik\, Smartphones\, Wearables\nSmart Home & Vernetzung\nHaushaltsgeräte\, Health Tech & Innovation\nMedien\, Creator Economy & internationale Handelspartner\n\nMit FAIREVER steigern Sie Ihre Sichtbarkeit und schaffen ein Erlebnis\, das bleibt. \nProfessionelles Messepersonal für die IFA 2025\nUnsere Promoter:innen\, Hostessen und Technikbetreuer:innen überzeugen mit: \n\nMehrsprachiger Kommunikation (DE/EN & weitere Sprachen auf Wunsch)\nFachkundiger Produktpräsentation & Leadgenerierung\nBetreuung von Demo-Stationen\, Besuchermanagement & VIP-Service\n\nFull-Service für Ihre Markeninszenierung\nFAIREVER begleitet Sie mit einem durchdachten Messekonzept von Anfang bis Ende: \n\nPersonalauswahl\, Outfitausstattung & Briefing\nStandbetreuung\, Promotionplanung & Logistik\nTechnische Koordination & Vor-Ort-Support\nAuswertung & Reporting nach der Messe\n\nJetzt Messepersonal für die IFA 2025 anfragen!\nSetzen Sie auf Präsenz mit Wirkung – wir machen Technik erlebbar. \n\n		Jetzt Anfrage stellen\n	\n\nFAIREVER GmbH – fair. flexibel. nachhaltig.\nIhr Partner für Messepersonal\, Promotion & Full-Service auf der IFA 2025 und darüber hinaus.
URL:https://www.fairever-events.com/eventagentur/ifa-2025-berlin-hostessen/
LOCATION:Messe Berlin\, Messedamm 22\, Berlin\, Berlin\, 14055\, Germany
CATEGORIES:Messen in Berlin
ATTACH;FMTTYPE=image/jpeg:https://www.fairever-events.com/wp-content/uploads/2025/04/ifa_logo_ohnedatum_1920x1080px.jpg
END:VEVENT
END:VCALENDAR