BEGIN:VCALENDAR
VERSION:2.0
PRODID:-//FAIREVER - ECPv6.15.20//NONSGML v1.0//EN
CALSCALE:GREGORIAN
METHOD:PUBLISH
X-ORIGINAL-URL:https://www.fairever-events.com
X-WR-CALDESC:Veranstaltungen für FAIREVER
REFRESH-INTERVAL;VALUE=DURATION:PT1H
X-Robots-Tag:noindex
X-PUBLISHED-TTL:PT1H
BEGIN:VTIMEZONE
TZID:Europe/Berlin
BEGIN:DAYLIGHT
TZOFFSETFROM:+0100
TZOFFSETTO:+0200
TZNAME:CEST
DTSTART:20240331T010000
END:DAYLIGHT
BEGIN:STANDARD
TZOFFSETFROM:+0200
TZOFFSETTO:+0100
TZNAME:CET
DTSTART:20241027T010000
END:STANDARD
BEGIN:DAYLIGHT
TZOFFSETFROM:+0100
TZOFFSETTO:+0200
TZNAME:CEST
DTSTART:20250330T010000
END:DAYLIGHT
BEGIN:STANDARD
TZOFFSETFROM:+0200
TZOFFSETTO:+0100
TZNAME:CET
DTSTART:20251026T010000
END:STANDARD
BEGIN:DAYLIGHT
TZOFFSETFROM:+0100
TZOFFSETTO:+0200
TZNAME:CEST
DTSTART:20260329T010000
END:DAYLIGHT
BEGIN:STANDARD
TZOFFSETFROM:+0200
TZOFFSETTO:+0100
TZNAME:CET
DTSTART:20261025T010000
END:STANDARD
END:VTIMEZONE
BEGIN:VEVENT
DTSTART;VALUE=DATE:20250909
DTEND;VALUE=DATE:20250915
DTSTAMP:20260420T212611
CREATED:20250508T171202Z
LAST-MODIFIED:20250508T171324Z
UID:7178-1757376000-1757894399@www.fairever-events.com
SUMMARY:IAA 2025 - Messepersonal\, Hostessen & Promotion
DESCRIPTION:Setzen Sie Ihre Marke auf der globalen Bühne der Mobilität – auf der IAA 2025\, der weltweit führenden Messe für Mobilität und Automobiltechnologie\, treffen Sie auf Fachbesucher aus der ganzen Welt. Vom 09. bis 14. September 2025 sorgt FAIREVER mit professionellem Messepersonal und einem umfassenden Full-Service-Paket dafür\, dass Ihre Produkte und Innovationen die Aufmerksamkeit der internationalen Automobilbranche erhalten. \n🚗 Die IAA 2025 – Ihre Bühne für Mobilität und Automobiltechnologie\nDie IAA 2025 ist der Dreh- und Angelpunkt für Innovationen im Bereich der Mobilität\, mit Schwerpunkten auf: \n\nElektromobilität und Nachhaltigkeit\nAutonome Fahrzeuge und Smart Mobility\nAutomobile Zukunftstechnologien\n\nMit FAIREVER bringen Sie Ihre Marke ins Rampenlicht und sichern sich die Aufmerksamkeit der Entscheider aus der Branche. \n🚙 Professionelles Messepersonal für die IAA 2025\nUnsere Hostessen und Promoter sind auf Messen der Automobilbranche spezialisiert und bieten Ihnen: \n\nProduktvorstellungen und Beratung (DE/EN und weitere Sprachen auf Wunsch)\nUnterstützung bei Produktvorführungen und Messestandaktivierungen\nBesuchermanagement und Standorganisation\n\n🌍 Rundum-Service für Ihre Messepräsenz\nProfitieren Sie von unserem Full-Service-Angebot für die IAA 2025: \n\nMessestandgestaltung und Branding im Einklang mit Ihrer Marke\nAuswahl und Briefing des Messepersonals\nPromotionaktionen und Produktvorführungen\nLogistik\, Koordination und Vor-Ort-Betreuung\n\n📩 Jetzt Messepersonal für die IAA 2025 anfragen! \n\n		Fragen Sie jetzt an\n	\n\nFAIREVER GmbH – fair. flexibel. nachhaltig.\nIhr Partner für Messepersonal\, Promotion und Full-Service auf der IAA 2025 und darüber hinaus.
URL:https://www.fairever-events.com/eventagentur/iaa-messepersonal-hostessen-promotion/
LOCATION:Messe München\, Messegelände\, München\, Bayern\, 81823\, Germany
CATEGORIES:Messen in München
ATTACH;FMTTYPE=image/webp:https://www.fairever-events.com/wp-content/uploads/2025/05/iaa.webp
END:VEVENT
END:VCALENDAR