BEGIN:VCALENDAR
VERSION:2.0
PRODID:-//FAIREVER - ECPv6.15.20//NONSGML v1.0//EN
CALSCALE:GREGORIAN
METHOD:PUBLISH
X-WR-CALNAME:FAIREVER
X-ORIGINAL-URL:https://www.fairever-events.com
X-WR-CALDESC:Veranstaltungen für FAIREVER
REFRESH-INTERVAL;VALUE=DURATION:PT1H
X-Robots-Tag:noindex
X-PUBLISHED-TTL:PT1H
BEGIN:VTIMEZONE
TZID:Europe/Berlin
BEGIN:DAYLIGHT
TZOFFSETFROM:+0100
TZOFFSETTO:+0200
TZNAME:CEST
DTSTART:20240331T010000
END:DAYLIGHT
BEGIN:STANDARD
TZOFFSETFROM:+0200
TZOFFSETTO:+0100
TZNAME:CET
DTSTART:20241027T010000
END:STANDARD
BEGIN:DAYLIGHT
TZOFFSETFROM:+0100
TZOFFSETTO:+0200
TZNAME:CEST
DTSTART:20250330T010000
END:DAYLIGHT
BEGIN:STANDARD
TZOFFSETFROM:+0200
TZOFFSETTO:+0100
TZNAME:CET
DTSTART:20251026T010000
END:STANDARD
BEGIN:DAYLIGHT
TZOFFSETFROM:+0100
TZOFFSETTO:+0200
TZNAME:CEST
DTSTART:20260329T010000
END:DAYLIGHT
BEGIN:STANDARD
TZOFFSETFROM:+0200
TZOFFSETTO:+0100
TZNAME:CET
DTSTART:20261025T010000
END:STANDARD
END:VTIMEZONE
BEGIN:VEVENT
DTSTART;VALUE=DATE:20250922
DTEND;VALUE=DATE:20250927
DTSTAMP:20260420T212923
CREATED:20241123T122820Z
LAST-MODIFIED:20250430T151128Z
UID:6969-1758499200-1758931199@www.fairever-events.com
SUMMARY:EMO Hannover 2025
DESCRIPTION:Die EMO Hannover 2025\, die Weltleitmesse der Metallbearbeitung\, ist die perfekte Plattform\, um Ihre Innovationen und Technologien einem internationalen Fachpublikum zu präsentieren. Mit FAIREVER an Ihrer Seite sorgen wir dafür\, dass Ihr Stand unter den 2.210 Ausstellern heraussticht und Ihre Marke die verdiente Aufmerksamkeit erhält. \n\n		Fragen Sie jetzt an\n	\n\nMehrsprachige und professionelle Hostessen für die Metallbearbeitungsbranche \nUnser Pool an qualifizierten Hostessen aus der Region Hannover ist speziell auf die Anforderungen der EMO vorbereitet. Alle FAIREVER Hostessen sind mehrsprachig und professionell geschult\, um Ihre Marke charmant und kompetent zu repräsentieren. Ob bei der Begrüßung internationaler Gäste\, der Unterstützung bei technischen Präsentationen oder bei Networking-Veranstaltungen – unser Team sorgt dafür\, dass Ihr Stand als einladender und professioneller Treffpunkt wahrgenommen wird. \nFAIREVER – Ihr Full-Service Partner für die EMO Hannover \nUnser Full-Service-Angebot umfasst alles\, was Sie für einen erfolgreichen Messeauftritt benötigen: von kreativer Standgestaltung bis hin zur Bereitstellung erfahrener Hostessen und Hosts\, die gezielt auf Ihre Zielgruppe abgestimmt sind. Mit FAIREVER wird Ihre Präsenz auf der EMO Hannover 2025 professionell und wirkungsvoll gestaltet. \nEin Messeauftritt\, der inspiriert \nDie EMO überzeugt mit einem umfangreichen Rahmenprogramm aus Sonderschauen\, Foren und Konferenzen\, die die neuesten Trends und Innovationen der Branche beleuchten. Unsere Hostessen und Hosts schaffen eine einladende Atmosphäre\, die Ihre Marke ins Rampenlicht rückt und Fachbesucher begeistert. \nSetzen Sie auf FAIREVER für eine erfolgreiche Präsenz auf der EMO Hannover 2025. Kontaktieren Sie uns jetzt für eine unverbindliche Beratung! \n  \n 
URL:https://www.fairever-events.com/eventagentur/emo-messe-hostessen-hannover/
LOCATION:Messe Hannover\, Hermesallee\, Hannover\, 30521\, Germany
CATEGORIES:Messen in Hannover
ATTACH;FMTTYPE=image/png:https://www.fairever-events.com/wp-content/uploads/2024/11/EMO_LOGO.png
END:VEVENT
BEGIN:VEVENT
DTSTART;VALUE=DATE:20250922
DTEND;VALUE=DATE:20250927
DTSTAMP:20260420T212923
CREATED:20250624T141249Z
LAST-MODIFIED:20250624T141249Z
UID:7536-1758499200-1758931199@www.fairever-events.com
SUMMARY:Messepersonal für die IAAPA Expo Europe 2025 in Barcelona
DESCRIPTION:Deutsche Präzision trifft internationale Messekompetenz \nDie IAAPA Expo Europe 2025 (22.–26. September\, Fira Barcelona Gran Via) ist Europas größte Messe für Freizeit- und Erlebnisindustrie – mit über 690 Ausstellern und rund 21.000 m² Ausstellungsfläche. Als Aussteller setzen Sie auf FAIREVER\, um Ihren Auftritt auf ein neues Level zu heben – mit deutschem Qualitätsanspruch und erstklassigem Personal. \nWarum FAIREVER Ihr idealer Partner ist \n\nDeutsch strukturierte Organisation & Briefing-Standards\nWir planen nach deutschen Qualitätskriterien: punktgenaue Einsatzzeiten\, strukturierte Briefings und transparente Abläufe – vom Onboarding bis zum Einsatzende.\nMehrsprachige\, zuverlässige Teams (EN | ES)\nWir kombinieren deutschsprachige Projektleitung mit lokal erfahrenen Hosts und Hostessen – für reibungslose Kommunikation auf allen Ebenen.\nBranchen-Know-how für Technikevents\nDie IAAPA richtet sich an Freizeitparks\, Museen\, Zoos und Erlebnisanbieter – wir liefern Messekräfte\, die Technik\, Produkte und Zielgruppen sicher betreuen.\n\nUnser Serviceangebot für Ihren Messeerfolg \n\nVorbereitung & Casting\nAuswahl erfahrener Hosts/Hostessen mit Messeerfahrung\, ideal für den Kundenkontakt\, Technik-Support und VIP-Betreuung.\nIndividuelles Briefing\nBriefing nach deutscher Präzision – mit Ablaufplänen\, Rollenverteilung\, Pausenmanagement und Checklisten.\nEinsatz auf der Messe\nEmpfang\, Gästebetreuung\, Produktvorführung\, Akkreditierungsunterstützung – mit konstant hoher Servicequalität.\nOnsite-Koordination\nDeutschsprachige Vor-Ort-Betreuung bei Aufbau\, Messebetrieb und Abbau – inklusive Schichtplanung und proaktiver Problemlösung.\nNachbereitung\nAuswertung der Performance\, detailliertes Reporting und Feedback-Runde mit klaren Ergebnissen.\n\nIhre Vorteile auf einen Blick \n\n Deutsche Zuverlässigkeit & Organisation\nKontinuierlicher Kontakt & deutschsprachiger Support\nKlar strukturierte Briefings & effektives Personalmanagement\nReibungslose Umsetzung vom Aufbau bis zum Abbau\nMaßgeschneiderte Betreuung für technikfokussierte Messeauftritte\n\nVertrauen Sie auf deutsche Qualität – auch im Ausland \nEin erfolgreicher Messeauftritt in Barcelona erfordert mehr als Flexibilität – er braucht Struktur\, Erfahrung und klare Kommunikation. Mit FAIREVER holen Sie sich eine Qualitätsagentur ins Boot\, die „Made in Germany“ auch international zuverlässig umsetzt. \nJetzt Messepersonal für die IAAPA Expo Europe 2025 anfragen \nNutzen Sie unsere Expertise und sichern Sie sich: \nIhr persönliches Angebot – präzise\, transparent und deutschlandweit geprüft.\nMaximale Entlastung – mit professioneller Betreuung und internem Ansprechpartner.\nSichtbarer Markenauftritt – mit topgeschultem Personal\, das Ihre Marke souverän präsentiert. \n\n		Jetzt unverbindlich anfragen – wir freuen uns auf Ihre Anfrage!
URL:https://www.fairever-events.com/eventagentur/messepersonal-iaapa-expo-barcelona/
LOCATION:Messe Barcelona\, Av. Joan Carles I\, 64\, L'Hospitalet de Llobregat\, Barcelona\, 08004\, Spain
CATEGORIES:Messen in Barcelona
ATTACH;FMTTYPE=image/png:https://www.fairever-events.com/wp-content/uploads/2025/06/iaapa-expo-europe-logo.png
END:VEVENT
BEGIN:VEVENT
DTSTART;VALUE=DATE:20250923
DTEND;VALUE=DATE:20250927
DTSTAMP:20260420T212923
CREATED:20240108T105602Z
LAST-MODIFIED:20250430T150703Z
UID:6351-1758585600-1758931199@www.fairever-events.com
SUMMARY:CMS Messe Berlin 2025
DESCRIPTION:Die CMS Berlin 2025\, die internationale Fachmesse für Reinigungssysteme\, Gebäudemanagement und Dienstleistungen\, ist die perfekte Plattform\, um Ihre Produkte\, Technologien und Services einem internationalen Fachpublikum zu präsentieren. Mit FAIREVER sorgen wir dafür\, dass Ihr Stand unter den 420 Ausstellern hervorsticht und Ihre Marke die verdiente Aufmerksamkeit erhält. \n\n		Fragen Sie jetzt an\n	\n\nMehrsprachige und professionelle Hostessen für die Reinigungsbranche \nUnser umfangreicher Pool an qualifizierten Hostessen aus der Region Berlin ist speziell auf die Anforderungen der CMS Berlin vorbereitet. Alle FAIREVER Hostessen sind mehrsprachig und geschult\, um Ihre Marke charmant und kompetent zu repräsentieren. Ob bei der Begrüßung internationaler Gäste\, der Unterstützung bei Produktpräsentationen oder der Begleitung auf den Aktionsflächen – unser Team sorgt dafür\, dass Ihr Stand als einladender und professioneller Treffpunkt wahrgenommen wird. \nFAIREVER – Ihr Full-Service Partner für die CMS Berlin \nUnser Full-Service-Angebot umfasst alles\, was Sie für einen erfolgreichen Messeauftritt benötigen: von kreativer Standgestaltung bis hin zur Bereitstellung erfahrener Hostessen und Hosts\, die gezielt auf Ihre Zielgruppe abgestimmt sind. Mit FAIREVER wird Ihre Präsenz auf der CMS Berlin 2025 professionell und wirkungsvoll gestaltet. \nEin Messeauftritt\, der überzeugt \nDie CMS Berlin bietet mit ihrem exklusiven Rahmenprogramm\, den praxisnahen Aktionsflächen und hochkarätigen Gastrednern eine einzigartige Plattform für Networking und Innovationen. Unsere Hostessen und Hosts schaffen eine einladende Atmosphäre\, die Ihre Marke und Ihre Botschaft erfolgreich in den Mittelpunkt rückt. \nSetzen Sie auf FAIREVER für eine erfolgreiche Präsenz auf der CMS Berlin 2025. Kontaktieren Sie uns jetzt für eine unverbindliche Beratung!
URL:https://www.fairever-events.com/eventagentur/cms-berlin-hostess-service-agentur/
LOCATION:Messe Berlin\, Messedamm 22\, Berlin\, Berlin\, 14055\, Germany
CATEGORIES:Messen in Berlin
ATTACH;FMTTYPE=image/jpeg:https://www.fairever-events.com/wp-content/uploads/2024/01/logo_cms-berlin.jpg
END:VEVENT
BEGIN:VEVENT
DTSTART;VALUE=DATE:20250923
DTEND;VALUE=DATE:20250927
DTSTAMP:20260420T212923
CREATED:20250511T094457Z
LAST-MODIFIED:20250511T094457Z
UID:7236-1758585600-1758931199@www.fairever-events.com
SUMMARY:FACHPACK Nürnberg - Messepersonal\, Hostessen & Promotion
DESCRIPTION:Zeigen Sie Ihre Verpackungslösungen von ihrer stärksten Seite – auf der FACHPACK 2025\, der europäischen Fachmesse für Verpackung\, Technik und Prozesse. Vom 23. bis 25. September 2025 sorgt FAIREVER mit erfahrenem Messepersonal und einem umfassenden Full-Service dafür\, dass Ihre Produkte professionell und wirkungsvoll präsentiert werden. \n📦 Die FACHPACK 2025 – Ihre Bühne für Innovation\, Nachhaltigkeit & Verpackungstrends\nOb Maschinen\, Materialien oder intelligente Verpackungslösungen – die FACHPACK ist Treffpunkt für: \n\nVerpackungshersteller und Maschinenbauer\nMarkenartikler\, Produzenten und Retail\nNachhaltigkeitslösungen & Kreislaufwirtschaft\nDesign\, Kennzeichnung & Digitalisierung\n\n🧑‍💼 Messepersonal mit Branchenkenntnis & Kommunikationstalent\nUnsere Promoter:innen\, Hostessen und Technikbetreuer:innen übernehmen: \n\nProduktvorstellungen & Fachbesucherservice (DE/EN)\nBetreuung von Maschinen\, Verpackungsmodulen & Demos\nInteraktion mit Besuchern & Leadsammlung\nUnterstützung bei Präsentationen\, Vorträgen & Showcases\n\n🛠️ FAIREVER Full-Service für Ihre FACHPACK-Präsenz\nWir unterstützen Sie vor\, während und nach der Messe mit: \n\nPersonalplanung\, Briefing & Outfitausstattung\nLogistik\, Tageskoordination & Promotionaktionen\nBetreuung Ihrer Messekampagne vor Ort\nAuswertung\, Nachbereitung & Teamfeedback\n\n📩 Jetzt Messepersonal für die FACHPACK 2025 anfragen! \n\n		Fragen Sie jetzt an\n	\n\nFAIREVER GmbH – fair. flexibel. nachhaltig.\nIhr Partner für Messepersonal\, Promotion und Full-Service auf der FACHPACK 2025 und allen Verpackungs- und Prozessmessen.
URL:https://www.fairever-events.com/eventagentur/fachpack-nuernberg-messepersonal-hostessen-promotion/
LOCATION:Messe Nürnberg\, Messezentrum 1\, Nürnberg\, Bayern\, 90471\, Germany
CATEGORIES:Messen in Nürnberg
ATTACH;FMTTYPE=image/jpeg:https://www.fairever-events.com/wp-content/uploads/2025/05/fachpack-logo.jpg
END:VEVENT
END:VCALENDAR