BEGIN:VCALENDAR
VERSION:2.0
PRODID:-//FAIREVER - ECPv6.15.20//NONSGML v1.0//EN
CALSCALE:GREGORIAN
METHOD:PUBLISH
X-ORIGINAL-URL:https://www.fairever-events.com
X-WR-CALDESC:Veranstaltungen für FAIREVER
REFRESH-INTERVAL;VALUE=DURATION:PT1H
X-Robots-Tag:noindex
X-PUBLISHED-TTL:PT1H
BEGIN:VTIMEZONE
TZID:Europe/Berlin
BEGIN:DAYLIGHT
TZOFFSETFROM:+0100
TZOFFSETTO:+0200
TZNAME:CEST
DTSTART:20240331T010000
END:DAYLIGHT
BEGIN:STANDARD
TZOFFSETFROM:+0200
TZOFFSETTO:+0100
TZNAME:CET
DTSTART:20241027T010000
END:STANDARD
BEGIN:DAYLIGHT
TZOFFSETFROM:+0100
TZOFFSETTO:+0200
TZNAME:CEST
DTSTART:20250330T010000
END:DAYLIGHT
BEGIN:STANDARD
TZOFFSETFROM:+0200
TZOFFSETTO:+0100
TZNAME:CET
DTSTART:20251026T010000
END:STANDARD
BEGIN:DAYLIGHT
TZOFFSETFROM:+0100
TZOFFSETTO:+0200
TZNAME:CEST
DTSTART:20260329T010000
END:DAYLIGHT
BEGIN:STANDARD
TZOFFSETFROM:+0200
TZOFFSETTO:+0100
TZNAME:CET
DTSTART:20261025T010000
END:STANDARD
END:VTIMEZONE
BEGIN:VEVENT
DTSTART;VALUE=DATE:20251004
DTEND;VALUE=DATE:20251009
DTSTAMP:20260420T193343
CREATED:20250508T173938Z
LAST-MODIFIED:20250508T174111Z
UID:7205-1759536000-1759967999@www.fairever-events.com
SUMMARY:Anuga 2025 - Messepersonal\, Hostessen & Promotion
DESCRIPTION:Präsentieren Sie Ihre Produkte auf der Anuga 2025\, der internationalen Leitmesse der globalen Ernährungswirtschaft. FAIREVER stellt Ihnen erfahrenes Messepersonal und umfassenden Service für einen gelungenen Messeauftritt zur Verfügung.​ \n🥗 Die Anuga 2025 – Ihre Bühne für Lebensmittel und Getränke: \nDie Anuga vereint zehn Fachmessen unter einem Dach und bietet eine Plattform für Innovationen und Trends der Lebensmittelbranche.​ \n👩‍💼 Professionelles Messepersonal für die Anuga 2025 \nUnsere Hostessen und Promoter bieten: \n\nProduktpräsentationen und Verkostungen\nKundenberatung in mehreren Sprachen\nBesuchermanagement und Standbetreuung​\n\n🌍 Rundum-Service für Ihre Messepräsenz \nUnser Full-Service-Angebot umfasst: \n\nMessestandgestaltung und Branding\nAuswahl und Schulung des Messepersonals\nPromotionaktionen und Produktvorführungen\nLogistik\, Koordination und Vor-Ort-Betreuung​\n\n📩 Jetzt Messepersonal für die Anuga 2025 anfragen! \n\n		Fragen Sie jetzt an\n	\n\nFAIREVER GmbH – fair. flexibel. nachhaltig.\nIhr Partner für Messepersonal\, Promotion und Full-Service auf der ANUGA 2025 und weit darüber hinaus. \n  \n 
URL:https://www.fairever-events.com/eventagentur/anuga-messepersonal-hostessen-promotion/
LOCATION:Messe Köln\, Messeplatz 1\, Köln\, NRW\, 50679\, Germany
CATEGORIES:Messen in Köln
ATTACH;FMTTYPE=image/webp:https://www.fairever-events.com/wp-content/uploads/2025/05/Logo-Anuga.webp
END:VEVENT
END:VCALENDAR