BEGIN:VCALENDAR
VERSION:2.0
PRODID:-//FAIREVER - ECPv6.15.20//NONSGML v1.0//EN
CALSCALE:GREGORIAN
METHOD:PUBLISH
X-ORIGINAL-URL:https://www.fairever-events.com
X-WR-CALDESC:Veranstaltungen für FAIREVER
REFRESH-INTERVAL;VALUE=DURATION:PT1H
X-Robots-Tag:noindex
X-PUBLISHED-TTL:PT1H
BEGIN:VTIMEZONE
TZID:Europe/Berlin
BEGIN:DAYLIGHT
TZOFFSETFROM:+0100
TZOFFSETTO:+0200
TZNAME:CEST
DTSTART:20240331T010000
END:DAYLIGHT
BEGIN:STANDARD
TZOFFSETFROM:+0200
TZOFFSETTO:+0100
TZNAME:CET
DTSTART:20241027T010000
END:STANDARD
BEGIN:DAYLIGHT
TZOFFSETFROM:+0100
TZOFFSETTO:+0200
TZNAME:CEST
DTSTART:20250330T010000
END:DAYLIGHT
BEGIN:STANDARD
TZOFFSETFROM:+0200
TZOFFSETTO:+0100
TZNAME:CET
DTSTART:20251026T010000
END:STANDARD
BEGIN:DAYLIGHT
TZOFFSETFROM:+0100
TZOFFSETTO:+0200
TZNAME:CEST
DTSTART:20260329T010000
END:DAYLIGHT
BEGIN:STANDARD
TZOFFSETFROM:+0200
TZOFFSETTO:+0100
TZNAME:CET
DTSTART:20261025T010000
END:STANDARD
END:VTIMEZONE
BEGIN:VEVENT
DTSTART;VALUE=DATE:20251004
DTEND;VALUE=DATE:20251009
DTSTAMP:20260420T193342
CREATED:20250508T173938Z
LAST-MODIFIED:20250508T174111Z
UID:7205-1759536000-1759967999@www.fairever-events.com
SUMMARY:Anuga 2025 - Messepersonal\, Hostessen & Promotion
DESCRIPTION:Präsentieren Sie Ihre Produkte auf der Anuga 2025\, der internationalen Leitmesse der globalen Ernährungswirtschaft. FAIREVER stellt Ihnen erfahrenes Messepersonal und umfassenden Service für einen gelungenen Messeauftritt zur Verfügung.​ \n🥗 Die Anuga 2025 – Ihre Bühne für Lebensmittel und Getränke: \nDie Anuga vereint zehn Fachmessen unter einem Dach und bietet eine Plattform für Innovationen und Trends der Lebensmittelbranche.​ \n👩‍💼 Professionelles Messepersonal für die Anuga 2025 \nUnsere Hostessen und Promoter bieten: \n\nProduktpräsentationen und Verkostungen\nKundenberatung in mehreren Sprachen\nBesuchermanagement und Standbetreuung​\n\n🌍 Rundum-Service für Ihre Messepräsenz \nUnser Full-Service-Angebot umfasst: \n\nMessestandgestaltung und Branding\nAuswahl und Schulung des Messepersonals\nPromotionaktionen und Produktvorführungen\nLogistik\, Koordination und Vor-Ort-Betreuung​\n\n📩 Jetzt Messepersonal für die Anuga 2025 anfragen! \n\n		Fragen Sie jetzt an\n	\n\nFAIREVER GmbH – fair. flexibel. nachhaltig.\nIhr Partner für Messepersonal\, Promotion und Full-Service auf der ANUGA 2025 und weit darüber hinaus. \n  \n 
URL:https://www.fairever-events.com/eventagentur/anuga-messepersonal-hostessen-promotion/
LOCATION:Messe Köln\, Messeplatz 1\, Köln\, NRW\, 50679\, Germany
CATEGORIES:Messen in Köln
ATTACH;FMTTYPE=image/webp:https://www.fairever-events.com/wp-content/uploads/2025/05/Logo-Anuga.webp
END:VEVENT
BEGIN:VEVENT
DTSTART;VALUE=DATE:20251006
DTEND;VALUE=DATE:20251009
DTSTAMP:20260420T193343
CREATED:20250508T172807Z
LAST-MODIFIED:20250508T172807Z
UID:7194-1759708800-1759967999@www.fairever-events.com
SUMMARY:EXPO REAL 2025 - Messepersonal\, Hostessen & Promotion
DESCRIPTION:Setzen Sie Ihre Marke in der Welt der Immobilien- und Investitionsmärkte in Szene – auf der EXPO REAL 2025\, der internationalen Fachmesse für Gewerbeimmobilien und Investitionen. Vom 6. bis 8. Oktober 2025 sorgt FAIREVER mit professionellem Messepersonal und einem umfassenden Full-Service-Paket dafür\, dass Ihre Projekte und Ideen optimal präsentiert werden. \n🏢 Die EXPO REAL 2025 – Ihre Bühne für Gewerbeimmobilien und Investitionen\nDie EXPO REAL 2025 ist der wichtigste Treffpunkt für die Immobilienbranche. Auf der Messe präsentieren sich Unternehmen aus den Bereichen: \n\nGewerbeimmobilien und Investmentmöglichkeiten\nProjektentwicklung und Planung\nImmobilienwirtschaft und Finanzierung\n\nMit FAIREVER wird Ihr Messeauftritt auf dieser internationalen Veranstaltung zu einem Erfolg. \n🏠 Professionelles Messepersonal für die EXPO REAL 2025\nUnsere Hostessen und Promoter sind auf Immobilienmessen spezialisiert und bieten Ihnen: \n\nProduktvorstellungen und Beratung (DE/EN und weitere Sprachen auf Wunsch)\nUnterstützung bei Produktvorführungen und Messestandaktivierungen\nBesuchermanagement und Standorganisation\n\n🌍 Rundum-Service für Ihre Messepräsenz\nProfitieren Sie von unserem Full-Service-Angebot für die EXPO REAL 2025: \n\nMessestandgestaltung und Branding im Einklang mit Ihrer Marke\nAuswahl und Briefing des Messepersonals\nPromotionaktionen und Produktvorführungen\nLogistik\, Koordination und Vor-Ort-Betreuung\n\n📩 Jetzt Messepersonal für die EXPO REAL 2025 anfragen! \n\n		Fragen Sie jetzt an\n	\n\nFAIREVER GmbH – fair. flexibel. nachhaltig.\nIhr Partner für Messepersonal\, Promotion und Full-Service auf der EXPO REAL 2025 und darüber hinaus.
URL:https://www.fairever-events.com/eventagentur/expo-real-messepersonal-hostessen-promotion/
LOCATION:Messe München\, Messegelände\, München\, Bayern\, 81823\, Germany
CATEGORIES:Messen in München
ATTACH;FMTTYPE=image/png:https://www.fairever-events.com/wp-content/uploads/2025/05/Expo_Real_logo.svg.png
END:VEVENT
BEGIN:VEVENT
DTSTART;VALUE=DATE:20251007
DTEND;VALUE=DATE:20251010
DTSTAMP:20260420T193343
CREATED:20250511T103715Z
LAST-MODIFIED:20250511T103715Z
UID:7242-1759795200-1760054399@www.fairever-events.com
SUMMARY:it-sa Nürnberg - Messepersonal\, Hostessen & Promotion
DESCRIPTION:Sorgen Sie für eine sichere Präsenz auf der it-sa 2025 – Europas führender Fachmesse für IT-Sicherheit. Vom 07. bis 09. Oktober 2025 unterstützt FAIREVER Ihren Messeauftritt mit technisch versiertem Personal\, professionellen Promoter:innen und einem ganzheitlichen Full-Service – passgenau auf die Welt der Cybersicherheit zugeschnitten. \n🔐 Die it-sa 2025 – Ihre Bühne für Cybersecurity\, Datenschutz & digitale Souveränität\nAls zentrale Plattform für IT-Sicherheitslösungen vernetzt die Messe Hersteller\, Fachpublikum und Entscheider aus: \n\nIT-Security & Netzwerktechnik\nCloud & Mobile Security\nDatenschutz\, Compliance & Identitätsmanagement\nKI\, Infrastruktur & Verschlüsselungstechnologien\n\n🧑‍💻 Messepersonal mit technischem Verständnis & Kommunikationsstärke\nUnsere Hosts\, Hostessen und Promoter:innen übernehmen: \n\nMehrsprachige Fachbesucherbetreuung (DE/EN & weitere Sprachen auf Wunsch)\nUnterstützung bei Live-Demos\, Workshops & Präsentationen\nInfopoint-Service & Standmanagement\nZielgerichtete Produkt- & Lösungsansprache\n\n🛠️ Full-Service für Ihre Präsenz auf der it-sa\nFAIREVER begleitet Sie sicher & effizient mit: \n\nPersonalauswahl\, Schulung & Einsatzplanung\nMesseoutfits\, Technikbetreuung & Besucherkoordination\nPromotionideen\, Aktionen & Logistikkoordination\nTagesmanagement & Nachbereitung auf Wunsch\n\n📩 Jetzt Messepersonal für die it-sa 2025 anfragen! \n\n		Fragen Sie jetzt an\n	\n\nFAIREVER GmbH – fair. flexibel. nachhaltig.\nIhr Partner für Messepersonal\, Promotion und Full-Service auf der it-sa 2025 und allen IT-Fachmessen.
URL:https://www.fairever-events.com/eventagentur/it-sa-nuernberg-messepersonal-hostessen-promotion/
LOCATION:Messe Nürnberg\, Messezentrum 1\, Nürnberg\, Bayern\, 90471\, Germany
CATEGORIES:Messen in Nürnberg
ATTACH;FMTTYPE=image/png:https://www.fairever-events.com/wp-content/uploads/2025/05/It-sa_Logo.svg.png
END:VEVENT
END:VCALENDAR