BEGIN:VCALENDAR
VERSION:2.0
PRODID:-//FAIREVER - ECPv6.15.20//NONSGML v1.0//EN
CALSCALE:GREGORIAN
METHOD:PUBLISH
X-WR-CALNAME:FAIREVER
X-ORIGINAL-URL:https://www.fairever-events.com
X-WR-CALDESC:Veranstaltungen für FAIREVER
REFRESH-INTERVAL;VALUE=DURATION:PT1H
X-Robots-Tag:noindex
X-PUBLISHED-TTL:PT1H
BEGIN:VTIMEZONE
TZID:Europe/Berlin
BEGIN:DAYLIGHT
TZOFFSETFROM:+0100
TZOFFSETTO:+0200
TZNAME:CEST
DTSTART:20240331T010000
END:DAYLIGHT
BEGIN:STANDARD
TZOFFSETFROM:+0200
TZOFFSETTO:+0100
TZNAME:CET
DTSTART:20241027T010000
END:STANDARD
BEGIN:DAYLIGHT
TZOFFSETFROM:+0100
TZOFFSETTO:+0200
TZNAME:CEST
DTSTART:20250330T010000
END:DAYLIGHT
BEGIN:STANDARD
TZOFFSETFROM:+0200
TZOFFSETTO:+0100
TZNAME:CET
DTSTART:20251026T010000
END:STANDARD
BEGIN:DAYLIGHT
TZOFFSETFROM:+0100
TZOFFSETTO:+0200
TZNAME:CEST
DTSTART:20260329T010000
END:DAYLIGHT
BEGIN:STANDARD
TZOFFSETFROM:+0200
TZOFFSETTO:+0100
TZNAME:CET
DTSTART:20261025T010000
END:STANDARD
END:VTIMEZONE
BEGIN:VEVENT
DTSTART;VALUE=DATE:20251118
DTEND;VALUE=DATE:20251122
DTSTAMP:20260420T173323
CREATED:20250508T171737Z
LAST-MODIFIED:20250508T171737Z
UID:7183-1763424000-1763769599@www.fairever-events.com
SUMMARY:productronica 2025 - Messepersonal\, Hostessen & Promotion
DESCRIPTION:Bringen Sie Ihre Elektronikfertigung auf das nächste Level – auf der productronica 2025\, der weltgrößten Messe für innovative Elektronikfertigung\, treffen Sie die Fachwelt aus der Elektronik- und Technologiebranche. Vom 18. bis 21. November 2025 sorgt FAIREVER mit geschultem Messepersonal und einem umfassenden Full-Service-Paket dafür\, dass Ihre Produkte und Innovationen im besten Licht präsentiert werden. \n🔌 Die productronica 2025 – Ihre Bühne für Elektronikfertigung und Technologie\nDie productronica 2025 ist der internationale Treffpunkt für Unternehmen und Experten der Elektronikfertigung. Auf dieser Messe präsentieren sich Marken aus den Bereichen: \n\nElektronikproduktion und Fertigungstechnologien\nInnovative Produktionsmethoden und Maschinen\nAutomatisierung und Digitalisierung in der Elektronikfertigung\n\nMit FAIREVER wird Ihre Marke auf dieser Fachmesse professionell und wirkungsvoll zur Geltung gebracht. \n🖥️ Professionelles Messepersonal für die productronica 2025\nUnsere Hostessen und Promoter sind auf technische Messen im Elektronikbereich spezialisiert und bieten Ihnen: \n\nProduktvorstellungen und Beratung (DE/EN und weitere Sprachen auf Wunsch)\nUnterstützung bei Produktvorführungen und Messestandaktivierungen\nBesuchermanagement und Standorganisation\n\n🌍 Rundum-Service für Ihre Messepräsenz\nProfitieren Sie von unserem Full-Service-Angebot für die productronica 2025: \n\nMessestandgestaltung und Branding im Einklang mit Ihrer Marke\nAuswahl und Briefing des Messepersonals\nPromotionaktionen und Produktvorführungen\nLogistik\, Koordination und Vor-Ort-Betreuung\n\n📩 Jetzt Messepersonal für die productronica 2025 anfragen! \n\n		Fragen Sie jetzt an\n	\n\nFAIREVER GmbH – fair. flexibel. nachhaltig.\nIhr Partner für Messepersonal\, Promotion und Full-Service auf der productronica 2025 und darüber hinaus.
URL:https://www.fairever-events.com/eventagentur/productronica-messepersonal-hostessen-promotion/
LOCATION:Messe München\, Messegelände\, München\, Bayern\, 81823\, Germany
CATEGORIES:Messen in München
ATTACH;FMTTYPE=image/png:https://www.fairever-events.com/wp-content/uploads/2025/05/productronica.png
END:VEVENT
BEGIN:VEVENT
DTSTART;VALUE=DATE:20251121
DTEND;VALUE=DATE:20251129
DTSTAMP:20260420T173323
CREATED:20250624T145855Z
LAST-MODIFIED:20250624T150012Z
UID:7572-1763683200-1764374399@www.fairever-events.com
SUMMARY:Eventservice für die Mallorca Ladies Open – Premium-Support für Aussteller & Sponsoren
DESCRIPTION:Ihr professioneller Partner vor Ort – für einen starken Auftritt beim größten Golfturnier Mallorcas \nDie Mallorca Ladies Open der Ladies European Tour (LET) bringen im November 2025 erneut internationale Top-Golferinnen\, exklusive Partner und ein hochkarätiges Publikum nach Son Muntaner Golf Club\, Palma. Sie planen\, sich als Unternehmen vor Ort zu präsentieren – sei es mit einem Stand\, einem Hospitality-Zelt oder einem eigenen Side-Event? \nFAIREVER ist Ihr erfahrener Full-Service-Partner für Personal\, Organisation und Markeninszenierung – direkt auf Mallorca. \nWarum FAIREVER – und warum gerade hier? \nGolfturniere wie die Ladies Open bieten nicht nur sportliche Höchstleistungen\, sondern auch wertvolle Kontaktpunkte für Ihre Marke. Unser Team sorgt dafür\, dass Sie sich auf Ihre Gäste konzentrieren können – wir kümmern uns um den Rest. \nUnsere Stärke: Struktur & Service – mit Erfahrung auf internationalen Sportevents. \nUnsere Leistungen für Ihr Unternehmen beim Turnier \nStand- und Hospitality-Personal \n\nEmpfang & Gästebetreuung in VIP-Lounges oder Business-Areas\nServicekräfte für Ihre Hospitality-Zelte (Getränke\, Betreuung\, Check-in)\nHostessen für Markenpräsenz\, Give-Away-Verteilung oder Leadgenerierung\n\nOnsite-Koordination & Ablaufbetreuung \n\nVor-Ort-Koordination für Auf- & Abbauzeiten\, Lieferlogistik und Personalplanung\nUnterstützung bei Shuttle-Planung\, Besucherführung oder Ablaufsteuerung\nPersonalbriefing\, Einkleidung & Einsatzsteuerung im CI Ihres Unternehmens\n\nBranding & Logistik-Support \n\nKoordination Ihrer Werbemittel (Banner\, Displays\, Merchandise)\nUnterstützung bei Transport\, Aufbau & Einlagerung\nCI-konformes Auftreten durch abgestimmte Outfits & Schulungen\n\nMehrsprachigkeit & internationale Betreuung \n\nPersonal in Deutsch\, Englisch\, Spanisch\nErfahrung im Umgang mit internationalen Kunden\, VIPs und Medienvertretern\n\nFür wen eignet sich unser Service? \n\nSponsoren & Partner der Ladies Open mit Hospitality-Flächen\nUnternehmen mit Promotion-Ständen oder Demo-Aktionen vor Ort\nMarken mit exklusiven Gästen oder Side-Events während des Turniers\nAgenturen\, die das Turnier für Kundenevents nutzen\n\nIhre Vorteile mit FAIREVER auf Mallorca \n\nÜber 18 Jahre Erfahrung bei internationalen Sport- & Lifestyle-Events\nLokale Netzwerke\, klar strukturierte Abläufe & deutschsprachige Ansprechpartner\nPersonal mit sportevent-erprobtem Auftreten & Serviceverständnis\nAbsolute Zuverlässigkeit bei Planung\, Einsatz und Reporting\n\nJetzt unverbindlich Eventpersonal & Service für die Mallorca Ladies Open anfragen \nMachen Sie aus Ihrem Auftritt beim wichtigsten Golfturnier der Insel ein echtes Markenerlebnis – mit Struktur\, Stil und Service. \n\n		Jetzt unverbindlich anfragen – wir freuen uns auf Ihre Anfrage!
URL:https://www.fairever-events.com/eventagentur/mallorca-ladies-open-eventservice/
LOCATION:Bayern
CATEGORIES:Messen auf Mallorca
ATTACH;FMTTYPE=image/webp:https://www.fairever-events.com/wp-content/uploads/2025/06/906b675ee401174d5c84722d5556e812.webp
END:VEVENT
END:VCALENDAR