BEGIN:VCALENDAR
VERSION:2.0
PRODID:-//FAIREVER - ECPv6.15.20//NONSGML v1.0//EN
CALSCALE:GREGORIAN
METHOD:PUBLISH
X-WR-CALNAME:FAIREVER
X-ORIGINAL-URL:https://www.fairever-events.com
X-WR-CALDESC:Veranstaltungen für FAIREVER
REFRESH-INTERVAL;VALUE=DURATION:PT1H
X-Robots-Tag:noindex
X-PUBLISHED-TTL:PT1H
BEGIN:VTIMEZONE
TZID:Europe/Berlin
BEGIN:DAYLIGHT
TZOFFSETFROM:+0100
TZOFFSETTO:+0200
TZNAME:CEST
DTSTART:20240331T010000
END:DAYLIGHT
BEGIN:STANDARD
TZOFFSETFROM:+0200
TZOFFSETTO:+0100
TZNAME:CET
DTSTART:20241027T010000
END:STANDARD
BEGIN:DAYLIGHT
TZOFFSETFROM:+0100
TZOFFSETTO:+0200
TZNAME:CEST
DTSTART:20250330T010000
END:DAYLIGHT
BEGIN:STANDARD
TZOFFSETFROM:+0200
TZOFFSETTO:+0100
TZNAME:CET
DTSTART:20251026T010000
END:STANDARD
BEGIN:DAYLIGHT
TZOFFSETFROM:+0100
TZOFFSETTO:+0200
TZNAME:CEST
DTSTART:20260329T010000
END:DAYLIGHT
BEGIN:STANDARD
TZOFFSETFROM:+0200
TZOFFSETTO:+0100
TZNAME:CET
DTSTART:20261025T010000
END:STANDARD
END:VTIMEZONE
BEGIN:VEVENT
DTSTART;VALUE=DATE:20251127
DTEND;VALUE=DATE:20251201
DTSTAMP:20260420T173233
CREATED:20250429T154403Z
LAST-MODIFIED:20250512T145635Z
UID:7130-1764201600-1764547199@www.fairever-events.com
SUMMARY:Messepersonal\, Hostessen & Promotion für die BOOT & FUN BERLIN 2025
DESCRIPTION:Setzen Sie Ihre Marke auf die große Welle – auf der BOOT & FUN BERLIN 2025\, der führenden Messe für Boote\, Zubehör\, Wassersport und den Gebrauchtbootmarkt\, trifft sich die nautische Welt. Mit FAIREVER bringen Sie Ihre Produkte und Innovationen erfolgreich an den Start. Unser geschultes Messepersonal und unser umfassendes Full-Service-Paket sorgen für eine aufmerksamkeitsstarke\, professionelle und zielgerichtete Präsentation – vom ersten Kontakt bis zur Nachbereitung. \nDie BOOT & FUN BERLIN 2025 – Ihre Bühne für Wassersport und Outdoor \nDie BOOT & FUN BERLIN ist ein Highlight für alle Liebhaber von Booten\, Wassersport und Outdoor-Abenteuern. Auf der Messe erwarten Sie Fachbesucher aus der ganzen Welt\, die sich für: \n\nBoote\, Yachten & Zubehör\nWassersport\, Tauchen & Segeln\nOutdoor-Equipment & -Bekleidung\nInnovationen rund um den Wassersport\n\n… interessieren. Mit FAIREVER sorgen wir dafür\, dass Ihre Produkte und Dienstleistungen in der besten Form präsentiert werden\, um das Interesse Ihrer Zielgruppe zu wecken. \nIhr professionelles Messepersonal für die BOOT & FUN BERLIN 2025 \nUnsere erfahrenen Hostessen und Promoter sind perfekt auf den Wassersport- & Outdoor-Bereich abgestimmt und bieten Ihnen folgende Leistungen: \n\nAktive Ansprache & Produktvorstellung (DE/EN & weitere Sprachen auf Wunsch)\nSampling-Aktionen & Beratung zu Booten sowie Zubehör\nUnterstützung bei Produktvorführungen & Gewinnspielaktionen\nBesuchermanagement & Standorganisation\nZielgruppengerechtes Auftreten: sportlich\, enthusiastisch & serviceorientiert\n\nEgal\, ob es um den Verkauf eines Segelboots oder die Präsentation von Zubehör geht – unsere Promoter und Hostessen bringen Ihre Marke in den Fokus. \nRundum-Service für Ihre Messepräsenz \nProfitieren Sie von unserem Full-Service-Angebot für die BOOT & FUN BERLIN 2025. Wir kümmern uns um alles\, was Sie für einen erfolgreichen Messeauftritt benötigen: \n\nMessestandgestaltung & Branding im Einklang mit Ihrer Marke\nAuswahl und Briefing des Messepersonals\nPromotionaktionen & Produktvorführungen zur Aktivierung Ihres Stands\nLogistik\, Koordination & Vor-Ort-Betreuung während der Messe\nNachbereitung & Reporting\, um den Erfolg zu messen und auszuwerten\n\nSie können sich voll und ganz auf Ihre Produkte konzentrieren – wir erledigen den Rest. \nWarum FAIREVER für die BOOT & FUN BERLIN 2025? \n\nErfahrung auf über 100 Messen jährlich – deutschlandweit\nSpezialisierung auf Wassersport\, Outdoor & nautische Themen\nSchnelle und flexible Personalplanung\, auch kurzfristig\nFaire Preise & transparente Kommunikation\nNachhaltigkeit in der Event- & Promotionplanung\n\nJetzt Messepersonal für die BOOT & FUN BERLIN 2025 anfragen! \n\n		Jetzt Anfrage stellen\n	\n\nNutzen Sie die Gelegenheit\, Ihre Marke auf der BOOT & FUN BERLIN 2025 professionell zu präsentieren. FAIREVER bietet Ihnen das perfekte Messepersonal\, das Ihre Zielgruppe anspricht und Ihre Marke ins Rampenlicht rückt. \nFAIREVER GmbH – fair. flexibel. nachhaltig.\nIhr Partner für Messepersonal\, Promotion und Full-Service auf der BOOT & FUN BERLIN 2025 und darüber hinaus.
URL:https://www.fairever-events.com/eventagentur/boot-fun-berlin-2025-messepersonal-hostessen-promotion/
LOCATION:Messe Berlin\, Messedamm 22\, Berlin\, Berlin\, 14055\, Germany
CATEGORIES:Messen in Berlin
ATTACH;FMTTYPE=image/png:https://www.fairever-events.com/wp-content/uploads/2025/04/bf_wort-bildmarke_deu.png
END:VEVENT
BEGIN:VEVENT
DTSTART;VALUE=DATE:20251129
DTEND;VALUE=DATE:20251208
DTSTAMP:20260420T173233
CREATED:20250512T161935Z
LAST-MODIFIED:20250512T162152Z
UID:7356-1764374400-1765151999@www.fairever-events.com
SUMMARY:ESSEN MOTOR SHOW - Messepersonal\, Hostessen & Promotion
DESCRIPTION:Beschleunigen Sie Ihre Markenpräsenz – auf der ESSEN MOTOR SHOW 2025\, dem Festival für Performance\, Tuning\, Motorsport und Lifestyle. Vom 29. November bis 07. Dezember 2025 sorgt FAIREVER mit auffälligem Promotionpersonal\, motorsportaffinen Hosts und einem Full-Service-Paket dafür\, dass Ihre Marke Gas gibt – laut\, sichtbar und zielgruppengenau. \n🏎️ Die ESSEN MOTOR SHOW 2025 – Ihre Bühne für PS\, Style & Leidenschaft\nDie Messe zieht Tuning-Fans\, Motorsport-Enthusiasten und Lifestyle-Marken aus ganz Europa an. Im Fokus stehen: \n\nPerformance-Fahrzeuge & sportliches Zubehör\nTuning\, Felgen & Fahrzeugindividualisierung\nMotorsport-Equipment & Marken-Inszenierungen\nAutomobil-Lifestyle\, Fashion & Community\n\n🔥 Messepersonal mit PS im Blut\nUnsere Promoter:innen und Hostessen passen perfekt zur Szene und übernehmen: \n\nAktive Kundenansprache (DE/EN & weitere Sprachen auf Wunsch)\nBetreuung von Fahrzeugen\, Shows & Verkaufsflächen\nInteraktion mit Besucher:innen\, Selfie-Spots & Social Media-Momenten\nUnterstützung bei Events\, Autogrammstunden & Community-Aktionen\n\n🛠️ Full-Service für Ihren Auftritt auf der ESSEN MOTOR SHOW\nMit FAIREVER rollen Sie ganz vorne ins Rampenlicht: \n\nAuswahl & Schulung von Personal mit Branchenaffinität\nOutfitausstattung im Markenlook & Logistikbetreuung\nVor-Ort-Koordination\, Promotionaktionen & Tagesbetreuung\nNachbereitung & Eventreporting auf Wunsch\n\n📩 Jetzt Messepersonal für die ESSEN MOTOR SHOW 2025 anfragen!\nBringen Sie Ihre Marke in Bewegung – wir liefern das Team dafür. \n\n		Jetzt Anfrage stellen\n	\n\nFAIREVER GmbH – fair. flexibel. nachhaltig.\nIhr Partner für Messepersonal\, Promotion und Full-Service auf der ESSEN MOTOR SHOW 2025 und allen Eventmessen mit Drive. \n  \n 
URL:https://www.fairever-events.com/eventagentur/essen-motor-show/
LOCATION:Messe Essen
CATEGORIES:Messen in Essen
ATTACH;FMTTYPE=image/png:https://www.fairever-events.com/wp-content/uploads/2025/05/logo_essenmotorshow_2024_rgb-scaled.png
END:VEVENT
END:VCALENDAR