BEGIN:VCALENDAR
VERSION:2.0
PRODID:-//FAIREVER - ECPv6.15.20//NONSGML v1.0//EN
CALSCALE:GREGORIAN
METHOD:PUBLISH
X-WR-CALNAME:FAIREVER
X-ORIGINAL-URL:https://www.fairever-events.com
X-WR-CALDESC:Veranstaltungen für FAIREVER
REFRESH-INTERVAL;VALUE=DURATION:PT1H
X-Robots-Tag:noindex
X-PUBLISHED-TTL:PT1H
BEGIN:VTIMEZONE
TZID:Europe/Berlin
BEGIN:DAYLIGHT
TZOFFSETFROM:+0100
TZOFFSETTO:+0200
TZNAME:CEST
DTSTART:20250330T010000
END:DAYLIGHT
BEGIN:STANDARD
TZOFFSETFROM:+0200
TZOFFSETTO:+0100
TZNAME:CET
DTSTART:20251026T010000
END:STANDARD
BEGIN:DAYLIGHT
TZOFFSETFROM:+0100
TZOFFSETTO:+0200
TZNAME:CEST
DTSTART:20260329T010000
END:DAYLIGHT
BEGIN:STANDARD
TZOFFSETFROM:+0200
TZOFFSETTO:+0100
TZNAME:CET
DTSTART:20261025T010000
END:STANDARD
BEGIN:DAYLIGHT
TZOFFSETFROM:+0100
TZOFFSETTO:+0200
TZNAME:CEST
DTSTART:20270328T010000
END:DAYLIGHT
BEGIN:STANDARD
TZOFFSETFROM:+0200
TZOFFSETTO:+0100
TZNAME:CET
DTSTART:20271031T010000
END:STANDARD
END:VTIMEZONE
BEGIN:VEVENT
DTSTART;VALUE=DATE:20260131
DTEND;VALUE=DATE:20260209
DTSTAMP:20260420T121437
CREATED:20241107T205150Z
LAST-MODIFIED:20251121T161550Z
UID:6870-1769817600-1770595199@www.fairever-events.com
SUMMARY:Messepersonal\, Hostessen & Promotion für die HAUS-GARTEN-FREIZEIT 2026
DESCRIPTION:Positionieren Sie Ihre Marke rund um Wohnen\, Garten und Freizeit – auf der HAUS-GARTEN-FREIZEIT 2026 in Leipzig. Vom 31. Januar bis 8. Februar 2026 findet eine der größten Publikumsmessen Deutschlands statt\, mit einer breiten Themenvielfalt aus Bauen\, Wohnen\, Garten\, Gesundheit\, Freizeitgestaltung und Heimtier. Mit FAIREVER buchen Sie professionelles Messe- und Promotion-Personal in Leipzig\, das Ihre Produkte\, Dienstleistungen und Markenkompetenz mit Begeisterung präsentiert. Unsere erfahrenen Hostessen\, Promoter und Servicekräfte sowie unser umfassendes Full-Service-Paket sorgen dafür\, dass Ihr Messeauftritt vom ersten Kontakt bis zur Nachbereitung reibungslos\, überzeugend und nachhaltig verläuft. \n\n		Jetzt Anfrage stellen\n	\n\nHAUS-GARTEN-FREIZEIT 2026 – Ihre Bühne für Wohnen\, Garten & Erlebniswelten \nDie HAUS-GARTEN-FREIZEIT bietet Ihnen die Plattform\, Ihre Marke einem breiten Publikum zu präsentieren – über Fachbesucher hinaus\, Familien und Konsumenten mit Interesse an Lifestyle\, Heim & Garten. Besucher-Schwerpunkte sind unter anderem: \n\nBauen\, Modernisieren & Wohnen\nGarten\, Pflanzen\, Outdoor und Heimtier\nGesundheit\, Fitness\, Wellness & Freizeitgestaltung\nEinrichten\, Textilien\, Mode\, Schmuck\nHeimtierbedarf und Familienangebote\nMit FAIREVER Promotion-Personal gewinnen Sie die Aufmerksamkeit Ihrer Zielgruppe und erhöhen nachhaltig Ihre Marken- und Angebotspräsenz.\n\nMessehostessen & Promotion-Personal für die HAUS-GARTEN-FREIZEIT Leipzig \nUnser geschultes Messe-Personal in Leipzig ist speziell auf das Umfeld von Publikumsmessen mit Lifestyle-\, Wohn- und Gartenfokus abgestimmt. Wir bieten Ihnen: \n\nAktive Besucheransprache & Produkt-/Service-Präsentation (DE/EN sowie weitere Sprachen)\nUnterstützung bei Live-Aktionen\, Präsentationen\, Verkostungen & Fachvorträgen\nBetreuung von Familien\, Heimtierinteressierten & Endverbrauchern\nFreundliches\, serviceorientiertes Auftreten im Wohn-\, Garten- und Freizeitumfeld\nOb Produktausstellung\, Fachberatung oder Direktpromotion – mit unseren Hostessen und Promotern wird Ihr Messestand zum Besuchermagneten.\n\nFull-Service für Ihren Messeauftritt \nFAIREVER übernimmt auf Wunsch nicht nur das Personal – wir bieten den kompletten Messe-Service: \n\nMessestandgestaltung & Branding im Einklang mit Ihrer Marke\nAuswahl\, Briefing & Schulung des Messe-Personals\nPlanung & Durchführung von Aktionen\, Verkostungen\, Vorführungen & Erlebniswelten\nLogistik\, Koordination & Betreuung vor Ort während der Messe\nReporting & Nachbereitung zur Erfolgskontrolle\nSo können Sie sich voll auf Ihre Produkte\, Ihre Marke und Ihre Kontakte konzentrieren – wir kümmern uns um den Rest.\n\nWarum FAIREVER für die HAUS-GARTEN-FREIZEIT 2026? \n\nErfahrung auf über 100 Messen jährlich – deutschlandweit\nSpezialisierung auf Lifestyle-\, Wohn-\, Garten- und Publikumsmessen\nFlexible & kurzfristige Personalplanung\nFaire Preise & transparente Kommunikation\nNachhaltige Event- & Promotion-Planung\n\nJetzt Messepersonal für die HAUS-GARTEN-FREIZEIT 2026 buchen! \nNutzen Sie die Chance\, Ihre Marke auf der HAUS-GARTEN-FREIZEIT 2026 in Leipzig professionell zu präsentieren. FAIREVER liefert Ihnen das passende Messe-Personal\, erfahrene Hostessen und kreatives Promotion-Personal\, das Ihre Marke ins Rampenlicht rückt.\nFAIREVER GmbH – fair. flexibel. nachhaltig.\nIhr Partner für Messe-Personal\, Hostessen und Promotion in Leipzig – auf der HAUS-GARTEN-FREIZEIT 2026 und darüber hinaus. \n\n		Jetzt Anfrage stellen
URL:https://www.fairever-events.com/eventagentur/haus-garten-freizeit-hgf-leipzig-hostessen/
LOCATION:Bayern
CATEGORIES:Messen in Leipzig
ATTACH;FMTTYPE=image/png:https://www.fairever-events.com/wp-content/uploads/2024/11/logo-hgf.png
END:VEVENT
BEGIN:VEVENT
DTSTART;VALUE=DATE:20260201
DTEND;VALUE=DATE:20260205
DTSTAMP:20260420T121437
CREATED:20241106T144611Z
LAST-MODIFIED:20250928T090338Z
UID:6832-1769904000-1770249599@www.fairever-events.com
SUMMARY:Messepersonal\, Hostessen & Promotion für die ISM Köln 2026
DESCRIPTION:Machen Sie Ihre Süßwaren & Snacks unwiderstehlich – auf der ISM Köln 2026. Vom 1. bis 4. Februar 2026 versammelt sich in Köln die internationale Branche der Süßwaren und Snacks\, um Neuheiten\, Trends und Geschmacksinnovationen zu zeigen. Mit FAIREVER sichern Sie sich professionelles Messepersonal in Köln\, erfahrene Hostessen und engagierte Promoter\, die Ihre Marke genussvoll und einprägsam präsentieren – vom ersten Besucher bis zur Nachbereitung. \n\n		Jetzt Anfrage stellen\n	\n\nISM 2026 – Ihre Bühne für Süßwaren\, Snacks & Genussinnovationen \nDie ISM Cologne ist die weltweit größte Fachmesse für Süßwaren und Snacks und bietet die ideale Plattform für Hersteller\, Importeure\, Handel und Gastronomie­dienstleister. Wichtige Themenbereiche sind: \n\nSchokolade & Schokoladenprodukte – von Klassikern bis zu innovativen Sorten\nZuckerwaren – Bonbons\, Geleewaren\, Fruchtgummis\, Lakritz & Marzipan\nKekse\, Gebäck & Süßgebäck – auch internationale Spezialitäten wie Baklava oder Panettone\nSnacks & Trend-Snacks – herzhafte Snacks\, Natural Snacks\, vegane Alternativen etc.\nGefrorene Süßwaren & Eiskremsorten & Rohpasten\n\nMit FAIREVER Promotion Personal erreichen Sie Entscheidungsträger aus Handel und Lebensmittelindustrie\, Trendsetter\, Einkäufer und internationale Fachbesucher – die alle auf der Suche sind nach Produktinnovationen im Bereich Süßwaren & Snacks. \nMessehostessen & Promoter für die ISM Köln \nUnser spezialisiertes Messepersonal in Köln ist perfekt auf die Anforderungen dieser Genussbranche eingestellt und übernimmt: \n\nAktive Besucheransprache & Produktpräsentation (DE/EN & weitere Sprachen)\nUnterstützung bei Verkostungen\, Sampling Aktionen & Geschmackstests\nBetreuung internationaler Gäste & Fachdelegationen\nVerteilung von Produktproben\, Katalogen & Informationsmaterial\nSeriöses\, freundliches & serviceorientiertes Auftreten\n\nEgal ob neue Geschmacksrichtungen\, innovative Verpackungen oder spezielle Trend-Snacks – unsere Hostessen und Promoter bei der ISM Köln 2026 sorgen dafür\, dass Ihr Stand attraktiv ist und in Erinnerung bleibt. \nFull-Service für Ihren Messeauftritt \nFAIREVER bietet Ihnen das Rundum-Paket für einen starken Auftritt: \n\nMessestandgestaltung & Branding abgestimmt auf Ihren Genuss-Markenkern\nAuswahl\, Briefing & Schulung des Messepersonals\nPlanung & Durchführung von Verkostungen\, Produktpräsentationen & Besucheraktivierungen\nLogistik\, Koordination & Vor-Ort Betreuung während der Messedauer\nReporting & Nachbereitung zur Erfolgskontrolle\n\nSo können Sie sich voll auf Ihre Produkte und Netzwerkmomente konzentrieren – wir übernehmen den Rest. \nWarum FAIREVER für ISM Köln 2026? \n\nLangjährige Erfahrung bei über 100 Messen jährlich – deutschlandweit & international\nSpezialisierung auf Food & Beverage\, Süßwaren- und Snack-Messen\nSchnelle & flexible Personalplanung\, auch kurzfristig möglich\nFaire Preise & klare Kommunikation\nNachhaltigkeit & Genuss mit Verantwortung als Teil unserer Eventplanung\n\nJetzt Messepersonal für ISM Köln 2026 buchen! \nNutzen Sie die Gelegenheit\, Ihre Marke auf der ISM Köln 2026 (01.–04.02.2026) professionell zu präsentieren. FAIREVER stellt Ihnen das passende Messepersonal\, erfahrene Hostessen und kreatives Promotion Personal in Köln zur Seite\, damit Ihre Produkte gesehen werden\, Geschmack zeigen und überzeugen. \nFAIREVER GmbH – fair. flexibel. nachhaltig.\nIhr Partner für Messepersonal\, Hostessen & Promotion in Köln – auf der ISM Köln 2026 und darüber hinaus. \n\n		Jetzt Kontakt aufnehmen
URL:https://www.fairever-events.com/eventagentur/ism-koeln-hostessen-agentur/
LOCATION:Messe Köln\, Messeplatz 1\, Köln\, NRW\, 50679\, Germany
CATEGORIES:Messen in Köln
ATTACH;FMTTYPE=image/jpeg:https://www.fairever-events.com/wp-content/uploads/2024/11/ism_koeln.jpg
END:VEVENT
BEGIN:VEVENT
DTSTART;VALUE=DATE:20260203
DTEND;VALUE=DATE:20260206
DTSTAMP:20260420T121437
CREATED:20240108T114710Z
LAST-MODIFIED:20251121T121620Z
UID:6361-1770076800-1770335999@www.fairever-events.com
SUMMARY:Messepersonal\, Hostessen & Promotion für die NORTEC 2026
DESCRIPTION:Positionieren Sie Ihre Marke im Produktions- und Fertigungsumfeld – auf der NORTEC 2026 in Hamburg. Vom 3. bis 5. Februar 2026 öffnet die Fachmesse für Fertigungstechnik in Hamburg ihre Tore.\nMit FAIREVER buchen Sie professionelles Messe- und Promotion­personal in Hamburg\, das Ihre Produkte und Technologien mit Begeisterung präsentiert. Unsere erfahrenen Hostessen\, Promoter und Servicekräfte sowie unser Full-Service-Paket sorgen dafür\, dass Ihr Messeauftritt vom ersten Kontakt bis zur Nachbereitung reibungslos und effektiv verläuft. \n\n		Fragen Sie jetzt an\n	\n\nNORTEC 2026 – Ihre Bühne für Produktion\, Innovation & Zukunftslösungen \nAuf der NORTEC haben Sie die Chance\, Ihre Marke einer internationalen Fach­öffentlichkeit aus Fertigungs­unternehmen und Technologie­anbietern vorzustellen. Besucher und Entscheider interessieren sich insbesondere für: \n\nProduktions- und Fertigungstechnik\nMetall- und Kunststoffverarbeitung\nWerkzeug- und Formenbau\, Qualitätssicherung & Messtechnik\nAutomatisierung\, Antriebstechnik & industrielle Digitalisierung\nKomponenten\, Halbfertigerzeugnisse & Betriebsmittel\nMit FAIREVER Promotion-Personal gewinnen Sie die Aufmerksamkeit Ihrer Zielgruppe und steigern nachhaltig Ihre Marken- und Technologiebekanntheit.\n\nMessehostessen & Promotion-Personal für die NORTEC Hamburg \nUnser geschultes Messe-Personal in Hamburg ist exakt auf die Anforderungen der NORTEC abgestimmt. Wir bieten Ihnen: \n\nAktive Besucheransprache & Produkt-/Demo-Präsentation (DE/EN & weitere Sprachen)\nUnterstützung bei Live-Demos\, Vorführungen & Fachpräsentationen\nBetreuung internationaler Gäste\, Einkäufer & Fachdelegationen\nFreundliches\, serviceorientiertes Auftreten im Industrie- und B2B-Umfeld\nEgal ob Technik­präsentation\, Direkt­marketing oder Fach­gespräche — mit unseren Hostessen und Promotern wird Ihr Stand zum Besuchs- und Gesprächs­magneten.\n\nFull-Service für Ihren Messeauftritt \nFAIREVER unterstützt Sie nicht nur mit Messe- und Promotion-Personal\, sondern übernimmt auf Wunsch den kompletten Messe-Service: \n\nMessestandgestaltung & Branding im Einklang mit Ihrer Industrie-Marke\nAuswahl\, Briefing & Schulung des Messepersonals\nOrganisation von Aktionen\, Live-Demos & Technologie-Präsentationen\nLogistik\, Koordination & Betreuung vor Ort während der Messe\nReporting & Nachbereitung zur Erfolgskontrolle\nSo können Sie sich voll auf Ihre Technologien\, Ihre Kundenkontakte und Ihre Markenbotschaft konzentrieren – wir kümmern uns um den Rest.\n\nWarum FAIREVER für die NORTEC 2026? \n\nErfahrung auf über 100 Messen jährlich – deutschlandweit\nSpezialisierung auf Industrie-\, Technologie- & B2B-Messen\nFlexible & kurzfristige Personalplanung\nFaire Preise & transparente Kommunikation\nNachhaltige Event- & Promotionplanung\n\nJetzt Messepersonal für die NORTEC 2026 buchen! \nNutzen Sie die Chance\, Ihre Marke und Ihre Technologie auf der NORTEC 2026 in Hamburg professionell zu präsentieren. FAIREVER liefert Ihnen das passende Messepersonal\, erfahrene Hostessen und kreatives Promotion-Personal\, das Ihre Lösungen kompetent und sympathisch in Szene setzt.\nFAIREVER GmbH – fair. flexibel. nachhaltig.\nIhr Partner für Messe-Personal\, Hostessen und Promotion in Hamburg – auf der NORTEC 2026 und darüber hinaus. \n\n		Fragen Sie jetzt an
URL:https://www.fairever-events.com/eventagentur/nortec-hamburg-hostessen-und-serviceagentur/
LOCATION:Messe Hamburg\, Messeplatz 1\, Hamburg\, Hamburg\, 20357\, Germany
CATEGORIES:Messen in Hamburg
ATTACH;FMTTYPE=image/jpeg:https://www.fairever-events.com/wp-content/uploads/2024/01/NORTEC_2024_Logo_4c_UT_DE.jpg
END:VEVENT
BEGIN:VEVENT
DTSTART;VALUE=DATE:20260203
DTEND;VALUE=DATE:20260207
DTSTAMP:20260420T121437
CREATED:20251014T214554Z
LAST-MODIFIED:20251014T214848Z
UID:8012-1770076800-1770422399@www.fairever-events.com
SUMMARY:Messepersonal\, Hostessen & Promotion für ISE Barcelona 2026
DESCRIPTION:Erleben Sie die Zukunft der AV-Systeme & Medienintegration – auf der Integrated Systems Europe (ISE) Barcelona 2026. Vom 3. bis 6. Februar 2026 versammelt sich die globale Branche für audiovisuelle Technologie\, digitale Signage\, Smart Building\, Wohn- & Konferenzlösungen im Fira de Barcelona\, Gran Via. Mit FAIREVER bieten Sie Ihren Kunden professionelles Messepersonal in Barcelona\, erfahrene Hostessen und engagierte Promoter\, die Ihre Innovationen stilvoll und überzeugend präsentieren – vom ersten Besucherkontakt bis zur Nachbereitung. \n\n		Jetzt unverbindlich anfragen – wir freuen uns auf Ihre Anfrage!\n	\n\nISE Barcelona 2026 – Ihre Bühne für AV\, Integration & Smart Solutions \nISE ist die weltweit führende Messe für Systemintegration und audiovisuelle Technik. Aussteller und Fachbesucher aus aller Welt nutzen diese Plattform\, um die neuesten Trends und High-End Lösungen in Bereichen wie folgenden zu entdecken: \n\nAudio / Akustik & Beschallungssysteme\nDigital Signage\, visuelle Medien & immersive Displays\nSmart Building & Smart Home Integration\nKonferenzausstattung\, Kommunikations- und Kollaborationstechnologien\nBildungs- & Lernräume („Connected Classroom“)\nXR / VR / AR Anwendungen\, Live-Events & Entertainment Innovationen\n\nMessehostessen & Promoter für ISE Barcelona \nUnser spezialisiertes Messepersonal in Barcelona ist perfekt abgestimmt auf die Anforderungen dieser technologisch hochkarätigen Fachmesse: \n\nAktive Ansprache & Produkt-/Systempräsentation (EN/DE & weitere Sprachen)\nUnterstützung bei Live-Demos\, Technologie-Showcases & Demonstrationen\nBetreuung internationaler Gäste\, Delegationen & Fachbesucher\nVerteilung von Katalogen\, technischen Mustern & Informationsmaterial\nProfessionelles\, kompetentes & serviceorientiertes Auftreten\n\nOb neueste AV Hardware\, smarte Steuerungssysteme oder immersive Erlebniswelten – mit unseren Hostessen und Promotern machen Sie Ihren Stand bei ISE Barcelona 2026 unübersehbar. \nFull-Service für Ihren Messeauftritt \nMit FAIREVER erhalten Sie: \n\nMessestandgestaltung & Branding\, abgestimmt auf Ihre Marke & AV-Identität\nAuswahl\, Briefing & Schulung des benötigten Personals\nPlanung & Durchführung von Produkt-Präsentationen\, Besucheraktivierungen & Live Demonstrationen\nLogistik\, Koordination & Betreuung vor Ort über die gesamte Messedauer\nReporting & Nachbereitung zur Erfolgskontrolle\n\nWarum FAIREVER für ISE Barcelona 2026? \n\nViele Jahre Erfahrung bei über 100 Fachmessen jährlich – international & in Spanien\nSpezialisiert auf AV\, Systemintegration\, Smart Tech & Digital Media Events\nFlexible & kurzfristige Personalplanung\, auch bei sich ändernden Anforderungen\nFaire Preise & transparente Kommunikation\nNachhaltigkeit & Qualität als Leitmotive unserer Event- und Promotionarbeit\n\nJetzt Messepersonal für ISE Barcelona 2026 buchen! \nNutzen Sie die Chance\, Ihre Lösungen im Bereich audiovisuelle Systeme\, Smart Building oder Digital Signage auf der ISE Barcelona 2026 (3.–6. Februar 2026) professionell und wirkungsvoll zu präsentieren. FAIREVER stellt Ihnen das passende Personal\, erfahrene Hostessen und kreative Promotion-Teams in Barcelona zur Seite\, damit Ihr Stand Eindruck macht und Ihre Innovationen sichtbar werden. \nFAIREVER GmbH – fair. flexibel. nachhaltig. \n\n		Jetzt unverbindlich anfragen – wir freuen uns auf Ihre Anfrage!
URL:https://www.fairever-events.com/eventagentur/messepersonal-ise-barcelona/
LOCATION:Messe Barcelona\, Av. Joan Carles I\, 64\, L'Hospitalet de Llobregat\, Barcelona\, 08004\, Spain
CATEGORIES:Messen in Barcelona
ATTACH;FMTTYPE=image/webp:https://www.fairever-events.com/wp-content/uploads/2025/10/ise.webp
END:VEVENT
END:VCALENDAR