BEGIN:VCALENDAR
VERSION:2.0
PRODID:-//FAIREVER - ECPv6.15.20//NONSGML v1.0//EN
CALSCALE:GREGORIAN
METHOD:PUBLISH
X-ORIGINAL-URL:https://www.fairever-events.com
X-WR-CALDESC:Veranstaltungen für FAIREVER
REFRESH-INTERVAL;VALUE=DURATION:PT1H
X-Robots-Tag:noindex
X-PUBLISHED-TTL:PT1H
BEGIN:VTIMEZONE
TZID:Europe/Berlin
BEGIN:DAYLIGHT
TZOFFSETFROM:+0100
TZOFFSETTO:+0200
TZNAME:CEST
DTSTART:20250330T010000
END:DAYLIGHT
BEGIN:STANDARD
TZOFFSETFROM:+0200
TZOFFSETTO:+0100
TZNAME:CET
DTSTART:20251026T010000
END:STANDARD
BEGIN:DAYLIGHT
TZOFFSETFROM:+0100
TZOFFSETTO:+0200
TZNAME:CEST
DTSTART:20260329T010000
END:DAYLIGHT
BEGIN:STANDARD
TZOFFSETFROM:+0200
TZOFFSETTO:+0100
TZNAME:CET
DTSTART:20261025T010000
END:STANDARD
BEGIN:DAYLIGHT
TZOFFSETFROM:+0100
TZOFFSETTO:+0200
TZNAME:CEST
DTSTART:20270328T010000
END:DAYLIGHT
BEGIN:STANDARD
TZOFFSETFROM:+0200
TZOFFSETTO:+0100
TZNAME:CET
DTSTART:20271031T010000
END:STANDARD
END:VTIMEZONE
BEGIN:VEVENT
DTSTART;VALUE=DATE:20260206
DTEND;VALUE=DATE:20260211
DTSTAMP:20260420T123128
CREATED:20240108T172659Z
LAST-MODIFIED:20250930T155748Z
UID:6373-1770336000-1770767999@www.fairever-events.com
SUMMARY:Messepersonal\, Hostessen & Promotion für Ambiente Frankfurt 2026
DESCRIPTION:Starten Sie das Messejahr stark – auf der Ambiente Frankfurt 2026. Vom 6. bis 10. Februar 2026 trifft sich die internationale Konsumgüterbranche am Puls der Trends: Ambiente ist die führende Messe für Haushaltswaren\, Wohnaccessoires\, Geschenk- und Lifestyleartikel. Mit FAIREVER buchen Sie professionelles Messepersonal in Frankfurt\, das Ihre Produkte mit Stil und Expertise präsentiert – vom ersten Kontakt bis zur Nachbereitung. \n\n		Fragen Sie jetzt an\n	\n\nAmbiente 2026 – Ihre Bühne für Living\, Giving & Dining \nAmbiente bietet Ihnen eine Plattform\, auf der Sie aktuelle Entwicklungen der Konsumgüterbranche sichtbar machen und neue Marktchancen nutzen können. Besonders gefragt sind: \n\nProdukte aus den Bereichen Wohnen & Wohnaccessoires\nGeschirr\, Besteck\, Glas & Küchenutensilien\nGeschenkartikel\, Papeterie & Lifestyle-Accessoires\nBeleuchtung\, Dekor & Interior Design\nThemen wie Nachhaltigkeit\, Ethical Style & Circular Products\n\nMit FAIREVER Promotion Personal sorgen Sie dafür\, dass Ihre Marke auffällt und potentielle Käufer und Geschäftspartner Sie finden. \nMessehostessen & Promoter für Ambiente Frankfurt \nUnser spezialisiertes Messepersonal in Frankfurt ist perfekt auf die Anforderungen der Ambiente-Branche vorbereitet. Wir bieten: \n\nAktive Besucheransprache & Produktpräsentation (DE/EN & weitere Sprachen)\nBetreuung internationaler Fachbesucher & Einkäufer\nUnterstützung bei Produktdemonstrationen & Trendpräsentationen\nVerteilung von Werbematerial & Musterstücken\nFreundliches\, stilvolles Auftreten – kompetent & serviceorientiert\n\nOb Tischgedecke\, Wohntextilien\, Geschenkideen oder nachhaltige Materialien – unsere Hostessen und Promoter auf der Ambiente Frankfurt machen Ihren Stand zum Besuchermagneten. \nFull-Service für Ihre Messepräsenz \nMit FAIREVER erhalten Sie eine Rundum-Betreuung: \n\nMessestandgestaltung & Branding abgestimmt auf Ihre Marke\nAuswahl\, Briefing & Schulung des Messepersonals\nPlanung und Durchführung von Sampling & Produktpräsentationen\nLogistik\, Koordination & Vor-Ort-Betreuung während der Messe\nReporting & Nachbereitung zur Erfolgskontrolle\n\nSo können Sie sich voll auf Ihre Produktlinien und Kundengespräche konzentrieren – wir übernehmen den Rest. \nWarum FAIREVER für Ambiente Frankfurt 2026? \n\nErfahrung bei über 100 Messen pro Jahr – deutschlandweit\nSpezialisiert auf Konsumgüter-\, Geschenk- & Wohnraum-Messen\nFlexible & schnelle Personalplanung\, auch kurzfristig\nFaire Preise & transparente Kommunikation\nNachhaltigkeit & Ethical Style gehören bei uns zur Messeplanung dazu\n\nJetzt Messepersonal für Ambiente Frankfurt 2026 buchen! \nNutzen Sie die Gelegenheit\, Ihre Marke auf Ambiente Frankfurt 2026 professionell und wirkungsvoll zu präsentieren. FAIREVER stellt Ihnen das passende Messepersonal\, erfahrene Hostessen und kreatives Promotion Personal in Frankfurt zur Verfügung\, damit Ihre Produkte wahrgenommen werden und begeistern. \nFAIREVER GmbH – fair. flexibel. nachhaltig. Ihr Partner für Messepersonal\, Hostessen & Promotion in Frankfurt – auf der Ambiente 2026 und darüber hinaus. \n\n		Fragen Sie jetzt an
URL:https://www.fairever-events.com/eventagentur/ambiente-messe-frankfurt-hostess-personalk-promotion/
LOCATION:Messe Frankfurt\, Ludwig-Erhard-Anlage 1\, Frankfurt am Main\, Hessen\, 60327\, Germany
CATEGORIES:Messen in Frankfurt
ATTACH;FMTTYPE=image/jpeg:https://www.fairever-events.com/wp-content/uploads/2024/01/ambiente-2026-save-the-date.jpg
END:VEVENT
BEGIN:VEVENT
DTSTART;VALUE=DATE:20260210
DTEND;VALUE=DATE:20260213
DTSTAMP:20260420T123128
CREATED:20251015T095611Z
LAST-MODIFIED:20251015T095611Z
UID:8032-1770681600-1770940799@www.fairever-events.com
SUMMARY:Messepersonal\, Hostessen & Promotion für E-world energy & water Essen 2026
DESCRIPTION:Setzen Sie Impulse in der Energie- & Wasserwirtschaft – auf der E-world energy & water Essen 2026. Vom 10. bis 12. Februar 2026 wird die Messe Essen zum Treffpunkt der europäischen Energiebranche\, um Innovationen\, Smart Energy Lösungen\, Speicher- und Netztechnologien zu erleben. Mit FAIREVER buchen Sie professionelles Messepersonal in Essen\, erfahrene Hostessen und engagierte Promoter\, die Ihre Marke kompetent und wirkungsvoll präsentieren – vom ersten Fachbesucher bis zur erfolgreichen Nachbereitung. \n\n		Jetzt Anfrage stellen\n	\n\nE-world energy & water 2026 – Ihre Bühne für Energietechnik & smarte Versorgung \nDie E-world energy & water ist Europas Leitmesse für die Energie- & Wasserwirtschaft. Hier treffen Anbieter\, Versorgungsunternehmen\, Kommunen\, Technologie-Start-ups und Fachpartner zusammen\, um Antworten auf die drängenden Herausforderungen zu finden – von der Energiewende über Effizienzsteigerung bis zu modernen Versorgungsmodellen. Themen im Fokus sind: \n\nEnergieerzeugung / Smart Energy Lösungen & dezentrale Netze\nEnergiehandel\, Speicherung & Transporttechnologie\nWasserwirtschaft\, Wasserressourcen & intelligente Ver- und Entsorgungssysteme\nNachhaltige Technologien\, grüne Innovationen & Klimaschutzmaßnahmen\nDigitalisierung\, IoT\, Netzautomatisierung & Verbrauchereffizienz\n\nMit FAIREVER Promotion Personal stellen Sie sicher\, dass Ihre Ideen und Lösungen direkt mit Entscheidern\, Versorgungsunternehmen\, Innovationstreibern und Fachpublikum in Kontakt kommen. \nMessehostessen & Promoter für E-world Essen \nUnser spezialisiertes Messepersonal in Essen ist exakt geschult für die Anforderungen dieser technischen und nachhaltig orientierten Fachmesse: \n\nAktive Besucheransprache & Produktpräsentation (DE/EN & weitere Sprachen)\nUnterstützung bei technischen Vorführungen\, Smart-Energy Demos & Live-Innovationen\nBetreuung internationaler Gäste\, Fachdelegierter & Versorgungspartner\nVerteilung von Produktbroschüren\, technischen Mustern & Informationsmaterial\nSeriöses\, kompetentes & serviceorientiertes Auftreten\n\nEgal\, ob Sie neue Speicherlösungen\, digitale Wasser-Analysetechnik oder smarte Netzinfrastruktur vorstellen – unsere Hostessen und Promoter bei E-world Essen 2026 sorgen dafür\, dass Ihr Stand auffällt und Ihre Kompetenz sichtbar wird. \nFull-Service für Ihren Messeauftritt \nMit FAIREVER bieten wir Ihnen eine Rundum-Betreuung\, damit Ihr Auftritt reibungslos gelingt: \n\nMessestandgestaltung & Branding\, abgestimmt auf Technologie & Unternehmensidentität\nAuswahl\, Briefing & Schulung des Personals\nPlanung & Durchführung von Produktpräsentationen\, Besucheraktivierungen & Live-Demonstrationen\nLogistik\, Koordination & Betreuung vor Ort während der gesamten Messezeit\nReporting & Nachbereitung zur Erfolgskontrolle\n\nWarum FAIREVER für E-world energy & water Essen 2026? \n\nJahrelange Erfahrung auf über 100 Fachmessen jährlich – deutschlandweit & international\nSpezialisierung auf Energie-\, Versorgungs- und Technologie-Messen\nFlexible & kurzfristige Personalplanung möglich\nFaire Preise & transparente Kommunikation\nNachhaltigkeit & Zukunftsorientierung als feste Bestandteile unserer Konzepte\n\nJetzt Messepersonal für E-world Essen 2026 buchen! \nNutzen Sie die Chance\, Ihre Energie- oder Wasserwirtschaftslösungen auf der E-world energy & water Essen 2026 (10.–12. Februar 2026) professionell und glaubwürdig zu präsentieren. FAIREVER stellt Ihnen das passende Messepersonal\, erfahrene Hostessen und kreatives Promotion Personal in Essen zur Seite\, damit Ihr Stand überzeugt und Ihre Innovationen sichtbar werden. \nFAIREVER GmbH – fair. flexibel. nachhaltig.\nIhr Partner für Messepersonal\, Hostessen & Promotion in Essen – auf der E-world 2026 und darüber hinaus. \n\n		Jetzt Anfrage stellen
URL:https://www.fairever-events.com/eventagentur/e-world-energy-water-essen-messe-service/
LOCATION:Messe Essen
CATEGORIES:Messen in Essen
ATTACH;FMTTYPE=image/png:https://www.fairever-events.com/wp-content/uploads/2025/10/EW26_Signetvorlagen_quer-1055x460-1.png
END:VEVENT
BEGIN:VEVENT
DTSTART;VALUE=DATE:20260210
DTEND;VALUE=DATE:20260214
DTSTAMP:20260420T123128
CREATED:20251121T165504Z
LAST-MODIFIED:20251121T165549Z
UID:8153-1770681600-1771027199@www.fairever-events.com
SUMMARY:Messepersonal\, Hostessen & Promotion für die BIOFACH 2026
DESCRIPTION:Entdecken Sie Ihre Bühne für Bio-Marken – auf der BIOFACH 2026 in Nürnberg. Vom 10. bis 13. Februar 2026 findet die weltweit führende Fachmesse für Bio-Lebensmittel und nachhaltige Produkte statt. Hier treffen internationale Hersteller\, Marken und Entscheider auf ein hochqualifiziertes Fachpublikum. \nMit FAIREVER buchen Sie professionelles Messe- und Promotion-Personal in Nürnberg\, das Ihre Produkte mit Begeisterung präsentiert. Unsere erfahrenen Hostessen\, Promoter und Servicekräfte sowie unser umfassendes Full-Service-Paket sorgen für einen reibungslosen\, überzeugenden und nachhaltigen Messeauftritt – von der Planung bis zur Nachbereitung. \n\n		Jetzt Anfrage stellen\n	\n\nBIOFACH 2026 – Ihre Bühne für Bio\, Nachhaltigkeit & Zukunftstrends \nDie BIOFACH ist die zentrale Plattform für Bio-Lebensmittel\, Naturprodukte und nachhaltige Innovationen. Besucher und Entscheider interessieren sich vor allem für: \n\nBio-Lebensmittel & Getränke\nZertifizierte Bio-Produkte & Fair-Trade\nNachhaltige Verpackungen & ökologische Innovationen\nLandwirtschaft\, Bio-Anbau & Lieferketten\nRegionale Spezialitäten mit Bio-Herkunft\nZukunftstrends & internationale Marktneuheiten\n\nMit FAIREVER Promotion-Personal gewinnen Sie die Aufmerksamkeit Ihrer Zielgruppe und steigern Ihre Markenpräsenz nachhaltig. \nMessehostessen & Promotion-Personal für die BIOFACH Nürnberg \nUnser erfahrenes Messepersonal ist perfekt auf die Bedürfnisse der BIOFACH abgestimmt. Sie profitieren von: \n\nAktive Besucheransprache & Produktpräsentation (DE/EN & weitere Sprachen)\nVerkostungen & Sampling-Aktionen im Bio-Bereich\nUnterstützung bei Live-Demos & Expertenrunden\nBetreuung internationaler Einkäufer\, Gäste & Fachdelegationen\nFreundliches\, serviceorientiertes Personal mit Erfahrung im Bio- und Food-Umfeld\n\nOb Verkostungen\, Produktvorführungen oder Informationsgespräche – mit unseren Hostessen und Promotern wird Ihr Messestand zum Publikumsmagneten. \nFull-Service für Ihren Messeauftritt \nFAIREVER bietet Ihnen weit mehr als klassisches Messepersonal. Auf Wunsch übernehmen wir den kompletten Messe-Service: \n\nMessestandgestaltung & nachhaltiges Branding\nAuswahl\, Briefing & detaillierte Schulung des Messepersonals\nPlanung & Durchführung Ihrer Verkostungen\, Produktaktionen & Live-Demos\nLogistik\, Koordination & Betreuung vor Ort\nReporting & Auswertung zur Erfolgskontrolle\n\nSo können Sie sich voll auf Ihre Produkte\, Ihre Marke und Ihre Besucher konzentrieren – wir kümmern uns um den Rest. \nWarum FAIREVER für die BIOFACH 2026? \n\nErfahrung auf über 100 Messen jährlich – deutschlandweit\nStark im Bereich Food-\, Bio- & Nachhaltigkeitsmessen\nFlexible & schnelle Personalplanung\, auch kurzfristig\nFaire Preise & transparente Kommunikation\nNachhaltige Event- & Promotionplanung\n\nJetzt Messepersonal für die BIOFACH 2026 buchen! \nNutzen Sie die Chance\, Ihre Marke auf der BIOFACH 2026 professionell und wirkungsvoll zu präsentieren. FAIREVER liefert Ihnen das passende Messepersonal\, erfahrene Hostessen und kreatives Promotion-Personal\, das Ihre Marke authentisch repräsentiert. \nFAIREVER GmbH – fair. flexibel. nachhaltig.\nIhr Partner für Messepersonal\, Hostessen und Promotion in Nürnberg – auf der BIOFACH 2026 und darüber hinaus. \n\n		Jetzt Anfrage stellen
URL:https://www.fairever-events.com/eventagentur/messepersonal-hostessen-promotion-fuer-die-biofach-2026/
LOCATION:Messe Nürnberg\, Messezentrum 1\, Nürnberg\, Bayern\, 90471\, Germany
CATEGORIES:Messen in Nürnberg
ATTACH;FMTTYPE=image/jpeg:https://www.fairever-events.com/wp-content/uploads/2025/11/csm_BF_Logo_gruen_version.jpg
END:VEVENT
END:VCALENDAR