BEGIN:VCALENDAR
VERSION:2.0
PRODID:-//FAIREVER - ECPv6.15.20//NONSGML v1.0//EN
CALSCALE:GREGORIAN
METHOD:PUBLISH
X-ORIGINAL-URL:https://www.fairever-events.com
X-WR-CALDESC:Veranstaltungen für FAIREVER
REFRESH-INTERVAL;VALUE=DURATION:PT1H
X-Robots-Tag:noindex
X-PUBLISHED-TTL:PT1H
BEGIN:VTIMEZONE
TZID:Europe/Berlin
BEGIN:DAYLIGHT
TZOFFSETFROM:+0100
TZOFFSETTO:+0200
TZNAME:CEST
DTSTART:20250330T010000
END:DAYLIGHT
BEGIN:STANDARD
TZOFFSETFROM:+0200
TZOFFSETTO:+0100
TZNAME:CET
DTSTART:20251026T010000
END:STANDARD
BEGIN:DAYLIGHT
TZOFFSETFROM:+0100
TZOFFSETTO:+0200
TZNAME:CEST
DTSTART:20260329T010000
END:DAYLIGHT
BEGIN:STANDARD
TZOFFSETFROM:+0200
TZOFFSETTO:+0100
TZNAME:CET
DTSTART:20261025T010000
END:STANDARD
BEGIN:DAYLIGHT
TZOFFSETFROM:+0100
TZOFFSETTO:+0200
TZNAME:CEST
DTSTART:20270328T010000
END:DAYLIGHT
BEGIN:STANDARD
TZOFFSETFROM:+0200
TZOFFSETTO:+0100
TZNAME:CET
DTSTART:20271031T010000
END:STANDARD
END:VTIMEZONE
BEGIN:VEVENT
DTSTART;VALUE=DATE:20260220
DTEND;VALUE=DATE:20260224
DTSTAMP:20260420T144234
CREATED:20240109T075516Z
LAST-MODIFIED:20251016T101214Z
UID:6399-1771545600-1771891199@www.fairever-events.com
SUMMARY:Messepersonal\, Hostessen & Promotion für INHORGENTA Munich 2026
DESCRIPTION:Setzen Sie Glanzlichter in Schmuck\, Uhren & Edelsteinen – auf der INHORGENTA Munich 2026. Vom 20. bis 23. Februar 2026 verwandelt sich die Messe München in die führende Plattform für die internationale Schmuck-\, Uhren- und Edelsteinbranche. Mit FAIREVER buchen Sie professionelles Messepersonal in München\, erfahrene Hostessen und engagierte Promoter\, die Ihre Kollektionen\, Trends und Innovationen stilvoll und wirkungsvoll präsentieren – vom ersten Fachbesucher bis zur abschließenden Nachbereitung. \n\n		Jetzt Anfrage stellen\n	\n\nINHORGENTA Munich 2026 – Ihre Bühne für Schmuck\, Zeitmesser & Edelsteinkunst \nINHORGENTA Munich ist Europas führende Fachmesse für Schmuck\, Uhren und Edelsteine – eine unverzichtbare Plattform für Hersteller\, Händler\, Designer und Kreative. Aussteller aus aller Welt zeigen hier ihre neuesten Kollektionen\, Materialien und Technologien. Besondere Themenschwerpunkte sind: JETRO+2INHORGENTA MUNICH+2 \n\nFine Jewelry\, Design Jewelry & Luxusstücke\nUhren & Zeitmesser in allen Stilrichtungen\nEdelsteine\, Perlen & Schätze der Natur\nEleganz & Lifestyle – Accessoires und Trends rund um Schmuck\nHochzeits- & Trauringdesigns\nTechnische Innovationen in Schmuck-Herstellung & Verpackung\n\nMit FAIREVER Promotion Personal stellen Sie sicher\, dass Ihre Marke und Ihre Designs bei Juwelieren\, Einkäufern\, Designliebhabern und Trendsettern Eindruck machen. \nMessehostessen & Promoter für INHORGENTA Munich \nUnser spezialisiertes Messepersonal in München ist optimal vorbereitet\, um die besonderen Anforderungen einer Schmuck- und Luxusmesse zu erfüllen: \n\nAktive Besucheransprache & stilvolle Produktpräsentation (DE/EN & weitere Sprachen)\nBetreuung internationaler Gäste\, Händler & Fachdelegationen\nUnterstützung bei Live-Präsentationen\, Trendvorführungen & Design-Showcases\nVerteilung von Katalogen\, Musterstücken & Informationsmaterial\nElegantes\, kompetentes & serviceorientiertes Auftreten\n\nEgal ob filigrane Schmuckstücke\, edle Uhren oder aufwendige Edelstein-Kreationen – mit unseren Hostessen und Promotern bei INHORGENTA Munich 2026 wird Ihr Stand zum Highlight. \nFull-Service für Ihren Messeauftritt \nMit FAIREVER erhalten Sie eine vollständige Betreuung für Ihren Messeauftritt: \n\nMessestandgestaltung & Branding\, abgestimmt auf Ihre Markenästhetik\nAuswahl\, Briefing & Schulung des benötigten Personals\nPlanung & Durchführung von Produkt-Präsentationen\, Besucher-Aktivierungen & Showcases\nLogistik\, Koordination & Betreuung vor Ort während der gesamten Messelaufzeit\nReporting & Nachbereitung zur Erfolgskontrolle\n\nWarum FAIREVER für INHORGENTA Munich 2026? \n\nJahrelange Erfahrung auf über 100 Fachmessen jährlich – deutschlandweit & international\nSpezialisierung auf Schmuck-\, Uhren- & Luxusgüter-Messen\nFlexible & kurzfristige Personalplanung möglich\nFaire Preise & transparente Kommunikation\nNachhaltigkeit & Qualität als feste Bestandteile unserer Event-Konzepte\n\nJetzt Messepersonal für INHORGENTA Munich 2026 buchen! \nNutzen Sie die Gelegenheit\, Ihre Schmuckkollektionen\, Uhren und Edelstücke auf der INHORGENTA Munich 2026 (20.–23. Februar 2026) professionell und eindrucksvoll zu präsentieren. FAIREVER stellt Ihnen das passende Messepersonal\, erfahrene Hostessen und kreative Promotionteams in München zur Verfügung\, damit Ihr Stand strahlt und Ihre Designs bewundert werden. \nFAIREVER GmbH – fair. flexibel. nachhaltig.\nIhr Partner für Messepersonal\, Hostessen & Promotion in München – bei INHORGENTA Munich 2026 und darüber hinaus. \n\n		Jetzt Anfrage stellen
URL:https://www.fairever-events.com/eventagentur/inhorgenta-muenchen-hostessen/
LOCATION:Messe München\, Messegelände\, München\, Bayern\, 81823\, Germany
CATEGORIES:Messen in München
ATTACH;FMTTYPE=image/jpeg:https://www.fairever-events.com/wp-content/uploads/2024/01/logo_inhorgenta.jpg
END:VEVENT
BEGIN:VEVENT
DTSTART;VALUE=DATE:20260222
DTEND;VALUE=DATE:20260227
DTSTAMP:20260420T144234
CREATED:20251007T103443Z
LAST-MODIFIED:20251007T103443Z
UID:7973-1771718400-1772150399@www.fairever-events.com
SUMMARY:Messepersonal\, Hostessen & Promotion für EuroCIS Düsseldorf 2026
DESCRIPTION:Erweitern Sie Ihr Retail-Technologie-Netzwerk – auf der EuroCIS Düsseldorf 2026. Vom 22. bis 26. Februar 2026 findet auf dem Gelände der Messe Düsseldorf die führende Fachmesse für Retail Technology statt. Mit FAIREVER sichern Sie sich professionelles Messepersonal in Düsseldorf\, erfahrene Hostessen und innovative Promoter\, die Ihre Lösungen wirkungsvoll in Szene setzen – vom ersten Fachbesucher bis zur Nachbereitung. \n\n		Jetzt Anfrage stellen\n	\n\nEuroCIS 2026 – Ihre Bühne für Retail Technologie\, POS & Innovation \nEuroCIS ist Europas wichtigste Plattform für Technologien im Einzelhandel. Hier treffen sich Anbieter\, Händler\, Innovationstreiber und Entscheider\, um neueste Entwicklungen in den Bereichen Zahlungsverkehr\, POS\, eCommerce\, IoT & Digitalisierung voranzutreiben. Zu den zentralen Themen gehören: \n\nPOS-Technologien & Kassensysteme (Hardware & Software)\nMobile Payment\, kontaktlose Bezahlverfahren & Checkout-Lösungen\nOmnichannel eCommerce\, Vernetzte Verkaufsflächen & Big Data\nArtificial Intelligence\, IoT & smarte Ladentechnik\nDigital Signage\, Retail Analytics & digitales Marketing\nSupply Chain\, Logistik & Sicherheit & Verlustprävention\n\nMit FAIREVER Promotion Personal erreichen Sie gezielt Fachbesucher\, Einzelhändler\, Technologielieferanten\, Innovationsmanager und Branchenführer. \nMessehostessen & Promoter für EuroCIS Düsseldorf \nUnser spezialisiertes Messepersonal in Düsseldorf ist bestens gerüstet für die Anforderungen dieser Technologie-Fachmesse: \n\nAktive Besucheransprache & Produktpräsentation (DE/EN & weitere Sprachen)\nUnterstützung bei Technologie-Demos\, POS-Vorführungen & Live-Showcases\nBetreuung internationaler Gäste & Fachdelegationen\nVerteilung von technischer Fachliteratur\, Prospekten & Infomaterial\nProfessionelles\, kompetentes & serviceorientiertes Auftreten\n\nOb Sie neue Retail-Software\, Payment-Lösungen oder smarte Ladentechnik präsentieren – unsere Hostessen und Promoter bei EuroCIS Düsseldorf 2026 sorgen dafür\, dass Ihr Stand wahrgenommen wird. \nFull-Service für Ihren Messeauftritt \nMit FAIREVER erhalten Sie eine vollständige Betreuung\, damit Ihr Messeauftritt reibungslos gelingt: \n\nMessestandgestaltung & Branding\, abgestimmt auf Technik\, Innovation & Corporate Identity\nAuswahl\, Briefing & Schulung des Messepersonals\nPlanung & Durchführung von Produktpräsentationen\, Live-Demonstrationen & Besucheraktivierungen\nLogistik\, Koordination & Vor-Ort-Betreuung während der gesamten Messelaufzeit\nReporting & Nachbereitung zur Erfolgskontrolle und Optimierung\n\nWarum FAIREVER für EuroCIS Düsseldorf 2026? \n\nJahre lange Erfahrung auf über 100 Fachmessen jährlich – deutschlandweit & international\nSpezialisiert auf Retail-Technologie-Messen und digitale Innovationen im Handel\nSchnelle & flexible Personalplanung\, auch kurzfristig\nFaire Preise & transparente Kommunikation\nNachhaltigkeit & modernes Eventmanagement als fester Bestandteil unserer Leistungen\n\nJetzt Messepersonal für EuroCIS Düsseldorf 2026 buchen! \nNutzen Sie die Chance\, Ihre technologischen Lösungen auf der EuroCIS Düsseldorf 2026 (22.–26.02.2026) wirkungsvoll zu präsentieren. FAIREVER stellt Ihnen das passende Messepersonal\, erfahrene Hostessen und kreatives Promotion Personal in Düsseldorf zur Seite\, damit Ihre Innovationen im Retail sichtbar werden. \nFAIREVER GmbH – fair. flexibel. nachhaltig.\nIhr Partner für Messepersonal\, Hostessen & Promotion in Düsseldorf – auf EuroCIS 2026 und darüber hinaus. \n\n		Jetzt Anfrage stellen
URL:https://www.fairever-events.com/eventagentur/eurocis-duesseldorf-hostess-service/
LOCATION:Bayern
CATEGORIES:Messen in Düsseldorf
ATTACH;FMTTYPE=image/png:https://www.fairever-events.com/wp-content/uploads/2025/10/EuroCIS-logo.png
END:VEVENT
END:VCALENDAR