BEGIN:VCALENDAR
VERSION:2.0
PRODID:-//FAIREVER - ECPv6.15.20//NONSGML v1.0//EN
CALSCALE:GREGORIAN
METHOD:PUBLISH
X-ORIGINAL-URL:https://www.fairever-events.com
X-WR-CALDESC:Veranstaltungen für FAIREVER
REFRESH-INTERVAL;VALUE=DURATION:PT1H
X-Robots-Tag:noindex
X-PUBLISHED-TTL:PT1H
BEGIN:VTIMEZONE
TZID:Europe/Berlin
BEGIN:DAYLIGHT
TZOFFSETFROM:+0100
TZOFFSETTO:+0200
TZNAME:CEST
DTSTART:20250330T010000
END:DAYLIGHT
BEGIN:STANDARD
TZOFFSETFROM:+0200
TZOFFSETTO:+0100
TZNAME:CET
DTSTART:20251026T010000
END:STANDARD
BEGIN:DAYLIGHT
TZOFFSETFROM:+0100
TZOFFSETTO:+0200
TZNAME:CEST
DTSTART:20260329T010000
END:DAYLIGHT
BEGIN:STANDARD
TZOFFSETFROM:+0200
TZOFFSETTO:+0100
TZNAME:CET
DTSTART:20261025T010000
END:STANDARD
BEGIN:DAYLIGHT
TZOFFSETFROM:+0100
TZOFFSETTO:+0200
TZNAME:CEST
DTSTART:20270328T010000
END:DAYLIGHT
BEGIN:STANDARD
TZOFFSETFROM:+0200
TZOFFSETTO:+0100
TZNAME:CET
DTSTART:20271031T010000
END:STANDARD
END:VTIMEZONE
BEGIN:VEVENT
DTSTART;VALUE=DATE:20260304
DTEND;VALUE=DATE:20260309
DTSTAMP:20260420T185351
CREATED:20251016T102013Z
LAST-MODIFIED:20251016T102013Z
UID:8067-1772582400-1773014399@www.fairever-events.com
SUMMARY:Messepersonal\, Hostessen & Promotion für Handwerk & Design München 2026
DESCRIPTION:Kunsthandwerk trifft Design neu interpretiert – auf der Handwerk & Design München 2026. Vom 04. bis 08. März 2026 präsentiert sich diese Messe im Rahmen der Internationalen Handwerksmesse auf dem Gelände der Messe München als Plattform für anspruchsvolle Handwerkskunst\, ästhetisches Design und kreative Unikate. Mit FAIREVER buchen Sie professionelles Messepersonal in München\, erfahrene Hostessen und engagierte Promoter\, die Ihre Produkte und Werke stilvoll und wirkungsvoll präsentieren – vom ersten Besucher bis zur Nachbereitung. \n\n		Jetzt Anfrage stellen\n	\n\nHandwerk & Design 2026 – Ihre Bühne für Kunst\, Handwerk & Designobjekte \nDie Handwerk & Design bietet hochqualitative Präsentationen aus Kunsthandwerk und Design unter einem Dach. Aussteller aus verschiedenen Bereichen zeigen ihr Können und ihre Kreativität. Zu den Themenschwerpunkten gehören: \n\nSchmuck\, Gerät & Metallarbeiten\nKeramik & Porzellan\nTextilien & Papierdesign\nGlaskunst & traditionelles Werkmaterial Holz und Möbel\nKunstvolle Objekte & Design mit ästhetischem Anspruch\n\nZudem bieten exklusive Sonderschauen wie EXEMPLA\, SCHMUCK und TALENTE – Meister der Zukunft Einblicke in aktuelle Trends und innovative Nachwuchsarbeiten. \nMessehostessen & Promoter für Handwerk & Design München \nUnser spezialisiertes Messepersonal in München ist bestens vorbereitet\, um die Besonderheit dieser Messe hervorzuheben: \n\nAktive\, ansprechende Besucheransprache & ästhetische Produktpräsentation (DE/EN & weitere Sprachen)\nUnterstützung bei Präsentationen\, Sonderschauen & Live-Demonstrationen\nBetreuung internationaler Gäste\, Galerien & Designliebhaber\nVerteilung von Stil-Katalogen\, Bildmaterial & kunsthandwerklichen Broschüren\nStilvolles\, serviceorientiertes & kompetentes Auftreten\n\nEgal ob Schmuckdesigner\, Möbelkunst oder Glasobjekt – mit unseren Hostessen & Promotern bei Handwerk & Design München 2026 wird Ihr Stand ästhetisch wirkungsvoll und bleibend in Erinnerung. \nFull-Service für Ihren Messeauftritt \nMit FAIREVER bieten wir Ihnen eine Rundum-Lösung: \n\nMessestandgestaltung & Branding\, abgestimmt auf Ihren Kunststil & Designanspruch\nAuswahl\, Briefing & Schulung des Personals\nPlanung & Durchführung von Aktionen wie Live-Präsentationen\, Besucheraktivierungen & Sonderschauen\nLogistik\, Koordination & Betreuung vor Ort über die komplette Messelaufzeit\nReporting & Nachbereitung zur Erfolgskontrolle\n\nWarum FAIREVER für Handwerk & Design München 2026? \n\nErfahrung mit über 100 Messen jährlich – deutschlandweit & international\nSpezialisierung auf Kunsthandwerk\, Design & hochwertige Lifestyle-Messen\nFlexible & schnelle Personalplanung\, auch kurzfristig\nFaire Preise & transparente Kommunikation\nNachhaltigkeit & Qualität als Kern unserer Messe- und Promotionkonzepte\n\nJetzt Messepersonal für Handwerk & Design München 2026 buchen! \nNutzen Sie die Chance\, Ihre Kunstobjekte\, Designprodukte und handwerklichen Werke auf der Handwerk & Design München 2026 (04.–08. März 2026) professionell und unvergesslich zu präsentieren. FAIREVER stellt Ihnen das passende Messepersonal\, erfahrene Hostessen und kreative Promotion-Teams in München zur Verfügung\, damit Ihr Stand strahlt und Ihre Designs bewundert werden. \nFAIREVER GmbH – fair. flexibel. nachhaltig.\nIhr Partner für Messepersonal\, Hostessen & Promotion in München – auf der Handwerk & Design 2026 und darüber hinaus. \n\n		Jetzt Anfrage stellen
URL:https://www.fairever-events.com/eventagentur/messepersonal-hostessen-promotion-fuer-handwerk-design-munich/
LOCATION:Messe München\, Messegelände\, München\, Bayern\, 81823\, Germany
CATEGORIES:Messen in München
ATTACH;FMTTYPE=image/jpeg:https://www.fairever-events.com/wp-content/uploads/2025/10/Handwerk-Design.jpg
END:VEVENT
END:VCALENDAR