BEGIN:VCALENDAR
VERSION:2.0
PRODID:-//FAIREVER - ECPv6.15.20//NONSGML v1.0//EN
CALSCALE:GREGORIAN
METHOD:PUBLISH
X-WR-CALNAME:FAIREVER
X-ORIGINAL-URL:https://www.fairever-events.com
X-WR-CALDESC:Veranstaltungen für FAIREVER
REFRESH-INTERVAL;VALUE=DURATION:PT1H
X-Robots-Tag:noindex
X-PUBLISHED-TTL:PT1H
BEGIN:VTIMEZONE
TZID:Europe/Berlin
BEGIN:DAYLIGHT
TZOFFSETFROM:+0100
TZOFFSETTO:+0200
TZNAME:CEST
DTSTART:20250330T010000
END:DAYLIGHT
BEGIN:STANDARD
TZOFFSETFROM:+0200
TZOFFSETTO:+0100
TZNAME:CET
DTSTART:20251026T010000
END:STANDARD
BEGIN:DAYLIGHT
TZOFFSETFROM:+0100
TZOFFSETTO:+0200
TZNAME:CEST
DTSTART:20260329T010000
END:DAYLIGHT
BEGIN:STANDARD
TZOFFSETFROM:+0200
TZOFFSETTO:+0100
TZNAME:CET
DTSTART:20261025T010000
END:STANDARD
BEGIN:DAYLIGHT
TZOFFSETFROM:+0100
TZOFFSETTO:+0200
TZNAME:CEST
DTSTART:20270328T010000
END:DAYLIGHT
BEGIN:STANDARD
TZOFFSETFROM:+0200
TZOFFSETTO:+0100
TZNAME:CET
DTSTART:20271031T010000
END:STANDARD
END:VTIMEZONE
BEGIN:VEVENT
DTSTART;VALUE=DATE:20260317
DTEND;VALUE=DATE:20260321
DTSTAMP:20260420T104529
CREATED:20251016T092726Z
LAST-MODIFIED:20251016T092726Z
UID:8040-1773705600-1774051199@www.fairever-events.com
SUMMARY:Messepersonal\, Hostessen & Promotion für SHK+E Essen 2026
DESCRIPTION:Setzen Sie neue Maßstäbe in Sanitär\, Heizung\, Klima & Elektro – auf der SHK+E Essen 2026. Vom 17. bis 20. März 2026 findet in der Messe Essen die bedeutende Fachmesse für Sanitärtechnik\, Heizungs-\, Klima- und Elektrotechnik statt. Mit FAIREVER buchen Sie professionelles Messepersonal in Essen\, erfahrene Hostessen und engagierte Promoter\, die Ihre Produkte und Innovationen überzeugend präsentieren – vom ersten Fachbesucher bis zur erfolgreichen Nachbereitung. \n\n		Jetzt Anfrage stellen\n	\n\nSHK+E Essen 2026 – Ihre Bühne für Sanitär\, Heizung & Gebäudetechnik \nSHK+E Essen (Sanitär + Elektro) ist seit über 50 Jahren eine zentrale Leitmesse der Branche und gilt als wichtiger Branchentreff für das SHK-Handwerk\, Planung\, Beratung und Installationsbetriebe im Westen Deutschlands sowie aus den Benelux-Staaten und Frankreich. \nThemenschwerpunkte und Ausstellungsbereiche umfassen: \n\nSanitärtechnik & Badezimmerausstattung\nHeiztechnik inkl. Wärmepumpen & hybride Systeme\nKlima-\, Lüftungs- und Belüftungstechnik\nElektrotechnik & Gebäuderegelsysteme\nErneuerbare Energien & Energieeffizienz\nWasseraufbereitung & Trinkwasserhygiene\nWerkzeuge\, Komponenten & Systemlösungen\n\nMessehostessen & Promoter für SHK+E Essen \nUnser spezialisiertes Messepersonal in Essen ist maßgeschneidert für die Anforderungen dieser technisch anspruchsvollen Fachmesse: \n\nAktive Besucheransprache & Produktpräsentation (DE/EN & weitere Sprachen)\nUnterstützung bei Live-Demonstrationen & System-Vorführungen\nBetreuung internationaler Gäste\, Fachdelegationen & Entscheidungsträger\nVerteilung von Mustern\, Katalogen & technischem Informationsmaterial\nSeriöses\, fachkundiges & serviceorientiertes Auftreten\n\nOb Sie neue Heizsysteme\, smarte Regeltechnik oder nachhaltige Sanitärlösungen präsentieren – mit unseren Hostessen und Promotern bei SHK+E Essen 2026 wird Ihr Stand sichtbar und bleibt im Gedächtnis. \nFull-Service für Ihren Messeauftritt \nMit FAIREVER bieten wir Ihnen eine vollständige Betreuung\, sodass Ihr Messetag reibungslos verläuft: \n\nMessestandgestaltung & Branding\, abgestimmt auf Technik & Design\nAuswahl\, Briefing & Schulung des Personals\nPlanung & Durchführung von Produktpräsentationen\, Besucheraktivierungen & Live-Vorführungen\nLogistik\, Koordination & Betreuung vor Ort während der gesamten Messelaufzeit\nReporting & Nachbereitung zur Erfolgskontrolle\n\nWarum FAIREVER für SHK+E Essen 2026? \n\nLangjährige Erfahrung bei über 100 Fachmessen jährlich – deutschlandweit & international\nSpezialisierung auf SHK-\, Elektro- & Gebäudetechnik-Messen\nFlexible & schnelle Personalplanung\, auch auf kurzfristige Anforderungen\nFaire Preise & transparente Kommunikation\nNachhaltigkeit & Energie­effizienz als fester Bestandteil unserer Event-Konzepte\n\nJetzt Messepersonal für SHK+E Essen 2026 buchen! \nNutzen Sie die Gelegenheit\, Ihre technischen Lösungen\, Sanitär- und Elektroprodukte auf der SHK+E Essen 2026 (17.–20. März 2026) professionell und überzeugend zu präsentieren. FAIREVER stellt Ihnen das passende Messepersonal\, erfahrene Hostessen und kreatives Promotion Personal in Essen zur Seite\, damit Ihr Stand Eindruck macht und Ihre Innovationen sichtbar werden. \nFAIREVER GmbH – fair. flexibel. nachhaltig.\nIhr Partner für Messepersonal\, Hostessen & Promotion in Essen – auf der SHK+E Essen 2026 und darüber hinaus. \n\n		Jetzt Anfrage stellen
URL:https://www.fairever-events.com/eventagentur/shk-e-essen-messepersonal-hostessen-promotion/
LOCATION:Messe Essen
CATEGORIES:Messen in Essen
ATTACH;FMTTYPE=image/jpeg:https://www.fairever-events.com/wp-content/uploads/2025/10/shke.jpg
END:VEVENT
END:VCALENDAR