BEGIN:VCALENDAR
VERSION:2.0
PRODID:-//FAIREVER - ECPv6.15.20//NONSGML v1.0//EN
CALSCALE:GREGORIAN
METHOD:PUBLISH
X-WR-CALNAME:FAIREVER
X-ORIGINAL-URL:https://www.fairever-events.com
X-WR-CALDESC:Veranstaltungen für FAIREVER
REFRESH-INTERVAL;VALUE=DURATION:PT1H
X-Robots-Tag:noindex
X-PUBLISHED-TTL:PT1H
BEGIN:VTIMEZONE
TZID:Europe/Berlin
BEGIN:DAYLIGHT
TZOFFSETFROM:+0100
TZOFFSETTO:+0200
TZNAME:CEST
DTSTART:20250330T010000
END:DAYLIGHT
BEGIN:STANDARD
TZOFFSETFROM:+0200
TZOFFSETTO:+0100
TZNAME:CET
DTSTART:20251026T010000
END:STANDARD
BEGIN:DAYLIGHT
TZOFFSETFROM:+0100
TZOFFSETTO:+0200
TZNAME:CEST
DTSTART:20260329T010000
END:DAYLIGHT
BEGIN:STANDARD
TZOFFSETFROM:+0200
TZOFFSETTO:+0100
TZNAME:CET
DTSTART:20261025T010000
END:STANDARD
BEGIN:DAYLIGHT
TZOFFSETFROM:+0100
TZOFFSETTO:+0200
TZNAME:CEST
DTSTART:20270328T010000
END:DAYLIGHT
BEGIN:STANDARD
TZOFFSETFROM:+0200
TZOFFSETTO:+0100
TZNAME:CET
DTSTART:20271031T010000
END:STANDARD
END:VTIMEZONE
BEGIN:VEVENT
DTSTART;VALUE=DATE:20260323
DTEND;VALUE=DATE:20260328
DTSTAMP:20260420T104528
CREATED:20251016T102826Z
LAST-MODIFIED:20251016T102826Z
UID:8076-1774224000-1774655999@www.fairever-events.com
SUMMARY:Messepersonal\, Hostessen & Promotion für Munich Space Summit München 2026
DESCRIPTION:Bringen Sie Ihre Zukunftsfähigkeit in die Raumfahrt & Satellitennavigation – auf dem Munich Space Summit München 2026. Vom 23. bis 27. März 2026 findet der erste Summit dieser Art statt\, bei dem zwei renommierte Formate – der Munich New Space Summit und der Munich Satellite Navigation Summit – zu einer kraftvollen Plattform verschmelzen. Mit FAIREVER buchen Sie professionelles Messepersonal in München\, erfahrene Hostessen und engagierte Promoter\, die Ihre Innovationen\, Technologien und Visionen überzeugend präsentieren – vom ersten Fach­besucher bis zur Nachbereitung. \n\n		Jetzt Anfrage stellen\n	\n\nMunich Space Summit 2026 – Ihre Bühne für New Space & Satellite Navigation \nDer Munich Space Summit ist das neue\, zentrale Forum der Raumfahrtbranche in Europa. Fachleute aus Industrie\, Forschung\, Politik und Start-ups kommen hier zusammen\, um Innovation\, Strategie & Zusammenarbeit voranzutreiben. Thematische Schwerpunkte umfassen: \n\nNew Space Entrepreneurship & Private Capital – Aufbau von Start-ups\, Finanzierung und marktorientierte Innovationen\nInternationale Satellitennavigationssysteme (GNSS)\, Positionierung & Navigation\, z. B. für Mobilität\, autonome Systeme & Infrastruktur\nDatenkommunikation & Erdbeobachtung: Sensorik\, Anwendungen für Umwelt- und Klimathemen\nSchnittstellen zu Nutzerbranchen: Automobil\, Telekommunikation\, Verteidigung\, Sicherheit\, Landwirtschaft u. a.\nRegulatorik\, Politik & Strategien zur Stärkung europäischer Autonomie im Raumfahrtsektor\n\nMessehostessen & Promoter für Munich Space Summit München \nUnser spezialisiertes Messe- & Konferenzpersonal in München ist ideal vorbereitet auf die Anforderungen einer hochkarätigen Raumfahrt-Veranstaltung: \n\nAktive Besucheransprache & Präsentation Ihrer Technologie & Lösungen (DE/EN & weitere Sprachen)\nUnterstützung bei Produktdemos\, Showcases & Live-Präsentationen\nBetreuung internationaler Gäste\, Industriepartner & Delegationen\nVerteilung von Fachunterlagen\, technischen Infomaterialien & Whitepapers\nProfessionelles\, kompetentes & serviceorientiertes Auftreten\n\nEgal ob Sie eine neue Satellitentechnologie\, Navigationslösungen\, Raumfahrt-Dienstleistungen oder zukunftsweisende Innovationen vorstellen – mit FAIREVER wird Ihr Auftritt sichtbar und überzeugend. \nFull-Service für Ihren Messe- oder Summitauftritt \nFAIREVER bietet Ihnen ein vollständiges Paket: \n\nStand- & Branding-Gestaltung\, abgestimmt auf Ihre Corporate Identity & Messethema\nAuswahl\, Briefing & Schulung des Personals\nPlanung & Durchführung von Live-Präsentationen\, Besucheraktivierungen & Netzwerk-Formaten\nLogistik\, Koordination & Betreuung vor Ort über die gesamte Summit-Laufzeit\nReporting & Nachbereitung zur Erfolgskontrolle\n\nWarum FAIREVER für Munich Space Summit München 2026? \n\nJahrelange Erfahrung bei über 100 Fachmessen & Konferenzen jährlich – national & international\nSpezialisierung auf Technologie-\, Raumfahrt- & Innovations-Events\nFlexible & kurzfristige Personalplanung möglich\nFaire Preise & transparente Kommunikation\nNachhaltigkeit\, Qualität & Zukunftsorientierung als feste Bestandteile unseres Serviceversprechens\n\nJetzt Messepersonal für Munich Space Summit München 2026 buchen! \nNutzen Sie die einmalige Gelegenheit\, Ihre Raumfahrt- oder Navigationslösungen auf dem Munich Space Summit 2026 (23.–27. März 2026) professionell und mit hoher Wirkung zu präsentieren. FAIREVER stellt Ihnen das passende Messepersonal\, erfahrene Hostessen und kreative Promotion-Teams in München zur Verfügung\, damit Ihr Stand Eindruck macht und Ihre Innovationen sichtbar werden. \nFAIREVER GmbH – fair. flexibel. nachhaltig.\nIhr Partner für Messepersonal\, Hostessen & Promotion in München – beim Munich Space Summit 2026 und darüber hinaus. \n\n		Jetzt Anfrage stellen
URL:https://www.fairever-events.com/eventagentur/messepersonal-hostessen-space-summit-muenchen/
LOCATION:Messe München\, Messegelände\, München\, Bayern\, 81823\, Germany
CATEGORIES:Messen in München
ATTACH;FMTTYPE=image/jpeg:https://www.fairever-events.com/wp-content/uploads/2025/10/MunichSpaceSummit-Logo.jpg
END:VEVENT
END:VCALENDAR