BEGIN:VCALENDAR
VERSION:2.0
PRODID:-//FAIREVER - ECPv6.15.20//NONSGML v1.0//EN
CALSCALE:GREGORIAN
METHOD:PUBLISH
X-ORIGINAL-URL:https://www.fairever-events.com
X-WR-CALDESC:Veranstaltungen für FAIREVER
REFRESH-INTERVAL;VALUE=DURATION:PT1H
X-Robots-Tag:noindex
X-PUBLISHED-TTL:PT1H
BEGIN:VTIMEZONE
TZID:Europe/Berlin
BEGIN:DAYLIGHT
TZOFFSETFROM:+0100
TZOFFSETTO:+0200
TZNAME:CEST
DTSTART:20250330T010000
END:DAYLIGHT
BEGIN:STANDARD
TZOFFSETFROM:+0200
TZOFFSETTO:+0100
TZNAME:CET
DTSTART:20251026T010000
END:STANDARD
BEGIN:DAYLIGHT
TZOFFSETFROM:+0100
TZOFFSETTO:+0200
TZNAME:CEST
DTSTART:20260329T010000
END:DAYLIGHT
BEGIN:STANDARD
TZOFFSETFROM:+0200
TZOFFSETTO:+0100
TZNAME:CET
DTSTART:20261025T010000
END:STANDARD
BEGIN:DAYLIGHT
TZOFFSETFROM:+0100
TZOFFSETTO:+0200
TZNAME:CEST
DTSTART:20270328T010000
END:DAYLIGHT
BEGIN:STANDARD
TZOFFSETFROM:+0200
TZOFFSETTO:+0100
TZNAME:CET
DTSTART:20271031T010000
END:STANDARD
END:VTIMEZONE
BEGIN:VEVENT
DTSTART;VALUE=DATE:20260507
DTEND;VALUE=DATE:20260514
DTSTAMP:20260420T104912
CREATED:20251007T111200Z
LAST-MODIFIED:20251007T111200Z
UID:7998-1778112000-1778716799@www.fairever-events.com
SUMMARY:Messepersonal\, Hostessen & Promotion für interpack Düsseldorf 2026
DESCRIPTION:Setzen Sie Ihre Verpackungs-Technologie ins richtige Licht – auf der interpack Düsseldorf 2026. Vom 7. bis 13. Mai 2026 trifft sich auf dem Messegelände Düsseldorf die internationale Verpackungs- und Prozessindustrie. Mit FAIREVER buchen Sie professionelles Messepersonal in Düsseldorf\, erfahrene Hostessen und engagierte Promoter\, die Ihre Lösungen und Innovationen überzeugend präsentieren – vom ersten Fachbesucher bis zur Nachbereitung. \n\n		Jetzt Anfrage stellen\n	\n\ninterpack 2026 – Ihre Bühne für Prozesse\, Verpackung & Innovation \ninterpack ist die weltweit führende Fachmesse für Verfahrenstechnik und Verpackung – sie deckt die gesamte Wertschöpfungskette ab: Verpackungsmaschinen\, Verpackungsmaterialien\, Verpackungssysteme\, Verpackungszubehör sowie Prozesse für Lebensmittel\, Getränke\, Arzneimittel\, Kosmetik und Non-Food Produkte. Zu den Themenschwerpunkten gehören: \n\nVerpackungsmaschinen & Automatisierung\nMaterialien & Hilfsmittel für Verpackung\nMaschinen & Prozesse für Süßwaren\, Backwaren & Pharmazeutika\nVerpackung für Lebensmittel & Getränke\, Kosmetik & industrielle Güter\nInnovationen in Nachhaltigkeit\, Kreislaufwirtschaft & Einsparungen von Ressourcen\nSmart Packaging\, Digitalisierung & Prozessoptimierung\n\nMit FAIREVER Promotion Personal erreichen Sie Hersteller\, Zulieferer\, Innovationsverantwortliche und Entscheider aus der Verpackungsbranche\, die nach Effizienz\, Qualität und neuen Technologien suchen. \nMessehostessen & Promoter für die interpack Düsseldorf \nUnser spezialisiertes Messepersonal in Düsseldorf ist optimal geschult und ausgerichtet auf die Anforderungen dieser technisch anspruchsvollen Fachmesse: \n\nAktive Besucheransprache & Produktdemonstrationen (DE/EN & weitere Sprachen)\nBetreuung von Maschinen-Vorführungen\, Live-Demos & Prozesspräsentationen\nKundengespräche mit internationalen Ausstellern & Fachdelegationen\nVerteilung von Katalogen\, Musterproben & technischem Infomaterial\nKompetentes\, serviceorientiertes und professionelles Auftreten\n\nOb Sie neue Verpackungslösungen\, maschinelle Innovationen oder nachhaltige Herstellungsprozesse präsentieren – unsere Hostessen & Promoter bei interpack Düsseldorf 2026 sorgen dafür\, dass Ihr Stand Eindruck macht. \nFull-Service für Ihren Messeauftritt \nMit FAIREVER erhalten Sie ein Komplettpaket für Ihren Auftritt: \n\nMessestandgestaltung & Branding\, abgestimmt auf Ihre Markenidentität und Technik\nAuswahl\, Briefing & Schulung Ihres Messepersonals\nPlanung und Durchführung von Demonstrationen\, Besucheraktivierungen & Promotionsmaßnahmen\nLogistik\, Koordination & Vor-Ort-Betreuung während der gesamten Messelaufzeit\nReporting & Nachbereitung zur Erfolgskontrolle\n\nWarum FAIREVER für interpack Düsseldorf 2026? \n\nLangjährige Erfahrung mit über hundert Messen jährlich – deutschlandweit & international\nSpezialisiert auf Industrie-\, Verpackungs- & Prozessmessen\nSchnelle & flexible Personalplanung\, auch bei kurzfristigen Anforderungen\nFaire Preise & transparente Kommunikation\nNachhaltigkeit & effiziente\, ressourcenorientierte Umsetzung als Kern unserer Planung\n\nJetzt Messepersonal für interpack Düsseldorf 2026 buchen! \nNutzen Sie die Gelegenheit\, Ihre Verpackungstechnologien\, Prozesslösungen & Materialien auf der interpack Düsseldorf 2026 (07.–13.05.2026) professionell zu präsentieren. FAIREVER stellt Ihnen das passende Messepersonal\, erfahrene Hostessen und kreatives Promotion Personal in Düsseldorf zur Seite\, damit Ihr Stand gesehen wird und Ihre Innovationen nachhaltig Eindruck hinterlassen. \nFAIREVER GmbH – fair. flexibel. nachhaltig.\nIhr Partner für Messepersonal\, Hostessen & Promotion in Düsseldorf – auf interpack 2026 und darüber hinaus. \n\n		Jetzt Anfrage stellen
URL:https://www.fairever-events.com/eventagentur/hostessen-und-standpersonal-interpack-duesseldorf-buchen/
LOCATION:Bayern
CATEGORIES:Messen in Düsseldorf
ATTACH;FMTTYPE=image/png:https://www.fairever-events.com/wp-content/uploads/2025/10/logo-interpack.png
END:VEVENT
BEGIN:VEVENT
DTSTART;VALUE=DATE:20260512
DTEND;VALUE=DATE:20260516
DTSTAMP:20260420T104912
CREATED:20251121T170949Z
LAST-MODIFIED:20251121T171044Z
UID:8161-1778544000-1778889599@www.fairever-events.com
SUMMARY:Messepersonal\, Hostessen & Promotion für die Interzoo 2026
DESCRIPTION:Bringen Sie Ihre Markenwelt zum Leben – auf der Interzoo 2026 in Nürnberg. Vom 12. bis 15. Mai 2026 öffnet die weltweit führende Fachmesse für Heimtierbedarf ihre Tore in der Metropolregion Nürnberg.\nMit FAIREVER buchen Sie professionelles Messe- und Promotion-Personal in Nürnberg\, das Ihre Produkte mit Leidenschaft präsentiert. Unsere erfahrenen Hostessen\, Promoter und Servicekräfte sowie unser umfassendes Full-Service-Paket sorgen dafür\, dass Ihr Messeauftritt vom ersten Kontakt bis zur Nachbereitung reibungslos und erfolgreich verläuft. \n\n		Fragen Sie jetzt an\n	\n\nInterzoo 2026 – Ihre Bühne für Heimtierprodukte\, Innovationen & Marktpotenziale \nAuf der Interzoo haben Sie die Gelegenheit\, Ihre Marke einem internationalen Fachpublikum aus der Heimtierbranche vorzustellen – Hersteller\, Händler\, Dienstleister und Entscheider. Besucher interessieren sich unter anderem für: \n\nHeimtiernahrung & ergänzende Futter-Produkte\nZubehör für Hunde\, Katzen\, Kleinsäuger\, Vögel sowie Aquaristik & Terraristik\nLaden- und Verpackungslösungen\, Technologie für Heimtierbedarf\nNachhaltigkeitstrends\, „Pet Tech“\, neue Services im Heimtiersegment\nMit FAIREVER Promotion-Personal gewinnen Sie die Aufmerksamkeit Ihrer Zielgruppe und steigern Ihre Markenbekanntheit nachhaltig.\n\nMessehostessen & Promotion-Personal für die Interzoo Nürnberg \nUnser geschultes Messe-Personal in Nürnberg ist exakt auf die Anforderungen der Interzoo abgestimmt. Wir bieten Ihnen: \n\nAktive Besucheransprache & Produktpräsentation (DE/EN & weitere Sprachen)\nUnterstützung bei Verkostungen\, Produktvorführungen & Fachpräsentationen im Heimtiersegment\nBetreuung internationaler Gäste\, Fachdelegationen & Handelspartner\nFreundliches\, serviceorientiertes Auftreten im Heimtier- und Verbrauchergeschäft\nOb Produktdemonstrationen\, Sampling oder Direktansprache am Stand – mit unseren Hostessen und Promotern wird Ihr Messestand zum Besuchermagneten.\n\nFull-Service für Ihren Messeauftritt \nFAIREVER unterstützt Sie nicht nur mit Messe- und Promotion-Personal\, sondern übernimmt auf Wunsch den kompletten Messe-Service: \n\nMessestandgestaltung & Branding im Einklang mit Ihrer Marke und Ihrer Zielgruppe\nAuswahl\, Briefing & Schulung des Messepersonals\nOrganisation von Aktionen\, Live-Demos\, Sampling & Live-Erlebnissen am Stand\nLogistik\, Koordination & Vor-Ort-Betreuung während der Messetage\nReporting & Nachbereitung zur Erfolgskontrolle\nSo können Sie sich voll auf Ihre Produkte\, Ihre Marke und Ihre Gespräche konzentrieren – wir kümmern uns um den Rest.\n\nWarum FAIREVER für die Interzoo 2026? \n\nErfahrung auf über 100 Messen jährlich – deutschlandweit\nSpezialisierung auf Food-\, Konsum- & Heimtier-Messen\nFlexible & schnelle Personalplanung\, auch kurzfristig\nFaire Preise & transparente Kommunikation\nNachhaltige Event- & Promotionplanung\n\nJetzt Messepersonal für die Interzoo 2026 buchen! \nNutzen Sie die Chance\, Ihre Marke auf der Interzoo 2026 in Nürnberg professionell und wirkungsvoll zu präsentieren. FAIREVER liefert Ihnen das passende Messepersonal\, erfahrene Hostessen und kreatives Promotion-Personal\, das Ihre Marke ins Rampenlicht rückt. \nFAIREVER GmbH – fair. flexibel. nachhaltig.\nIhr Partner für Messe-Personal\, Hostessen und Promotion in Nürnberg – auf der Interzoo 2026 und darüber hinaus. \n\n		Fragen Sie jetzt an
URL:https://www.fairever-events.com/eventagentur/messepersonal-interzoo/
LOCATION:Messe Nürnberg\, Messezentrum 1\, Nürnberg\, Bayern\, 90471\, Germany
CATEGORIES:Messen in Nürnberg
ATTACH;FMTTYPE=image/webp:https://www.fairever-events.com/wp-content/uploads/2025/11/interzoo-n-image-keyvisual-scaled.webp
END:VEVENT
END:VCALENDAR