BEGIN:VCALENDAR
VERSION:2.0
PRODID:-//FAIREVER - ECPv6.15.20//NONSGML v1.0//EN
CALSCALE:GREGORIAN
METHOD:PUBLISH
X-ORIGINAL-URL:https://www.fairever-events.com
X-WR-CALDESC:Veranstaltungen für FAIREVER
REFRESH-INTERVAL;VALUE=DURATION:PT1H
X-Robots-Tag:noindex
X-PUBLISHED-TTL:PT1H
BEGIN:VTIMEZONE
TZID:Europe/Berlin
BEGIN:DAYLIGHT
TZOFFSETFROM:+0100
TZOFFSETTO:+0200
TZNAME:CEST
DTSTART:20250330T010000
END:DAYLIGHT
BEGIN:STANDARD
TZOFFSETFROM:+0200
TZOFFSETTO:+0100
TZNAME:CET
DTSTART:20251026T010000
END:STANDARD
BEGIN:DAYLIGHT
TZOFFSETFROM:+0100
TZOFFSETTO:+0200
TZNAME:CEST
DTSTART:20260329T010000
END:DAYLIGHT
BEGIN:STANDARD
TZOFFSETFROM:+0200
TZOFFSETTO:+0100
TZNAME:CET
DTSTART:20261025T010000
END:STANDARD
BEGIN:DAYLIGHT
TZOFFSETFROM:+0100
TZOFFSETTO:+0200
TZNAME:CEST
DTSTART:20270328T010000
END:DAYLIGHT
BEGIN:STANDARD
TZOFFSETFROM:+0200
TZOFFSETTO:+0100
TZNAME:CET
DTSTART:20271031T010000
END:STANDARD
END:VTIMEZONE
BEGIN:VEVENT
DTSTART;VALUE=DATE:20260601
DTEND;VALUE=DATE:20260603
DTSTAMP:20260420T121722
CREATED:20250912T171429Z
LAST-MODIFIED:20250912T171429Z
UID:7647-1780272000-1780444799@www.fairever-events.com
SUMMARY:Messepersonal\, Hostessen & Promotion für die Smart Health Asia Berlin 2026
DESCRIPTION:Die Zukunft der digitalen Gesundheit verbindet Europa und Asien – auf der Smart Health Asia Berlin 2026. Vom 01. bis 02. Juli 2026 trifft sich in Berlin die internationale Gesundheits- und Technologiebranche\, um Innovationen aus den Bereichen eHealth\, MedTech und digitale Versorgungslösungen zu präsentieren. Mit FAIREVER sichern Sie sich professionelles Messepersonal in Berlin: Unsere erfahrenen Hostessen und Promoter sorgen dafür\, dass Ihre Marke bei Fachbesuchern\, internationalen Delegationen und Entscheidern nachhaltig im Fokus steht. \n\n		Jetzt Anfrage stellen\n	\n\nDie Smart Health Asia 2026 – Ihre Bühne für digitale Gesundheitslösungen \nDie Smart Health Asia in Berlin bringt internationale Experten\, Unternehmen und Start-ups zusammen\, die den digitalen Wandel im Gesundheitswesen gestalten. Themen und Schwerpunkte der Messe sind u. a.: \n\neHealth & digitale Patientenversorgung\nTelemedizin & mobile Health-Lösungen\nMedizintechnik & smarte Devices\nData Analytics\, KI & Cybersecurity im Gesundheitssektor\nInternationale Kooperationen zwischen Asien & Europa\n\nMit FAIREVER Promotion Personal erreichen Sie gezielt Fachpublikum\, Investoren und Entscheidungsträger. \nMessehostessen & Promoter für die Smart Health Asia Berlin 2026 \nUnser spezialisiertes Messepersonal für Berlin unterstützt Sie bei der optimalen Präsentation Ihrer Marke: \n\nAktive Ansprache & Produktpräsentation (DE/EN & asiatische Sprachen auf Anfrage)\nBetreuung internationaler Gäste\, Delegationen & Geschäftspartner\nUnterstützung bei Demos\, Präsentationen & Live-Technologievorführungen\nVerteilung von Informationsmaterial & qualifizierte Leadgenerierung\nSeriöses\, kompetentes & serviceorientiertes Auftreten\n\nOb Start-up oder etablierter Anbieter – unsere Hostessen und Promoter für die Smart Health Asia Berlin setzen Ihre Marke professionell in Szene. \nFull-Service für Ihren Messeauftritt \nMit FAIREVER erhalten Sie nicht nur erfahrenes Messepersonal in Berlin\, sondern auch ein maßgeschneidertes Full-Service-Angebot: \n\nMessestandgestaltung & Branding im Einklang mit Ihrer Marke\nAuswahl\, Schulung & Briefing des Messepersonals\nOrganisation von Promotionaktionen & Besucheraktivierungen\nLogistik\, Koordination & Vor-Ort-Betreuung während der Messe\nReporting & Nachbereitung zur Erfolgskontrolle\n\nSo können Sie sich voll auf Ihr Fachpublikum konzentrieren – wir übernehmen den Rest. \nWarum FAIREVER für die Smart Health Asia Berlin 2026? \n\nErfahrung auf über 100 Messen jährlich – deutschlandweit\nSpezialisierung auf Gesundheits-\, Digital- & Technologiemessen\nFlexible & schnelle Personalplanung\, auch kurzfristig\nFaire Preise & transparente Kommunikation\nNachhaltigkeit als fester Bestandteil unserer Eventplanung\n\nJetzt Messepersonal für die Smart Health Asia Berlin 2026 buchen! \nNutzen Sie die Gelegenheit\, Ihre Marke auf der Smart Health Asia Berlin 2026 professionell zu präsentieren. FAIREVER stellt Ihnen das passende Messepersonal\, Hostessen und Promotion Personal in Berlin zur Seite\, das Ihre Zielgruppe überzeugt und internationale Brücken baut. \nFAIREVER GmbH – fair. flexibel. nachhaltig.\nIhr Partner für Messepersonal\, Hostessen & Promotion in Berlin – auf der Smart Health Asia Berlin 2026 und darüber hinaus. \n\n		Jetzt Anfrage stellen
URL:https://www.fairever-events.com/eventagentur/messepersonal-hostessen-promotion-health-asia-berlin/
LOCATION:Messe Berlin\, Messedamm 22\, Berlin\, Berlin\, 14055\, Germany
CATEGORIES:Messen in Berlin
ATTACH;FMTTYPE=image/png:https://www.fairever-events.com/wp-content/uploads/2025/09/smarthealth-logo.png
END:VEVENT
BEGIN:VEVENT
DTSTART;VALUE=DATE:20260601
DTEND;VALUE=DATE:20260607
DTSTAMP:20260420T121722
CREATED:20250927T095623Z
LAST-MODIFIED:20251121T103829Z
UID:7759-1780272000-1780790399@www.fairever-events.com
SUMMARY:Messepersonal\, Hostessen & Promotion für INTERSCHUTZ Hannover 2026
DESCRIPTION:Sichern Sie Ihre Sichtbarkeit in der Sicherheitstechnik – auf der INTERSCHUTZ Hannover 2026. Vom 1. bis 6. Juni 2026 treffen sich in Hannover Experten aus Feuerwehr\, Rettungsdienst\, Bevölkerungsschutz und Sicherheitsinfrastruktur. Die INTERSCHUTZ ist die Weltleitmesse in diesen Bereichen. Mit FAIREVER buchen Sie professionelles Messepersonal in Hannover\, routinierte Hostessen und engagierte Promoter\, die Ihre Marke sicher positionieren – vom ersten Kontakt bis zur Nachbereitung. \n\n		Jetzt Anfrage stellen\n	\n\nINTERSCHUTZ 2026 – Ihre Bühne für Feuerwehr\, Rettungswesen & Bevölkerungsschutz \nDie INTERSCHUTZ 2026 steht unter dem Motto „Safeguarding Tomorrow“ und adressiert zentrale Herausforderungen wie Klimawandel\, innovative Technologien in Leitstellen und Echtzeit-Kommunikation\, Nachhaltigkeit\, sowie die enge Verzahnung von Zivilschutz\, Rettungsdiensten und vorbeugendem Brandschutz. \nWichtige Themenbereiche sind: \n\nFeuerwehrausrüstung\, Einsatztechnik & Schutzkleidung\nRettungsdienste\, Notfallrettung & Katastrophenschutz\nLeitstellen- und Kommunikationssysteme inkl. Digitaltechnik & KI\nVorbeugender Brandschutz & Schutzausrüstung\nInnovative Formate wie das WildfireCamp@INTERSCHUTZ zur Vegetationsbrandbekämpfung und Resilienz gegenüber Naturgefahren\n\nMit FAIREVER Promotion Personal profitieren Sie von direkter Kontaktmöglichkeit zu Entscheidungsträgern\, Einsatzkräften\, Behörden und Branchenführern. \nMessehostessen & Promoter für INTERSCHUTZ Hannover \nUnser spezialisiertes Messepersonal in Hannover erfüllt die hohen Ansprüche einer Leitmesse für Brand-\, Rettungs- und Bevölkerungsschutz mit Kompetenz und Verlässlichkeit. Wir bieten Ihnen: \n\nAktive Ansprache & Produktpräsentationen (DE/EN & weitere Sprachen)\nBetreuung von Fachbesuchern\, internationalen Delegationen & Einsatzkräften\nUnterstützung bei Vorführungen\, Demonstrationen & Technik-Präsentationen\nMaterialverteilung\, Prospekte & Informationsdienst rund um Sicherheitstechnik\nSauberes\, seriöses & serviceorientiertes Auftreten – mit technischer Affinität\n\nOb Sie neue Löschtechnik\, Rettungsgeräte\, digitale Leitstellenlösungen oder nachhaltige Ausrüstungen anbieten – unsere Hostessen und Promoter für INTERSCHUTZ Hannover 2026 machen Ihren Stand zum Anlaufpunkt. \nFull-Service für Ihren Messeauftritt \nFAIREVER bietet Ihnen ein umfassendes Leistungspaket für die INTERSCHUTZ 2026: \n\nMessestandgestaltung & Branding\, passend zu Ihren Produkten & Sicherheitslösungen\nAuswahl\, Briefing & Schulung des Messepersonals\nPlanung & Durchführung von Demonstrationen\, Produkt-Präsentationen & Besucheraktivierungen\nLogistik\, Koordination & Vor-Ort Betreuung während der gesamten Messezeit\nReporting & Nachbereitung zur Erfolgsmessung und Optimierung\n\nSo können Sie sich voll auf Ihre Innovation\, Ihre Technik und persönliche Gespräche konzentrieren – wir übernehmen den Rest. \nWarum FAIREVER für INTERSCHUTZ Hannover 2026? \n\nTiefgehende Erfahrung auf über 100 technisch orientierten Messen jährlich – deutschlandweit & international\nSpezialisierung auf Brand-\, Rettungs- & Sicherheitstechnik-Shows\nFlexible & schnelle Personalplanung\, auch kurzfristig\nFaire Preise & transparente Kommunikation\nNachhaltigkeit & Verantwortung als Kern unserer Event- und Promotionplanung\n\nJetzt Messepersonal für INTERSCHUTZ Hannover 2026 buchen! \nNutzen Sie die Gelegenheit\, Ihre Sicherheits- und Einsatztechniklösungen auf der INTERSCHUTZ 2026 professionell zu präsentieren. FAIREVER bietet Ihnen das passende Messepersonal\, erfahrene Hostessen und Promotion Personal in Hannover\, damit Ihre Innovationen gesehen\, gehört und geschätzt werden. \nFAIREVER GmbH – fair. flexibel. nachhaltig.\nIhr Partner für Messepersonal\, Hostessen & Promotion in Hannover – auf der INTERSCHUTZ 2026 und darüber hinaus. \n\n		Jetzt Anfrage stellen
URL:https://www.fairever-events.com/eventagentur/interschutz-messe-personal-service/
LOCATION:Messe Hannover\, Hermesallee\, Hannover\, 30521\, Germany
CATEGORIES:Messen in Hannover
ATTACH;FMTTYPE=image/jpeg:https://www.fairever-events.com/wp-content/uploads/2025/09/Logo-Interschutz.jpg
END:VEVENT
END:VCALENDAR