BEGIN:VCALENDAR
VERSION:2.0
PRODID:-//FAIREVER - ECPv6.15.20//NONSGML v1.0//EN
CALSCALE:GREGORIAN
METHOD:PUBLISH
X-WR-CALNAME:FAIREVER
X-ORIGINAL-URL:https://www.fairever-events.com
X-WR-CALDESC:Veranstaltungen für FAIREVER
REFRESH-INTERVAL;VALUE=DURATION:PT1H
X-Robots-Tag:noindex
X-PUBLISHED-TTL:PT1H
BEGIN:VTIMEZONE
TZID:Europe/Berlin
BEGIN:DAYLIGHT
TZOFFSETFROM:+0100
TZOFFSETTO:+0200
TZNAME:CEST
DTSTART:20250330T010000
END:DAYLIGHT
BEGIN:STANDARD
TZOFFSETFROM:+0200
TZOFFSETTO:+0100
TZNAME:CET
DTSTART:20251026T010000
END:STANDARD
BEGIN:DAYLIGHT
TZOFFSETFROM:+0100
TZOFFSETTO:+0200
TZNAME:CEST
DTSTART:20260329T010000
END:DAYLIGHT
BEGIN:STANDARD
TZOFFSETFROM:+0200
TZOFFSETTO:+0100
TZNAME:CET
DTSTART:20261025T010000
END:STANDARD
BEGIN:DAYLIGHT
TZOFFSETFROM:+0100
TZOFFSETTO:+0200
TZNAME:CEST
DTSTART:20270328T010000
END:DAYLIGHT
BEGIN:STANDARD
TZOFFSETFROM:+0200
TZOFFSETTO:+0100
TZNAME:CET
DTSTART:20271031T010000
END:STANDARD
END:VTIMEZONE
BEGIN:VEVENT
DTSTART;VALUE=DATE:20260609
DTEND;VALUE=DATE:20260612
DTSTAMP:20260420T121438
CREATED:20251001T124326Z
LAST-MODIFIED:20251001T124326Z
UID:7886-1780963200-1781222399@www.fairever-events.com
SUMMARY:Messepersonal\, Hostessen & Promotion für THE TIRE COLOGNE 2026
DESCRIPTION:Positionieren Sie Ihre Marke an der Spitze der Reifenbranche – auf der THE TIRE COLOGNE 2026. Vom 09. bis 11. Juni 2026 versammelt sich in Köln die internationale Reifen-\, Räder- und Auto-Aftermarket-Industrie. Mit FAIREVER buchen Sie professionelles Messepersonal in Köln\, erfahrene Hostessen und engagierte Promoter\, die Ihre Produkte und Innovationen sichtbar und überzeugend präsentieren – vom ersten Besucher bis zur Nachbereitung. \n\n		Nehmen Sie Kontakt auf!\n	\n\nTHE TIRE COLOGNE 2026 – Ihre Bühne für Reifen\, Räder & Mobilitätstrends \nTHE TIRE COLOGNE ist die zentrale Branchenmesse für Reifen\, Räder\, Werkstattausrüstung und Services rund um Fahrzeugwartung und Aftermarket. Teilnehmer gewinnen als Aussteller sichtbaren Zugang zu Lieferanten\, Werkstätten\, Reifenfachhändlern\, Logistikdienstleistern und Recycling-Optionen. Zu den Schwerpunktbereichen gehören: \n\nReifen & Räder: Pkw\, Lkw\, Spezialreifen & Felgensysteme\nWerkstattausstattung & Service: Hochkomponenten\, Diagnose-Tools\, Auswucht- & Montagesysteme\nRunderneuerung & Recycling: Verlängerung der Lebensdauer & nachhaltige Lösungen\nDigitalisierung & Aftermarket-Services: Flottenmanagement\, Datenplattformen\, Telematik etc.\nNachhaltigkeit & Innovation: Umweltfreundliche Materialien und Prozesse\, Kreislaufwirtschaftskonzepte\n\nMit FAIREVER Promotion Personal sprechen Sie direkt Entscheider\, Einkäufer\, Werkstattbetreiber und Branchenexperten an – die zentralen Zielgruppen für Wachstum und Innovation. \nMessehostessen & Promoter für THE TIRE COLOGNE 2026 \nUnser spezialisiertes Messepersonal in Köln kennt die Anforderungen dieser technisch anspruchsvollen und innovationsgetriebenen Branche genau. Wir bieten: \n\nAktive Besucheransprache & Produktpräsentation (DE/EN & weitere Sprachen)\nUnterstützung bei Live-Demonstrationen\, Felgen-Shows & Geräteeinsatz vor Ort\nBetreuung internationaler Gäste & Fachdelegationen\nVerteilung von Fachbroschüren\, Probemustern & technischem Informationsmaterial\nSeriöses\, technikaffines & serviceorientiertes Auftreten\n\nEgal ob Sie neue Reifenserien zeigen\, Räderdesigns präsentieren oder Werkstattlösungen vorstellen – unsere Hostessen und Promoter bei THE TIRE COLOGNE 2026 sorgen für einen Stand\, der einprägsam ist. \nFull-Service für Ihren Messeauftritt \nMit FAIREVER erhalten Sie nicht nur Personal\, sondern einen kompletten Messe-Auftritt: \n\nMessestandgestaltung & Branding\, abgestimmt auf Ihre Produktästhetik & Branchenanforderungen\nAuswahl\, Briefing & Schulung Ihres Messepersonals\nPlanung und Durchführung von Produktpräsentationen\, Besucheraktivierungen & Marketingaktionen\nLogistik\, Koordination & Vor-Ort-Betreuung während der Veranstaltung\nReporting & Nachbereitung zur Erfolgskontrolle und Optimierung\n\nSo können Sie sich ganz auf Ihre Produkte\, Gespräche und Innovation konzentrieren – wir übernehmen den Rest. \nWarum FAIREVER für THE TIRE COLOGNE 2026? \n\nErfahrung mit über 100 Messen jährlich – deutschlandweit & international\nSpezialisiert auf Automotive\, Reifen-\, Aftermarket- und Technikmessen\nSchnelle & flexible Personalplanung\, auch kurzfristig\nFaire Preise & transparente\, offene Kommunikation\nNachhaltigkeit & Innovation als zentrale Elemente unserer Event- und Promotion-Konzeption\n\nJetzt Messepersonal für THE TIRE COLOGNE 2026 buchen! \nNutzen Sie die Gelegenheit\, Ihre Reifen-\, Räder- und Aftermarket-Lösungen auf THE TIRE COLOGNE 2026 (09.–11.06.2026) professionell und wirkungsvoll zu präsentieren. FAIREVER stellt Ihnen das passende Messepersonal\, erfahrene Hostessen und Promotion Personal in Köln zur Verfügung\, damit Ihre Marke sichtbar wird und Eindruck hinterlässt. \nFAIREVER GmbH – fair. flexibel. nachhaltig.\nIhr Partner für Messepersonal\, Hostessen & Promotion in Köln – auf THE TIRE COLOGNE 2026 und darüber hinaus. \n\n		Nehmen Sie Kontakt auf!
URL:https://www.fairever-events.com/eventagentur/messepersonal-hostessen-promotion-fuer-the-tire-cologne/
LOCATION:Messe Köln\, Messeplatz 1\, Köln\, NRW\, 50679\, Germany
CATEGORIES:Messen in Köln
ATTACH;FMTTYPE=image/jpeg:https://www.fairever-events.com/wp-content/uploads/2025/10/ttc_2020_logo_1200x630.jpg
END:VEVENT
END:VCALENDAR