BEGIN:VCALENDAR
VERSION:2.0
PRODID:-//FAIREVER - ECPv6.15.20//NONSGML v1.0//EN
CALSCALE:GREGORIAN
METHOD:PUBLISH
X-ORIGINAL-URL:https://www.fairever-events.com
X-WR-CALDESC:Veranstaltungen für FAIREVER
REFRESH-INTERVAL;VALUE=DURATION:PT1H
X-Robots-Tag:noindex
X-PUBLISHED-TTL:PT1H
BEGIN:VTIMEZONE
TZID:Europe/Berlin
BEGIN:DAYLIGHT
TZOFFSETFROM:+0100
TZOFFSETTO:+0200
TZNAME:CEST
DTSTART:20250330T010000
END:DAYLIGHT
BEGIN:STANDARD
TZOFFSETFROM:+0200
TZOFFSETTO:+0100
TZNAME:CET
DTSTART:20251026T010000
END:STANDARD
BEGIN:DAYLIGHT
TZOFFSETFROM:+0100
TZOFFSETTO:+0200
TZNAME:CEST
DTSTART:20260329T010000
END:DAYLIGHT
BEGIN:STANDARD
TZOFFSETFROM:+0200
TZOFFSETTO:+0100
TZNAME:CET
DTSTART:20261025T010000
END:STANDARD
BEGIN:DAYLIGHT
TZOFFSETFROM:+0100
TZOFFSETTO:+0200
TZNAME:CEST
DTSTART:20270328T010000
END:DAYLIGHT
BEGIN:STANDARD
TZOFFSETFROM:+0200
TZOFFSETTO:+0100
TZNAME:CET
DTSTART:20271031T010000
END:STANDARD
END:VTIMEZONE
BEGIN:VEVENT
DTSTART;VALUE=DATE:20260610
DTEND;VALUE=DATE:20260615
DTSTAMP:20260420T121802
CREATED:20240107T180001Z
LAST-MODIFIED:20260329T083711Z
UID:6325-1781049600-1781481599@www.fairever-events.com
SUMMARY:Messepersonal\, Hostessen & Promotion für die ILA Berlin 2026
DESCRIPTION:Nutzen Sie die Bühne der internationalen Luft- und Raumfahrtbranche – auf der ILA Berlin in Berlin. Die ILA zählt zu den wichtigsten Aerospace-Messen weltweit und bringt führende Unternehmen\, politische Entscheider und Fachbesucher aus aller Welt zusammen. \n\n		Fragen Sie jetzt an\n	\n\nMit FAIREVER buchen Sie professionelles Messepersonal in Berlin\, das Ihre Technologien\, Produkte und Innovationen souverän präsentiert und gezielt hochwertige Geschäftskontakte unterstützt. \nDie ILA Berlin – Hightech\, Innovation & internationale Entscheider \nDie ILA ist eine der bedeutendsten Plattformen für: • Luftfahrt & Raumfahrttechnologien • Verteidigung & Sicherheit • Satelliten\, New Space & Innovationen • Zulieferindustrie & Hightech-Komponenten • Politische Delegationen & internationale Fachbesucher \nHier entstehen Partnerschaften\, nicht nur Gespräche. \nMessehostessen & Fachpersonal für die ILA Berlin \nUnser speziell geschultes Messepersonal ist auf anspruchsvolle B2B-Umfelder vorbereitet: \n\nProfessionelle Betreuung internationaler Geschäftspartner • Mehrsprachige Kommunikation (EN\, FR\, ES u. a.) • Unterstützung bei technischen Präsentationen • Lead-Erfassung & Terminmanagement • VIP- & Delegationsbetreuung auf höchstem Niveau\n\nIdeal für Aerospace\, Defence und Technologieunternehmen. \nFull-Service für Ihren Messeauftritt auf der ILA \nFAIREVER bietet Ihnen mehr als Personal: \n\nAuswahl & Briefing von qualifizierten Hostessen • Koordination von Meetings & Geschäftsterminen • Unterstützung bei Standorganisation & Abläufen • Betreuung während der gesamten Messe • Reporting & strukturierte Nachbereitung\n\nWarum FAIREVER für die ILA Berlin? \n\nErfahrung auf internationalen B2B-Fachmessen • Verständnis für erklärungsbedürftige Hightech-Produkte • Diskretes\, professionelles Auftreten • Flexible & kurzfristige Einsatzplanung\n\nJetzt Messepersonal für die ILA Berlin 2026 buchen \nPositionieren Sie Ihr Unternehmen erfolgreich auf der ILA Berlin – mit erfahrenem Messepersonal\, professionellen Hostessen und gezielter Unterstützung für Ihre Vertriebs- und Networking-Ziele. \nFAIREVER GmbH – fair. flexibel. nachhaltig. Ihr Partner für Messepersonal\, Hostessen und Promotion in Berlin – auf der ILA und darüber hinaus.
URL:https://www.fairever-events.com/eventagentur/ila-berlin-hostessen-messepersonal/
LOCATION:Messe Berlin\, Messedamm 22\, Berlin\, Berlin\, 14055\, Germany
CATEGORIES:Messen in Berlin
ATTACH;FMTTYPE=image/png:https://www.fairever-events.com/wp-content/uploads/2024/01/ILA_2022_Logo_sRGB_web_positiv_blau.png
END:VEVENT
END:VCALENDAR