BEGIN:VCALENDAR
VERSION:2.0
PRODID:-//FAIREVER - ECPv6.15.20//NONSGML v1.0//EN
CALSCALE:GREGORIAN
METHOD:PUBLISH
X-WR-CALNAME:FAIREVER
X-ORIGINAL-URL:https://www.fairever-events.com
X-WR-CALDESC:Veranstaltungen für FAIREVER
REFRESH-INTERVAL;VALUE=DURATION:PT1H
X-Robots-Tag:noindex
X-PUBLISHED-TTL:PT1H
BEGIN:VTIMEZONE
TZID:Europe/Berlin
BEGIN:DAYLIGHT
TZOFFSETFROM:+0100
TZOFFSETTO:+0200
TZNAME:CEST
DTSTART:20250330T010000
END:DAYLIGHT
BEGIN:STANDARD
TZOFFSETFROM:+0200
TZOFFSETTO:+0100
TZNAME:CET
DTSTART:20251026T010000
END:STANDARD
BEGIN:DAYLIGHT
TZOFFSETFROM:+0100
TZOFFSETTO:+0200
TZNAME:CEST
DTSTART:20260329T010000
END:DAYLIGHT
BEGIN:STANDARD
TZOFFSETFROM:+0200
TZOFFSETTO:+0100
TZNAME:CET
DTSTART:20261025T010000
END:STANDARD
BEGIN:DAYLIGHT
TZOFFSETFROM:+0100
TZOFFSETTO:+0200
TZNAME:CEST
DTSTART:20270328T010000
END:DAYLIGHT
BEGIN:STANDARD
TZOFFSETFROM:+0200
TZOFFSETTO:+0100
TZNAME:CET
DTSTART:20271031T010000
END:STANDARD
END:VTIMEZONE
BEGIN:VEVENT
DTSTART;VALUE=DATE:20260620
DTEND;VALUE=DATE:20260629
DTSTAMP:20260421T022200
CREATED:20240113T084345Z
LAST-MODIFIED:20260420T165815Z
UID:6445-1781913600-1782691199@www.fairever-events.com
SUMMARY:Messepersonal\, Hostessen & Promotion für die IdeenExpo Hannover 2026
DESCRIPTION:Nutzen Sie Europas größtes Jugend-Event für Technik und Naturwissenschaften – die IdeenExpo in Hannover. Die Veranstaltung bringt Unternehmen\, Forschungseinrichtungen\, Hochschulen und hunderttausende junge Besucher zusammen und bietet ideale Voraussetzungen für Employer Branding\, Nachwuchsgewinnung und Markenpräsenz. \nMit FAIREVER buchen Sie professionelles Messepersonal in Hannover\, das Ihre Technologien\, Ausbildungsangebote und Karrierechancen aktiv\, verständlich und zielgruppengerecht präsentiert. \n\n		Fragen Sie jetzt an\n	\n\nDie IdeenExpo – Nachwuchs\, Innovation & interaktive Erlebnisse \nDie IdeenExpo ist Europas größtes Event für Technik und Naturwissenschaften und findet alle zwei Jahre auf dem Messegelände Hannover statt. \nVom 20. bis 28. Juni 2026 erleben Besucher auf über 100.000 m² eine einzigartige Kombination aus Mitmach-Exponaten\, Workshops und Live-Programmen. \nZiel der Veranstaltung ist es\, junge Menschen für MINT-Berufe zu begeistern und ihnen konkrete Karriereperspektiven aufzuzeigen. \nIm Fokus stehen: • Technik & Naturwissenschaften zum Anfassen • Ausbildungsberufe & Studienmöglichkeiten • Digitalisierung\, Gaming & neue Technologien • Interaktive Experimente & Workshops • Karriereorientierung & Nachwuchsgewinnung \nDie IdeenExpo verbindet Information\, Erlebnis und direkte Interaktion – ideal für Unternehmen\, die Fachkräfte von morgen erreichen wollen. \nMessehostessen & Promotionpersonal für die IdeenExpo \nUnser Messepersonal ist speziell auf publikumsstarke Events mit jungen Zielgruppen und hohem Interaktionsbedarf vorbereitet: \n\nAktive Ansprache von Schülern\, Studierenden & jungen Talenten • Unterstützung bei Mitmach-Stationen & interaktiven Exponaten • Vermittlung von Ausbildungs- und Karrieremöglichkeiten • Betreuung von Besucherströmen & Eventflächen • Durchführung von Promotion-Aktionen & Aktivierungen\n\nIdeal für Unternehmen aus Industrie\, Technologie\, Forschung und Bildung. \nFull-Service für Ihren Messeauftritt in Hannover \nFAIREVER unterstützt Sie ganzheitlich bei Ihrem Auftritt auf der IdeenExpo: \n\nAuswahl von kommunikationsstarkem\, zielgruppensicherem Personal • Briefing auf Inhalte\, Ausbildungsangebote & Arbeitgebermarke • Unterstützung bei interaktiven Formaten & Standaktionen • Strukturierung von Besucherströmen & Standorganisation • Reporting & Nachbereitung Ihrer Kontakte\n\nSo maximieren Sie Aufmerksamkeit\, Interaktion und nachhaltige Kontakte zu potenziellen Nachwuchskräften. \nWarum FAIREVER für die IdeenExpo Hannover? \n\nErfahrung auf publikumsstarken Events & Recruiting-Messen • Aktives\, sympathisches und zielgruppennahes Personal • Verständnis für erklärungsbedürftige Inhalte • Flexible Teams – auch bei hohem Besucherandrang\n\nJetzt Messepersonal für die IdeenExpo 2026 buchen \nPositionieren Sie Ihr Unternehmen erfolgreich auf der IdeenExpo Hannover – mit professionellen Hostessen\, erfahrenem Promotionpersonal und gezielter Unterstützung für Ihre Recruiting- und Marketingziele. \nFAIREVER GmbH – fair. flexibel. nachhaltig. Ihr Partner für Messepersonal\, Hostessen und Promotion in Hannover – auf der IdeenExpo und darüber hinaus.
URL:https://www.fairever-events.com/eventagentur/ideenexpo-hannover-messe-hostess-agentur/
LOCATION:Messe Hannover\, Hermesallee\, Hannover\, 30521\, Germany
CATEGORIES:Messen in Hannover
ATTACH;FMTTYPE=image/jpeg:https://www.fairever-events.com/wp-content/uploads/2024/01/Ideenexpo_logo_ohne_Jahreszahl_HKS10_fh.jpg
END:VEVENT
END:VCALENDAR