BEGIN:VCALENDAR
VERSION:2.0
PRODID:-//FAIREVER - ECPv6.15.20//NONSGML v1.0//EN
CALSCALE:GREGORIAN
METHOD:PUBLISH
X-WR-CALNAME:FAIREVER
X-ORIGINAL-URL:https://www.fairever-events.com
X-WR-CALDESC:Veranstaltungen für FAIREVER
REFRESH-INTERVAL;VALUE=DURATION:PT1H
X-Robots-Tag:noindex
X-PUBLISHED-TTL:PT1H
BEGIN:VTIMEZONE
TZID:Europe/Berlin
BEGIN:DAYLIGHT
TZOFFSETFROM:+0100
TZOFFSETTO:+0200
TZNAME:CEST
DTSTART:20250330T010000
END:DAYLIGHT
BEGIN:STANDARD
TZOFFSETFROM:+0200
TZOFFSETTO:+0100
TZNAME:CET
DTSTART:20251026T010000
END:STANDARD
BEGIN:DAYLIGHT
TZOFFSETFROM:+0100
TZOFFSETTO:+0200
TZNAME:CEST
DTSTART:20260329T010000
END:DAYLIGHT
BEGIN:STANDARD
TZOFFSETFROM:+0200
TZOFFSETTO:+0100
TZNAME:CET
DTSTART:20261025T010000
END:STANDARD
BEGIN:DAYLIGHT
TZOFFSETFROM:+0100
TZOFFSETTO:+0200
TZNAME:CEST
DTSTART:20270328T010000
END:DAYLIGHT
BEGIN:STANDARD
TZOFFSETFROM:+0200
TZOFFSETTO:+0100
TZNAME:CET
DTSTART:20271031T010000
END:STANDARD
END:VTIMEZONE
BEGIN:VEVENT
DTSTART;VALUE=DATE:20260826
DTEND;VALUE=DATE:20260831
DTSTAMP:20260420T153225
CREATED:20250508T173604Z
LAST-MODIFIED:20251001T130157Z
UID:7200-1787702400-1788134399@www.fairever-events.com
SUMMARY:Messepersonal\, Hostessen & Promotion für gamescom Köln 2026
DESCRIPTION:Verleihen Sie Ihrer Gaming-Marke Sichtbarkeit – auf der gamescom Köln 2026 \nVom 26. bis 30. August 2026\, mit der spektakulären Opening Night Live am 25. August\, wird Köln erneut zum globalen Mittelpunkt der Gaming-Szene. Mit FAIREVER buchen Sie professionelles Messepersonal in Köln – erfahrene Hostessen und engagierte Promoter\, die Ihre Spiele\, Hardware und Innovationen eindrucksvoll und publikumswirksam präsentieren\, vom ersten Messetag bis zur Nachbereitung. \n\n		Nehmen Sie Kontakt auf!\n	\n\ngamescom 2026 – Ihre Bühne für Spiele\, Hardware & Gaming-Kultur\nDie gamescom ist Europas größte Gaming-Messe und vereint Fachbesucher\, Entwickler\, Publisher und Gaming-Fans unter einem Dach. Schwerpunkte der Messe sind: \n\nHardware & Peripherie (PC\, Konsolen\, Zubehör)\nSpiele-Ankündigungen\, Neuerscheinungen & Indie-Produktionen\neSports\, Streaming\, Community Events & Live Shows\nMerchandise\, Gaming Culture & Lifestyle\nB2B-Bereiche: Business\, Entwicklerkonferenzen\, Technologiepartnerschaften\n\nMessehostessen & Promoter für die gamescom Köln 2026\nUnser spezialisiertes Messepersonal in Köln versteht die Dynamik der Gaming-Branche und unterstützt Sie mit: \n\nAktiver Besucheransprache & Produktvorstellung (DE/EN & weitere Sprachen)\nBetreuung bei Live-Demos\, Spiele-Sessions & Präsentationen\nUnterstützung bei Events wie Wettbewerben\, Cosplay & Showcases\nVerteilung von Merch\, Katalogen & Infomaterialien\nFreundlichem\, energiegeladenem & publikumsnahem Auftreten\n\nOb durchdachtes Spieledesign\, spektakuläre Trailer oder Gaming-Hardware – mit unseren Hostessen und Promotern wird Ihr Stand auf der gamescom Köln 2026 zum Publikumsmagnet. \nFull-Service für Ihren Messeauftritt\nFAIREVER bietet Ihnen eine Rundum-Betreuung\, damit Sie sich auf Ihre Marke konzentrieren können: \n\nMessestandgestaltung & Branding passend zu Ihrem Gaming-Style\nAuswahl\, Briefing & Schulung des Personals nach Ihren Anforderungen\nPlanung & Durchführung von Aktionen\, Produkttests & Besucheraktivierungen\nLogistik\, Koordination & Vor-Ort-Betreuung während der gesamten Messe\nReporting & Nachbereitung zur Erfolgskontrolle\n\nWarum FAIREVER für die gamescom Köln 2026?\n\nMehr als 100 Messen jährlich – deutschlandweit & international\nSpezialisiert auf Gaming\, Technik & Entertainment-Events\nFlexible & schnelle Personalplanung\, auch kurzfristig\nFaire Preise & transparente Kommunikation\nNachhaltige Event- und Promotionplanung\n\nJetzt Messepersonal für die gamescom Köln 2026 buchen!\nNutzen Sie die Gelegenheit\, Ihre Spiele\, Hardware & Gaming-Innovationen auf der gamescom Köln 2026 (26.–30. August 2026) professionell und wirkungsvoll zu präsentieren. FAIREVER stellt Ihnen das passende Messepersonal\, erfahrene Hostessen und engagiertes Promotion-Personal in Köln zur Seite\, damit Ihr Stand Eindruck macht und Ihr Publikum begeistert. \nFAIREVER GmbH – fair. flexibel. nachhaltig.\nIhr Partner für Messepersonal\, Hostessen & Promotion in Köln – auf der gamescom 2026 und darüber hinaus. \n\n		Nehmen Sie Kontakt auf!
URL:https://www.fairever-events.com/eventagentur/gamescom-messepersonal-hostessen-promotion/
LOCATION:Messe Köln\, Messeplatz 1\, Köln\, NRW\, 50679\, Germany
CATEGORIES:Messen in Köln
ATTACH;FMTTYPE=image/jpeg:https://www.fairever-events.com/wp-content/uploads/2025/05/gamescom_logo_1200x675.jpg
END:VEVENT
END:VCALENDAR