BEGIN:VCALENDAR
VERSION:2.0
PRODID:-//FAIREVER - ECPv6.15.20//NONSGML v1.0//EN
CALSCALE:GREGORIAN
METHOD:PUBLISH
X-ORIGINAL-URL:https://www.fairever-events.com
X-WR-CALDESC:Veranstaltungen für FAIREVER
REFRESH-INTERVAL;VALUE=DURATION:PT1H
X-Robots-Tag:noindex
X-PUBLISHED-TTL:PT1H
BEGIN:VTIMEZONE
TZID:Europe/Berlin
BEGIN:DAYLIGHT
TZOFFSETFROM:+0100
TZOFFSETTO:+0200
TZNAME:CEST
DTSTART:20250330T010000
END:DAYLIGHT
BEGIN:STANDARD
TZOFFSETFROM:+0200
TZOFFSETTO:+0100
TZNAME:CET
DTSTART:20251026T010000
END:STANDARD
BEGIN:DAYLIGHT
TZOFFSETFROM:+0100
TZOFFSETTO:+0200
TZNAME:CEST
DTSTART:20260329T010000
END:DAYLIGHT
BEGIN:STANDARD
TZOFFSETFROM:+0200
TZOFFSETTO:+0100
TZNAME:CET
DTSTART:20261025T010000
END:STANDARD
BEGIN:DAYLIGHT
TZOFFSETFROM:+0100
TZOFFSETTO:+0200
TZNAME:CEST
DTSTART:20270328T010000
END:DAYLIGHT
BEGIN:STANDARD
TZOFFSETFROM:+0200
TZOFFSETTO:+0100
TZNAME:CET
DTSTART:20271031T010000
END:STANDARD
END:VTIMEZONE
BEGIN:VEVENT
DTSTART;VALUE=DATE:20260915
DTEND;VALUE=DATE:20260921
DTSTAMP:20260421T001103
CREATED:20240113T100608Z
LAST-MODIFIED:20260420T165745Z
UID:6466-1789430400-1789948799@www.fairever-events.com
SUMMARY:Messepersonal\, Hostessen & Promotion für die IAA Transportation Hannover 2026
DESCRIPTION:Nutzen Sie die weltweit führende Plattform für Nutzfahrzeuge\, Transport und Logistik – die IAA Transportation in Hannover. Die Leitmesse bringt Hersteller\, Zulieferer\, Logistikunternehmen und Entscheider aus aller Welt zusammen und bietet ideale Voraussetzungen für hochwertige B2B-Kontakte. \nMit FAIREVER buchen Sie professionelles Messepersonal in Hannover\, das Ihre Fahrzeuge\, Technologien und Dienstleistungen kompetent präsentiert und gezielt Ihre Geschäftsanbahnung unterstützt. \n\n		Fragen Sie jetzt an\n	\n\nDie IAA Transportation – Innovation\, Mobilität & internationale Entscheider \nDie IAA Transportation ist die weltweit wichtigste Fachmesse für Nutzfahrzeuge\, Logistik und Transportlösungen und findet vom 15. bis 20. September 2026 in Hannover statt. \nAls globale Leitplattform vereint sie die gesamte Wertschöpfungskette der Transportbranche – von Fahrzeugherstellern über Zulieferer bis hin zu Technologie- und Logistikanbietern. \nIm Fokus stehen: • Nutzfahrzeuge\, Lkw & Busse • Logistiklösungen & Supply Chain Innovation • Elektromobilität\, alternative Antriebe & Wasserstoff • Ladeinfrastruktur & nachhaltige Transportkonzepte • Digitalisierung\, Vernetzung & autonome Systeme \nDie Messe gilt als zentraler Treffpunkt der internationalen Transport- und Logistikbranche und setzt Maßstäbe für die Zukunft der Mobilität. \nMessehostessen & Fachpersonal für die IAA Transportation \nUnser speziell geschultes Messepersonal ist auf technisch anspruchsvolle B2B-Messen und internationale Fachbesucher vorbereitet: \n\nProfessionelle Betreuung internationaler Geschäftspartner • Mehrsprachige Kommunikation (EN\, DE\, weitere Sprachen auf Anfrage) • Unterstützung bei erklärungsbedürftigen Technologien & Fahrzeuglösungen • Lead-Erfassung & strukturierte Gesprächsführung • Unterstützung bei Meetings\, Präsentationen & Live-Demos\n\nIdeal für OEMs\, Zulieferer\, Logistikunternehmen und Technologieanbieter. \nFull-Service für Ihren Messeauftritt in Hannover \nFAIREVER bietet Ihnen umfassende Unterstützung für einen erfolgreichen Messeauftritt: \n\nAuswahl & Briefing von qualifiziertem Fachpersonal • Vorbereitung auf komplexe Produkte & internationale Zielgruppen • Unterstützung bei Standorganisation & Ablaufkoordination • Koordination von B2B-Terminen & Geschäftsgesprächen • Reporting & strukturierte Nachbereitung Ihrer Leads\n\nSo wird Ihr Messeauftritt effizient\, professionell und messbar erfolgreich. \nWarum FAIREVER für die IAA Transportation Hannover? \n\nErfahrung auf internationalen Automotive- und B2B-Messen • Verständnis für erklärungsbedürftige Hightech- und Fahrzeuglösungen • Souveränes Auftreten im internationalen Geschäftsumfeld • Flexible & kurzfristige Einsatzplanung\n\nJetzt Messepersonal für die IAA Transportation 2026 buchen \nPositionieren Sie Ihr Unternehmen erfolgreich auf der IAA Transportation Hannover – mit erfahrenem Messepersonal\, professionellen Hostessen und gezielter Unterstützung für Ihre Vertriebs- und Networking-Ziele. \nFAIREVER GmbH – fair. flexibel. nachhaltig. Ihr Partner für Messepersonal\, Hostessen und Promotion in Hannover – auf der IAA Transportation und darüber hinaus.
URL:https://www.fairever-events.com/eventagentur/iaa-hannover-messe-hostessen-agentur/
LOCATION:Messe Hannover\, Hermesallee\, Hannover\, 30521\, Germany
CATEGORIES:Messen in Hannover
ATTACH;FMTTYPE=image/png:https://www.fairever-events.com/wp-content/uploads/2024/01/iaa-transportation-logo.png
END:VEVENT
END:VCALENDAR