BEGIN:VCALENDAR
VERSION:2.0
PRODID:-//FAIREVER - ECPv6.15.20//NONSGML v1.0//EN
CALSCALE:GREGORIAN
METHOD:PUBLISH
X-WR-CALNAME:FAIREVER
X-ORIGINAL-URL:https://www.fairever-events.com
X-WR-CALDESC:Veranstaltungen für FAIREVER
REFRESH-INTERVAL;VALUE=DURATION:PT1H
X-Robots-Tag:noindex
X-PUBLISHED-TTL:PT1H
BEGIN:VTIMEZONE
TZID:Europe/Berlin
BEGIN:DAYLIGHT
TZOFFSETFROM:+0100
TZOFFSETTO:+0200
TZNAME:CEST
DTSTART:20250330T010000
END:DAYLIGHT
BEGIN:STANDARD
TZOFFSETFROM:+0200
TZOFFSETTO:+0100
TZNAME:CET
DTSTART:20251026T010000
END:STANDARD
BEGIN:DAYLIGHT
TZOFFSETFROM:+0100
TZOFFSETTO:+0200
TZNAME:CEST
DTSTART:20260329T010000
END:DAYLIGHT
BEGIN:STANDARD
TZOFFSETFROM:+0200
TZOFFSETTO:+0100
TZNAME:CET
DTSTART:20261025T010000
END:STANDARD
BEGIN:DAYLIGHT
TZOFFSETFROM:+0100
TZOFFSETTO:+0200
TZNAME:CEST
DTSTART:20270328T010000
END:DAYLIGHT
BEGIN:STANDARD
TZOFFSETFROM:+0200
TZOFFSETTO:+0100
TZNAME:CET
DTSTART:20271031T010000
END:STANDARD
END:VTIMEZONE
BEGIN:VEVENT
DTSTART;VALUE=DATE:20260922
DTEND;VALUE=DATE:20260926
DTSTAMP:20260420T170832
CREATED:20240107T192701Z
LAST-MODIFIED:20260330T192635Z
UID:6336-1790035200-1790380799@www.fairever-events.com
SUMMARY:Messepersonal\, Hostessen & Promotion für die InnoTrans Berlin 2026
DESCRIPTION:Präsentieren Sie Ihre Lösungen auf der weltweit führenden Fachmesse für Verkehrstechnik – der InnoTrans in Berlin. \nDie InnoTrans ist der zentrale Treffpunkt für Unternehmen aus Bahn-\, Infrastruktur- und Mobilitätssektor. Hier begegnen sich Hersteller\, Betreiber und politische Entscheider aus aller Welt. \n\n		Fragen Sie jetzt an\n	\n\nMit FAIREVER buchen Sie professionelles Messepersonal in Berlin\, das Ihre Produkte kompetent präsentiert und Ihre Vertriebsprozesse gezielt unterstützt. \nDie InnoTrans – internationale Plattform für Mobilität & Infrastruktur \nDie Messe vereint: • Schienenfahrzeuge & Bahntechnologie • Infrastruktur\, Tunnelbau & Verkehrssysteme • Public Transport & Mobility Solutions • Digitalisierung & intelligente Verkehrssysteme • Internationale Fachbesucher & Delegationen \nHier geht es um Projekte\, Partnerschaften und langfristige Geschäftsbeziehungen. \nMessehostessen & Fachpersonal für die InnoTrans Berlin \nUnser Messepersonal ist auf anspruchsvolle B2B-Fachmessen spezialisiert: \n\nBetreuung internationaler Geschäftspartner & Delegationen • Mehrsprachige Kommunikation (EN\, FR\, ES u. a.) • Unterstützung bei Fachgesprächen & Präsentationen • Lead-Erfassung & Terminorganisation • Professionelles Auftreten im technischen Umfeld\n\nIdeal für Unternehmen aus Bahn\, Infrastruktur und Mobility. \nFull-Service für Ihren Messeauftritt auf der InnoTrans \nFAIREVER unterstützt Sie ganzheitlich: \n\nAuswahl & Briefing qualifizierter Hostessen • Koordination von Meetings & Geschäftsterminen • Unterstützung bei Standorganisation & Abläufen • Betreuung während der gesamten Messe • Reporting & strukturierte Nachbereitung\n\nWarum FAIREVER für die InnoTrans Berlin? \n\nErfahrung auf internationalen B2B-Technologiemessen • Verständnis für komplexe Produkte & lange Sales-Zyklen • Diskretes\, professionelles Auftreten • Flexible & kurzfristige Einsatzplanung\n\nJetzt Messepersonal für die InnoTrans Berlin 2026 buchen \nNutzen Sie die InnoTrans als Plattform für nachhaltige Geschäftsentwicklung – mit erfahrenem Messepersonal\, professionellen Hostessen und gezielter Unterstützung für Ihre Vertriebsziele. \nFAIREVER GmbH – fair. flexibel. nachhaltig. Ihr Partner für Messepersonal\, Hostessen und Promotion in Berlin – auf der InnoTrans und darüber hinaus.
URL:https://www.fairever-events.com/eventagentur/innotrans-messe-hostessen/
LOCATION:Messe Berlin\, Messedamm 22\, Berlin\, Berlin\, 14055\, Germany
CATEGORIES:Messen in Berlin
ATTACH;FMTTYPE=image/jpeg:https://www.fairever-events.com/wp-content/uploads/2024/01/InnoTrans-2024-Berlin-Germany.jpg
END:VEVENT
END:VCALENDAR