BEGIN:VCALENDAR
VERSION:2.0
PRODID:-//FAIREVER - ECPv6.15.20//NONSGML v1.0//EN
CALSCALE:GREGORIAN
METHOD:PUBLISH
X-WR-CALNAME:FAIREVER
X-ORIGINAL-URL:https://www.fairever-events.com
X-WR-CALDESC:Veranstaltungen für FAIREVER
REFRESH-INTERVAL;VALUE=DURATION:PT1H
X-Robots-Tag:noindex
X-PUBLISHED-TTL:PT1H
BEGIN:VTIMEZONE
TZID:Europe/Berlin
BEGIN:DAYLIGHT
TZOFFSETFROM:+0100
TZOFFSETTO:+0200
TZNAME:CEST
DTSTART:20250330T010000
END:DAYLIGHT
BEGIN:STANDARD
TZOFFSETFROM:+0200
TZOFFSETTO:+0100
TZNAME:CET
DTSTART:20251026T010000
END:STANDARD
BEGIN:DAYLIGHT
TZOFFSETFROM:+0100
TZOFFSETTO:+0200
TZNAME:CEST
DTSTART:20260329T010000
END:DAYLIGHT
BEGIN:STANDARD
TZOFFSETFROM:+0200
TZOFFSETTO:+0100
TZNAME:CET
DTSTART:20261025T010000
END:STANDARD
BEGIN:DAYLIGHT
TZOFFSETFROM:+0100
TZOFFSETTO:+0200
TZNAME:CEST
DTSTART:20270328T010000
END:DAYLIGHT
BEGIN:STANDARD
TZOFFSETFROM:+0200
TZOFFSETTO:+0100
TZNAME:CET
DTSTART:20271031T010000
END:STANDARD
END:VTIMEZONE
BEGIN:VEVENT
DTSTART;VALUE=DATE:20261012
DTEND;VALUE=DATE:20261015
DTSTAMP:20260420T184759
CREATED:20250505T101202Z
LAST-MODIFIED:20260330T193243Z
UID:7157-1791763200-1792022399@www.fairever-events.com
SUMMARY:Messepersonal\, Hostessen & Promotion für den Bar Convent Berlin 2026
DESCRIPTION:Präsentieren Sie Ihre Marke auf einem der wichtigsten Treffpunkte der internationalen Bar- und Getränkeindustrie – dem Bar Convent Berlin in Berlin. \n\n		Jetzt Anfrage stellen\n	\n\nDer Bar Convent Berlin (BCB) vereint führende Spirituosenmarken\, Bartender\, Distributoren und Branchenexperten aus aller Welt. Hier entstehen Trends\, Kooperationen und Marken\, die im Gedächtnis bleiben. \nMit FAIREVER buchen Sie professionelles Messepersonal in Berlin\, das Ihre Marke authentisch repräsentiert und für echte Aufmerksamkeit am Stand sorgt. \nDer Bar Convent Berlin – Szene\, Trends & internationale Marken \nAuf dem BCB treffen sich: • Bartender\, Barbetreiber & Mixologen • Spirituosenmarken & Hersteller • Distributoren & Einkäufer • Medien\, Influencer & Szeneexperten \nHier zählt nicht nur das Produkt – sondern das Erlebnis. \nHostessen & Promotion Personal für den Bar Convent Berlin \nUnser Personal ist speziell auf die Anforderungen der Bar- und Getränkebranche abgestimmt: \n\nAktive Besucheransprache & Markenkommunikation • Unterstützung bei Tastings & Verkostungen • Betreuung von Bar-Stationen & Drink-Ausgabe • Präsentation von Spirituosen & Markenstory • Unterstützung bei Masterclasses & Live-Formaten\n\nIdeal für Spirituosenmarken\, Getränkehersteller und Lifestyle-Brands. \nFull-Service für Ihren Auftritt auf dem BCB \nFAIREVER unterstützt Sie umfassend: \n\nAuswahl passender\, charismatischer Hostessen & Promoter • Briefing zu Marke\, Produkten und Zielgruppe • Unterstützung bei Verkostungen & Promotion-Aktionen • Koordination & Betreuung während der Messe • Reporting & Nachbereitung Ihrer Aktivitäten\n\nWarum FAIREVER für den Bar Convent Berlin? \n\nErfahrung im Bereich Food\, Beverage & Lifestyle • Kommunikationsstarkes\, authentisches Personal • Verständnis für Markeninszenierung & Szeneevents • Flexibel & kurzfristig einsetzbar\n\nJetzt Messepersonal für den Bar Convent Berlin 2026 buchen \nMachen Sie Ihre Marke auf dem Bar Convent Berlin erlebbar – mit erfahrenem Messepersonal\, starken Hostessen und gezielter Promotion\, die im Kopf bleibt. \nFAIREVER GmbH – fair. flexibel. nachhaltig. Ihr Partner für Messepersonal\, Hostessen und Promotion in Berlin – auf dem Bar Convent Berlin und darüber hinaus.
URL:https://www.fairever-events.com/eventagentur/bar-convent-berlin-messepersonal-hostessen-promotion/
LOCATION:Messe Berlin\, Messedamm 22\, Berlin\, Berlin\, 14055\, Germany
CATEGORIES:Messen in Berlin
ATTACH;FMTTYPE=image/png:https://www.fairever-events.com/wp-content/uploads/2025/05/barconventberlin.png
END:VEVENT
BEGIN:VEVENT
DTSTART;VALUE=DATE:20261013
DTEND;VALUE=DATE:20261016
DTSTAMP:20260420T184759
CREATED:20240107T200023Z
LAST-MODIFIED:20260330T194510Z
UID:6341-1791849600-1792108799@www.fairever-events.com
SUMMARY:Messepersonal\, Hostessen & Promotion für die belektro Berlin 2026
DESCRIPTION:Präsentieren Sie Ihre Produkte und Lösungen auf der führenden Fachmesse für Elektrotechnik\, Elektronik und Licht – der belektro in Berlin. \n\n		Fragen Sie jetzt an\n	\n\nDie belektro ist der zentrale Treffpunkt für Fachbetriebe\, Planer und Entscheider aus dem Elektrohandwerk. Hier stehen praxisnahe Lösungen\, Innovationen und direkte Geschäftskontakte im Fokus. \nMit FAIREVER buchen Sie professionelles Messepersonal in Berlin\, das Ihre Produkte verständlich erklärt und aktiv zur Leadgenerierung beiträgt. \nDie belektro – Fachmesse für Elektrotechnik & Handwerk \nAuf der belektro treffen Sie: • Elektroinstallateure & Fachbetriebe • Planer\, Ingenieure & Architekten • Großhandel & Industrie • Entscheider aus Gebäudetechnik & Energie \nHier zählen Kompetenz\, Vertrauen und klare Kommunikation. \nMessehostessen & Promotion Personal für die belektro Berlin \nUnser Messepersonal ist speziell auf technische Produkte und Fachpublikum vorbereitet: \n\nAktive Ansprache von Fachbesuchern • Verständliche Erklärung technischer Produkte • Unterstützung bei Produktdemonstrationen • Lead-Erfassung & Terminvereinbarung • Professioneller Auftritt im B2B-Umfeld\n\nIdeal für Unternehmen aus Elektrotechnik\, Gebäudetechnik und Energie. \nFull-Service für Ihren Messeauftritt auf der belektro \nFAIREVER unterstützt Sie ganzheitlich: \n\nAuswahl & Briefing technisch affine Hostessen • Unterstützung bei Standorganisation & Abläufen • Koordination von Gesprächen & Terminen • Betreuung während der gesamten Messe • Reporting & strukturierte Nachbereitung\n\nWarum FAIREVER für die belektro Berlin? \n\nErfahrung im technischen und handwerksnahen Umfeld • Personal mit schneller Auffassungsgabe für Produkte • Zuverlässig\, professionell und praxisorientiert • Flexible & kurzfristige Einsatzplanung\n\nJetzt Messepersonal für die belektro Berlin 2026 buchen \nNutzen Sie die belektro als Plattform für neue Geschäftskontakte und präsentieren Sie Ihre Lösungen mit professionellem Messepersonal von FAIREVER. \nFAIREVER GmbH – fair. flexibel. nachhaltig. Ihr Partner für Messepersonal\, Hostessen und Promotion in Berlin – auf der belektro und darüber hinaus.
URL:https://www.fairever-events.com/eventagentur/belektro-hostess-full-service-management/
LOCATION:Messe Berlin\, Messedamm 22\, Berlin\, Berlin\, 14055\, Germany
CATEGORIES:Messen in Berlin
ATTACH;FMTTYPE=image/jpeg:https://www.fairever-events.com/wp-content/uploads/2024/01/Logo-belektro.jpg
END:VEVENT
END:VCALENDAR