BEGIN:VCALENDAR
VERSION:2.0
PRODID:-//FAIREVER - ECPv6.15.20//NONSGML v1.0//EN
CALSCALE:GREGORIAN
METHOD:PUBLISH
X-WR-CALNAME:FAIREVER
X-ORIGINAL-URL:https://www.fairever-events.com
X-WR-CALDESC:Veranstaltungen für FAIREVER
REFRESH-INTERVAL;VALUE=DURATION:PT1H
X-Robots-Tag:noindex
X-PUBLISHED-TTL:PT1H
BEGIN:VTIMEZONE
TZID:Europe/Berlin
BEGIN:DAYLIGHT
TZOFFSETFROM:+0100
TZOFFSETTO:+0200
TZNAME:CEST
DTSTART:20250330T010000
END:DAYLIGHT
BEGIN:STANDARD
TZOFFSETFROM:+0200
TZOFFSETTO:+0100
TZNAME:CET
DTSTART:20251026T010000
END:STANDARD
BEGIN:DAYLIGHT
TZOFFSETFROM:+0100
TZOFFSETTO:+0200
TZNAME:CEST
DTSTART:20260329T010000
END:DAYLIGHT
BEGIN:STANDARD
TZOFFSETFROM:+0200
TZOFFSETTO:+0100
TZNAME:CET
DTSTART:20261025T010000
END:STANDARD
BEGIN:DAYLIGHT
TZOFFSETFROM:+0100
TZOFFSETTO:+0200
TZNAME:CEST
DTSTART:20270328T010000
END:DAYLIGHT
BEGIN:STANDARD
TZOFFSETFROM:+0200
TZOFFSETTO:+0100
TZNAME:CET
DTSTART:20271031T010000
END:STANDARD
END:VTIMEZONE
BEGIN:VEVENT
DTSTART;VALUE=DATE:20261010
DTEND;VALUE=DATE:20261019
DTSTAMP:20260420T203737
CREATED:20260420T170719Z
LAST-MODIFIED:20260420T170719Z
UID:8339-1791590400-1792367999@www.fairever-events.com
SUMMARY:Messepersonal\, Hostessen & Promotion für die infa Hannover 2026
DESCRIPTION:Nutzen Sie Deutschlands größte Erlebnis- und Einkaufsmesse – die infa in Hannover. Die Veranstaltung bringt Unternehmen\, Marken und Dienstleister mit hunderttausenden kaufbereiten Besuchern zusammen und bietet ideale Voraussetzungen für direkte Verkäufe\, Markenaufbau und maximale Reichweite. \nMit FAIREVER buchen Sie professionelles Messepersonal in Hannover\, das Ihre Produkte aktiv\, verkaufsstark und zielgruppengerecht präsentiert und gezielt zur Conversion am Stand beiträgt. \n\n		Fragen Sie jetzt an\n	\n\nDie infa – Erlebnis\, Vielfalt & kaufstarke Besucher \nDie infa ist Deutschlands größte Erlebnis- und Einkaufsmesse und findet vom 10. bis 18. Oktober 2026 auf dem Messegelände Hannover statt. \nJährlich zieht die Messe über 100.000 Besucher an und zählt zu den wichtigsten Verkaufsplattformen im Norden Deutschlands. \nMit mehreren Hallen und hunderten Ausstellern bietet die infa eine enorme Themenvielfalt und spricht ein breites Publikum an. \nIm Fokus stehen: • Bauen\, Wohnen & Renovieren • Lifestyle\, Mode & Accessoires • Gesundheit\, Wellness & Beauty • Weihnachten\, Dekoration & Geschenkideen • Kulinarik\, Genuss & regionale Spezialitäten \nDie Messe verbindet Einkaufserlebnis\, Inspiration und direkte Kaufabsicht – Besucher kommen gezielt\, um Produkte zu entdecken\, zu testen und zu kaufen. \nMessehostessen & Promotionpersonal für die infa \nUnser Messepersonal ist speziell auf publikumsstarke Konsum- und Verkaufsmessen vorbereitet: \n\nAktive Ansprache und Beratung von Besuchern • Verkaufsunterstützung & Produktpräsentationen • Durchführung von Promotion-Aktionen & Verkostungen • Betreuung von Besucherströmen & Standorganisation • Lead-Erfassung & direkte Conversion am Stand\n\nIdeal für Marken\, Händler\, Hersteller\, Start-ups und Dienstleister aus nahezu allen Branchen. \nFull-Service für Ihren Messeauftritt in Hannover \nFAIREVER unterstützt Sie ganzheitlich bei Ihrem Auftritt auf der infa: \n\nAuswahl von verkaufsstarkem\, kommunikativem Personal • Briefing auf Produkte\, Zielgruppen & Verkaufsstrategie • Unterstützung bei Promotions\, Aktionen & Verkaufsprozessen • Strukturierung von Besucherströmen & Standabläufen • Reporting & Nachbereitung Ihrer Leads\n\nSo verwandeln Sie Besucher in Käufer und steigern nachhaltig Ihren Messeerfolg. \nWarum FAIREVER für die infa Hannover? \n\nErfahrung auf großen Publikums- und Verkaufsmessen • Verkaufsstarkes\, aktives und sympathisches Personal • Hohe Energie in der Besucheransprache • Flexible Teams – auch bei starkem Andrang\n\nJetzt Messepersonal für die infa 2026 buchen \nPositionieren Sie Ihre Marke erfolgreich auf der infa Hannover – mit professionellen Hostessen\, erfahrenem Promotionpersonal und gezielter Unterstützung für Ihre Verkaufs- und Marketingziele. \nFAIREVER GmbH – fair. flexibel. nachhaltig. Ihr Partner für Messepersonal\, Hostessen und Promotion in Hannover – auf der infa und darüber hinaus.
URL:https://www.fairever-events.com/eventagentur/infa-messeagentur/
LOCATION:Messe Hannover\, Hermesallee\, Hannover\, 30521\, Germany
CATEGORIES:Messen in Hannover
ATTACH;FMTTYPE=image/jpeg:https://www.fairever-events.com/wp-content/uploads/2026/04/Logo-infa.jpg
END:VEVENT
END:VCALENDAR