BEGIN:VCALENDAR
VERSION:2.0
PRODID:-//FAIREVER - ECPv6.15.20//NONSGML v1.0//EN
CALSCALE:GREGORIAN
METHOD:PUBLISH
X-WR-CALNAME:FAIREVER
X-ORIGINAL-URL:https://www.fairever-events.com
X-WR-CALDESC:Veranstaltungen für FAIREVER
REFRESH-INTERVAL;VALUE=DURATION:PT1H
X-Robots-Tag:noindex
X-PUBLISHED-TTL:PT1H
BEGIN:VTIMEZONE
TZID:Europe/Berlin
BEGIN:DAYLIGHT
TZOFFSETFROM:+0100
TZOFFSETTO:+0200
TZNAME:CEST
DTSTART:20230326T010000
END:DAYLIGHT
BEGIN:STANDARD
TZOFFSETFROM:+0200
TZOFFSETTO:+0100
TZNAME:CET
DTSTART:20231029T010000
END:STANDARD
BEGIN:DAYLIGHT
TZOFFSETFROM:+0100
TZOFFSETTO:+0200
TZNAME:CEST
DTSTART:20240331T010000
END:DAYLIGHT
BEGIN:STANDARD
TZOFFSETFROM:+0200
TZOFFSETTO:+0100
TZNAME:CET
DTSTART:20241027T010000
END:STANDARD
BEGIN:DAYLIGHT
TZOFFSETFROM:+0100
TZOFFSETTO:+0200
TZNAME:CEST
DTSTART:20250330T010000
END:DAYLIGHT
BEGIN:STANDARD
TZOFFSETFROM:+0200
TZOFFSETTO:+0100
TZNAME:CET
DTSTART:20251026T010000
END:STANDARD
END:VTIMEZONE
BEGIN:VEVENT
DTSTART;VALUE=DATE:20240319
DTEND;VALUE=DATE:20240322
DTSTAMP:20260422T035934
CREATED:20240110T113344Z
LAST-MODIFIED:20240110T113344Z
UID:6418-1710806400-1711065599@www.fairever-events.com
SUMMARY:LogiMAT 2024 Stuttgart
DESCRIPTION:LogiMAT 2024 in Stuttgart – Ihr Erfolgspartner für herausragende Messeauftritte!\nWillkommen auf der internationalen Fachmesse für Intralogistik-Lösungen und Prozessmanagement – der LogiMAT 2024 in Stuttgart. Als Aussteller sind Sie auf der Suche nach einer Messeagentur\, die Ihren Messestand perfekt präsentiert und qualifiziertes Hostessenpersonal bereitstellt. Fairever ist Ihr Full-Service-Management-Partner\, der nicht nur Ihre Produkte\, sondern auch Ihre Innovationskraft in der Intralogistik optimal in Szene setzt. \nGemeinsam mit Fairever gestalten Sie einen individuellen Messestand\, der die Aufmerksamkeit der Besucher auf sich zieht und Ihre Lösungen effektvoll präsentiert. Unser Team von fachkundigen Hostessen repräsentiert Ihr Unternehmen nicht nur repräsentativ\, sondern auch mit fundiertem Fachwissen\, um mit Besuchern in einen qualifizierten Dialog zu treten. \nWir entwickeln für Sie eine zielgerichtete Kommunikationsstrategie\, die Ihre Botschaften nicht nur vermittelt\, sondern auch inspiriert. Von der detaillierten Planung bis zur umfassenden Nachbereitung begleitet Sie Fairever als Rundum-Servicepartner. Wir kümmern uns um die organisatorischen Details\, damit Sie sich auf das Wesentliche konzentrieren können – Ihren erfolgreichen Messeauftritt. \nMit Fairever erleben Sie nicht nur das Ansehen\, sondern auch das Erleben Ihrer Intralogistik-Lösungen. Wir schaffen interaktive Erlebnisse\, die Besucher begeistern und Ihnen wertvolle Kontakte verschaffen. Präsentieren Sie auf der LogiMAT 2024 mit uns als Partner effiziente Intralogistik-Lösungen und überzeugen Sie Ihr Publikum. Kontaktieren Sie uns noch heute und lassen Sie uns gemeinsam Ihren Messeerfolg planen! \n\n		Fragen Sie jetzt an
URL:https://www.fairever-events.com/eventagentur/logimat-2024-stuttgart-messe-hostessen-agentur/
LOCATION:Messe Stuttgart\, Messepiazza 1\, Stuttgart\, 70629\, Germany
CATEGORIES:Messen in Stuttgart
ATTACH;FMTTYPE=image/png:https://www.fairever-events.com/wp-content/uploads/2024/01/Logimat_logo.png
END:VEVENT
BEGIN:VEVENT
DTSTART;VALUE=DATE:20240319
DTEND;VALUE=DATE:20240323
DTSTAMP:20260422T035934
CREATED:20240110T114220Z
LAST-MODIFIED:20240110T114220Z
UID:6423-1710806400-1711151999@www.fairever-events.com
SUMMARY:SHK Essen 2024
DESCRIPTION:SHK Essen 2024 – Mit Fairever zum Messeerfolg!\nWillkommen auf der Fachmesse für Sanitär\, Heizung\, Klima und erneuerbare Energien – der SHK Essen 2024. Als Aussteller suchen Sie nach einer Messeagentur\, die Ihren Messestand und Ihre Produkte optimal präsentiert. Fairever ist Ihr Full-Service-Management-Partner\, der nicht nur Ihre Produkte\, sondern auch Ihre Expertise in der Sanitär-\, Heizungs-\, Klima- und erneuerbaren Energien-Branche gekonnt in Szene setzt. \nGemeinsam mit Fairever gestalten Sie einen individuellen Messestand\, der die Aufmerksamkeit der Besucher auf sich zieht und Ihre Lösungen effektvoll präsentiert. Unser Team von fachkundigen Hostessen repräsentiert Ihr Unternehmen nicht nur repräsentativ\, sondern auch mit fundiertem Fachwissen\, um mit Besuchern in einen qualifizierten Dialog zu treten. \nWir entwickeln für Sie eine zielgerichtete Kommunikationsstrategie\, die Ihre Botschaften nicht nur vermittelt\, sondern auch inspiriert. Von der detaillierten Planung bis zur umfassenden Nachbereitung begleitet Sie Fairever als Rundum-Servicepartner. Wir kümmern uns um die organisatorischen Details\, damit Sie sich auf das Wesentliche konzentrieren können – Ihren erfolgreichen Messeauftritt. \nErleben Sie mit Fairever nicht nur das Ansehen\, sondern auch die Interaktion mit Ihren Produkten und Lösungen. Unsere interaktiven Erlebnisse begeistern Besucher und verschaffen Ihnen wertvolle Kontakte. Präsentieren Sie auf der SHK Essen 2024 mit uns als Partner innovative Lösungen in den Bereichen Sanitär\, Heizung\, Klima und erneuerbare Energien. Kontaktieren Sie uns noch heute und lassen Sie uns gemeinsam Ihren Messeerfolg planen! \n\n		Fragen Sie jetzt an
URL:https://www.fairever-events.com/eventagentur/shk-2024-messe-hostessen-agentur/
LOCATION:Messe Essen
CATEGORIES:Messen in Essen
ATTACH;FMTTYPE=image/jpeg:https://www.fairever-events.com/wp-content/uploads/2024/01/shke_2024_logo.jpg
END:VEVENT
END:VCALENDAR