BEGIN:VCALENDAR
VERSION:2.0
PRODID:-//FAIREVER - ECPv6.15.20//NONSGML v1.0//EN
CALSCALE:GREGORIAN
METHOD:PUBLISH
X-WR-CALNAME:FAIREVER
X-ORIGINAL-URL:https://www.fairever-events.com
X-WR-CALDESC:Veranstaltungen für FAIREVER
REFRESH-INTERVAL;VALUE=DURATION:PT1H
X-Robots-Tag:noindex
X-PUBLISHED-TTL:PT1H
BEGIN:VTIMEZONE
TZID:Europe/Berlin
BEGIN:DAYLIGHT
TZOFFSETFROM:+0100
TZOFFSETTO:+0200
TZNAME:CEST
DTSTART:20230326T010000
END:DAYLIGHT
BEGIN:STANDARD
TZOFFSETFROM:+0200
TZOFFSETTO:+0100
TZNAME:CET
DTSTART:20231029T010000
END:STANDARD
BEGIN:DAYLIGHT
TZOFFSETFROM:+0100
TZOFFSETTO:+0200
TZNAME:CEST
DTSTART:20240331T010000
END:DAYLIGHT
BEGIN:STANDARD
TZOFFSETFROM:+0200
TZOFFSETTO:+0100
TZNAME:CET
DTSTART:20241027T010000
END:STANDARD
BEGIN:DAYLIGHT
TZOFFSETFROM:+0100
TZOFFSETTO:+0200
TZNAME:CEST
DTSTART:20250330T010000
END:DAYLIGHT
BEGIN:STANDARD
TZOFFSETFROM:+0200
TZOFFSETTO:+0100
TZNAME:CET
DTSTART:20251026T010000
END:STANDARD
END:VTIMEZONE
BEGIN:VEVENT
DTSTART;VALUE=DATE:20240516
DTEND;VALUE=DATE:20240519
DTSTAMP:20260422T002310
CREATED:20240107T171923Z
LAST-MODIFIED:20240107T172811Z
UID:6316-1715817600-1716076799@www.fairever-events.com
SUMMARY:SUPERBOOTH Berlin 2024
DESCRIPTION:Tauchen Sie mit Fairever ein in die pulsierende Welt der Elektronik und Musik auf der SUPERBOOTH 2024 in Berlin! Wir bringen den Rhythmus in Ihren Messeauftritt als erfahrener Full-Service-Partner. \nFreuen Sie sich auf die aufregende Atmosphäre der SUPERBOOTH\, wo Fairever Ihnen dabei hilft\, mehr als nur Produkte zu präsentieren – wir gestalten ein Erlebnis. Gemeinsam schaffen wir einen einzigartigen Messestand\, der die Vielfalt Ihrer Produkte von Instrumenten bis zur digitalen Studiotechnik in den Vordergrund stellt. \nUnser qualifiziertes Team aus Hostessen und Hosts wird nicht nur perfekt auf den Einsatz vorbereitet\, sondern schafft auch eine einladende Atmosphäre\, die Besucher anzieht. Jedes Mitglied repräsentiert Ihr Unternehmen mit Leidenschaft und Kompetenz. \nAuf der SUPERBOOTH bieten wir Ihnen nicht nur einen Messeauftritt\, sondern eine Integration in das faszinierende Rahmenprogramm. Tauchen Sie ein in Händlerworkshops\, Panels und DIY Workshops – lassen Sie uns gemeinsam Ihr Unternehmen nahtlos in diese Musik-Extravaganz integrieren. \nVertrauen Sie auf Fairever\, um auf dieser einzigartigen Messe Ihre musikalische Botschaft zu übermitteln und einen bleibenden Eindruck zu hinterlassen. Wir machen Ihren Messeauftritt zu einem unvergesslichen Erlebnis für Besucher und potenzielle Kunden. \n\n\n\n\n\n\n\n		Fragen Sie jetzt an
URL:https://www.fairever-events.com/eventagentur/superbooth-berlin-2024/
LOCATION:Messe Berlin\, Messedamm 22\, Berlin\, Berlin\, 14055\, Germany
CATEGORIES:Messen in Berlin
ATTACH;FMTTYPE=image/jpeg:https://www.fairever-events.com/wp-content/uploads/2024/01/superbooth24-logo.jpg
END:VEVENT
BEGIN:VEVENT
DTSTART;VALUE=DATE:20240528
DTEND;VALUE=DATE:20240608
DTSTAMP:20260422T002310
CREATED:20220516T073937Z
LAST-MODIFIED:20220516T075047Z
UID:5377-1716854400-1717804799@www.fairever-events.com
SUMMARY:drupa 2024 - Hostessen und Personal buchen
DESCRIPTION:Buchen Sie Hostessen und Personal für die drupa 2024 in Düsseldorf – die weltgrößte Messe der Printmedien – jetzt bei FAIREVER. Wir haben den besten Personalpool in Düsseldorf an geschulten\, qualifizierten und motivierten Messehostessen\, Messehosts und Promotern. Unser Serviceversprechen: Mit FAIREVER gelingt Ihr Messeauftritt garantiert. \n \n		Jetzt Anfrage stellen\n	\n \nDie drupa ist die weltgrößte Messe der Printmedien. Sie gilt als die bedeutendste Leistungsschau der Druck- und Druckmedienindustrie. Die Messe findet seit 1951 alle 4 bis 5 Jahre in Düsseldorf statt. Auf der drupa werden Druck- und Mediavorstufe (Systeme\, Geräte\, Zubehör)\, Druckmaschinen (Geräte\, Zubehör)\, Buchbinderei/Weiterverarbeitung (Maschinen\, Geräte\, Zubehör)\, Papierverarbeitung (Maschinen\, Geräte\, Zubehör)\, Materialien/Verbrauchsartikel und dazugehörige Dienstleistungen angeboten. Daneben gibt es inzwischen zahlreiche Sonderschauen und informative Veranstaltungen wie den „drupa Innovation parc“ und den „cube“; hier werden vor allem Themen des Workflows\, der Standards oder ganz allgemein der Auswirkungen der Digitalisierung präsentiert.
URL:https://www.fairever-events.com/eventagentur/drupa-2024-hostessen-personal/
LOCATION:Messe Düsseldorf
CATEGORIES:Messen in Düsseldorf
ATTACH;FMTTYPE=image/png:https://www.fairever-events.com/wp-content/uploads/2022/05/drupa_2024_header_608px_de_neu.png
END:VEVENT
END:VCALENDAR