BEGIN:VCALENDAR
VERSION:2.0
PRODID:-//FAIREVER - ECPv6.15.20//NONSGML v1.0//EN
CALSCALE:GREGORIAN
METHOD:PUBLISH
X-WR-CALNAME:FAIREVER
X-ORIGINAL-URL:https://www.fairever-events.com
X-WR-CALDESC:Veranstaltungen für FAIREVER
REFRESH-INTERVAL;VALUE=DURATION:PT1H
X-Robots-Tag:noindex
X-PUBLISHED-TTL:PT1H
BEGIN:VTIMEZONE
TZID:Europe/Berlin
BEGIN:DAYLIGHT
TZOFFSETFROM:+0100
TZOFFSETTO:+0200
TZNAME:CEST
DTSTART:20230326T010000
END:DAYLIGHT
BEGIN:STANDARD
TZOFFSETFROM:+0200
TZOFFSETTO:+0100
TZNAME:CET
DTSTART:20231029T010000
END:STANDARD
BEGIN:DAYLIGHT
TZOFFSETFROM:+0100
TZOFFSETTO:+0200
TZNAME:CEST
DTSTART:20240331T010000
END:DAYLIGHT
BEGIN:STANDARD
TZOFFSETFROM:+0200
TZOFFSETTO:+0100
TZNAME:CET
DTSTART:20241027T010000
END:STANDARD
BEGIN:DAYLIGHT
TZOFFSETFROM:+0100
TZOFFSETTO:+0200
TZNAME:CEST
DTSTART:20250330T010000
END:DAYLIGHT
BEGIN:STANDARD
TZOFFSETFROM:+0200
TZOFFSETTO:+0100
TZNAME:CET
DTSTART:20251026T010000
END:STANDARD
END:VTIMEZONE
BEGIN:VEVENT
DTSTART;VALUE=DATE:20241001
DTEND;VALUE=DATE:20241007
DTSTAMP:20260421T150830
CREATED:20240114T080144Z
LAST-MODIFIED:20240114T080623Z
UID:6494-1727740800-1728259199@www.fairever-events.com
SUMMARY:INTERMOT 2024 in Köln
DESCRIPTION:INTERMOT 2024 – Fairever: Ihr Partner für dynamische Motorradpräsentationen!\nWillkommen auf der INTERMOT 2024 in Köln – der Fachmesse für Motorräder. Als Aussteller suchen Sie nach einer Messeagentur\, die nicht nur Ihren Messestand\, sondern auch die Leidenschaft und Performance Ihrer Motorräder oder Motorrad-Produkte perfekt präsentiert. Fairever ist Ihr Full-Service-Management-Partner\, der nicht nur Ihre Maschinen\, sondern auch die Faszination des Motorradfahrens ins Rampenlicht stellt. \nGemeinsam mit Fairever gestalten Sie einen Messestand\, der nicht nur die Aufmerksamkeit der Motorrad-Enthusiasten auf sich zieht\, sondern auch die dynamische Leistungsfähigkeit Ihrer Modelle gekonnt zur Schau stellt. Unser Team von fachkundigen Hostessen und geschultem Standpersonal repräsentiert Ihr Unternehmen nicht nur mit Professionalität\, sondern auch mit einer tiefen Begeisterung für das Motorradfahren\, um die Besucher direkt in die Welt Ihrer Maschinen zu entführen. \nWir entwickeln für Sie eine zielgerichtete Kommunikationsstrategie\, die nicht nur technische Informationen vermittelt\, sondern auch die Emotionen und Freiheit des Motorradfahrens transportiert. Von der detaillierten Planung bis zur umfassenden Nachbereitung begleitet Sie Fairever als Rundum-Servicepartner. Wir kümmern uns um die organisatorischen Details\, damit Sie sich auf das Wesentliche konzentrieren können – die erfolgreiche Präsentation Ihrer faszinierenden Motorräder. \nErreichen Sie mit Fairever nicht nur Aufmerksamkeit\, sondern auch die aktive Teilnahme der Motorrad-Community. Unsere interaktiven Präsentationen begeistern die Besucher und verschaffen Ihnen wertvolle Kontakte. Seien Sie Teil der INTERMOT 2024 und präsentieren Sie mit uns als Partner Ihre Motorräder in einer fesselnden Atmosphäre. Kontaktieren Sie uns noch heute und lassen Sie uns gemeinsam Ihren Messeerfolg planen! \n\n		Fragen Sie jetzt an
URL:https://www.fairever-events.com/eventagentur/intermot-2024-koeln-messe-hostessen-agentur/
LOCATION:Messe Köln\, Messeplatz 1\, Köln\, NRW\, 50679\, Germany
CATEGORIES:Messen in Köln
ATTACH;FMTTYPE=image/jpeg:https://www.fairever-events.com/wp-content/uploads/2024/01/intermot-logo.jpg
END:VEVENT
END:VCALENDAR