BEGIN:VCALENDAR
VERSION:2.0
PRODID:-//FAIREVER - ECPv6.15.20//NONSGML v1.0//EN
CALSCALE:GREGORIAN
METHOD:PUBLISH
X-ORIGINAL-URL:https://www.fairever-events.com
X-WR-CALDESC:Veranstaltungen für FAIREVER
REFRESH-INTERVAL;VALUE=DURATION:PT1H
X-Robots-Tag:noindex
X-PUBLISHED-TTL:PT1H
BEGIN:VTIMEZONE
TZID:Europe/Berlin
BEGIN:DAYLIGHT
TZOFFSETFROM:+0100
TZOFFSETTO:+0200
TZNAME:CEST
DTSTART:20240331T010000
END:DAYLIGHT
BEGIN:STANDARD
TZOFFSETFROM:+0200
TZOFFSETTO:+0100
TZNAME:CET
DTSTART:20241027T010000
END:STANDARD
BEGIN:DAYLIGHT
TZOFFSETFROM:+0100
TZOFFSETTO:+0200
TZNAME:CEST
DTSTART:20250330T010000
END:DAYLIGHT
BEGIN:STANDARD
TZOFFSETFROM:+0200
TZOFFSETTO:+0100
TZNAME:CET
DTSTART:20251026T010000
END:STANDARD
BEGIN:DAYLIGHT
TZOFFSETFROM:+0100
TZOFFSETTO:+0200
TZNAME:CEST
DTSTART:20260329T010000
END:DAYLIGHT
BEGIN:STANDARD
TZOFFSETFROM:+0200
TZOFFSETTO:+0100
TZNAME:CET
DTSTART:20261025T010000
END:STANDARD
END:VTIMEZONE
BEGIN:VEVENT
DTSTART;VALUE=DATE:20250202
DTEND;VALUE=DATE:20250206
DTSTAMP:20260421T080838
CREATED:20241111T161814Z
LAST-MODIFIED:20241111T162319Z
UID:6896-1738454400-1738799999@www.fairever-events.com
SUMMARY:ProSweets Cologne 2025
DESCRIPTION:Die ProSweets Cologne 2025\, die internationale Zuliefermesse für die Süßwaren- und Snackindustrie\, ist die perfekte Plattform\, um Ihre Produkte und Innovationen einem internationalen Fachpublikum zu präsentieren. Mit FAIREVER an Ihrer Seite sorgen wir dafür\, dass Ihr Stand unter den 119 Ausstellern heraussticht und Ihre Marke die Aufmerksamkeit erhält\, die sie verdient. \nProfessionelle Hostessen für die Zulieferindustrie \nUnser Pool an qualifizierten Hostessen aus der Region Köln ist speziell auf die Anforderungen der ProSweets Cologne vorbereitet. Alle FAIREVER Hostessen sind professionell geschult\, um Ihre Marke charmant und kompetent zu repräsentieren. Ob zur Begrüßung von Fachbesuchern\, bei der Unterstützung während der Sonderschauen oder in der Newcomer Area – unser Team sorgt dafür\, dass Ihr Stand als zentraler Treffpunkt wahrgenommen wird. \n\n		Jetzt unverbindlich informieren!\n	\n \nFAIREVER – Ihr Full-Service Partner für die ProSweets Cologne \nUnser Full-Service-Angebot umfasst alles\, was Sie für einen erfolgreichen Messeauftritt benötigen: von kreativer Standgestaltung bis zur Bereitstellung erfahrener Hostessen und Hosts\, die gezielt auf Ihre Marke abgestimmt sind. Mit FAIREVER wird Ihre Präsenz auf der ProSweets Cologne 2025 professionell und nachhaltig gestaltet. \nEin Messeauftritt\, der inspiriert \nDie ProSweets Cologne bietet mit ihrem Rahmenprogramm\, der Speakers Corner\, der Newcomer Area und den spannenden Sonderschauen zahlreiche Möglichkeiten\, Innovationen zu entdecken und Trends zu setzen. Unsere Hostessen und Hosts schaffen eine einladende Atmosphäre\, die Ihren Stand zu einem Highlight der Messe macht. \nSetzen Sie auf FAIREVER für eine erfolgreiche Präsenz auf der ProSweets Cologne 2025 in Köln. Kontaktieren Sie uns jetzt für eine unverbindliche Beratung!
URL:https://www.fairever-events.com/eventagentur/prosweets-koeln-hostessen-messeplanung/
LOCATION:Messe Köln\, Messeplatz 1\, Köln\, NRW\, 50679\, Germany
CATEGORIES:Messen in Köln
ATTACH;FMTTYPE=image/jpeg:https://www.fairever-events.com/wp-content/uploads/2024/11/prosweets_logo.jpg
END:VEVENT
BEGIN:VEVENT
DTSTART;VALUE=DATE:20250206
DTEND;VALUE=DATE:20250210
DTSTAMP:20260421T080838
CREATED:20241030T174241Z
LAST-MODIFIED:20241105T104150Z
UID:6692-1738800000-1739145599@www.fairever-events.com
SUMMARY:REISEN & CARAVANING Hamburg
DESCRIPTION:Entdecken Sie die ideale Unterstützung für Ihren Markenauftritt auf der CARAVANING HAMBURG mit FAIREVER\, Ihrer spezialisierten Agentur für Hostessen\, Personal und Full-Service-Eventmanagement. Die CARAVANING HAMBURG\, ein Teil der REISEN & CARAVANING Hamburg\, ist das ultimative Event für Camping- und Outdoor-Reisefans. Renommierte Aussteller präsentieren eine breite Auswahl an Neufahrzeugen\, hochwertigem Zubehör und inspirierenden Reiseangeboten – perfekt für Einsteiger und erfahrene Camping-Liebhaber. \n\n		Fragen Sie jetzt an\n	\n\nUnser erfahrenes Team bei FAIREVER sorgt dafür\, dass Ihr Messeauftritt einen bleibenden Eindruck hinterlässt. Mit geschulten und engagierten Hostessen\, Hosts und Markenbotschaftern schaffen wir persönliche und eindrucksvolle Begegnungen\, die Ihre Marke authentisch und sympathisch repräsentieren. \nProfitieren Sie von unserem Full-Service-Angebot: Von der Personalplanung über die Schulung bis zur umfassenden Betreuung – mit FAIREVER wird Ihr Messeauftritt garantiert zum Erfolg.
URL:https://www.fairever-events.com/eventagentur/reisen-caravaning-hamburg/
LOCATION:Messe Hamburg\, Messeplatz 1\, Hamburg\, Hamburg\, 20357\, Germany
CATEGORIES:Messen in Hamburg
ATTACH;FMTTYPE=image/svg+xml:https://www.fairever-events.com/wp-content/uploads/2024/10/reisen-haumburg-2024_1.svg
END:VEVENT
BEGIN:VEVENT
DTSTART;VALUE=DATE:20250206
DTEND;VALUE=DATE:20250210
DTSTAMP:20260421T080838
CREATED:20241105T103637Z
LAST-MODIFIED:20241105T103939Z
UID:6749-1738800000-1739145599@www.fairever-events.com
SUMMARY:KREUZFAHRTWELT HAMBURG 2025
DESCRIPTION:Die KREUZFAHRTWELT HAMBURG 2025\, Norddeutschlands größte Kreuzfahrtmesse im Rahmen der REISEN & CARAVANING Hamburg\, ist die perfekte Plattform\, um Ihre Marke im Kreuzfahrtsektor zu präsentieren. Als erfahrene Messeagentur sorgt FAIREVER dafür\, dass Ihr Unternehmen auf dieser einzigartigen Messe die volle Aufmerksamkeit erhält. \nMit mehr als 800 Ausstellern und 73.000 Besuchern auf 77.000 Quadratmetern bietet die KREUZFAHRTWELT HAMBURG ein spannendes Umfeld für namhafte Reedereien und Anbieter. Wir von FAIREVER unterstützen Sie mit unserem professionellen Service und qualifizierten Hostessen und Hosts\, die Ihre Marke repräsentieren und den Messebesuchern einen einladenden ersten Eindruck vermitteln. \nIhr starker Messeauftritt – mit FAIREVER \nOb Luxusliner\, Expeditionsschiff oder Familienkreuzfahrt – wir sorgen dafür\, dass Ihr Messeauftritt den perfekten Rahmen für Ihre Reiseangebote schafft. Unser erfahrenes Team übernimmt die gesamte Planung und Umsetzung\, vom Design bis hin zur Betreuung Ihres Messestandes\, um sicherzustellen\, dass Sie mit einer ansprechenden und professionellen Präsenz beeindrucken. \nErleben Sie die KREUZFAHRTWELT HAMBURG auf einem neuen Level \nMit einem aufregenden Rahmenprogramm\, inklusive einer 500 Quadratmeter großen Schiffsdecks-Inszenierung mit Pool und Poolbar\, können wir Ihre Marke im passenden Ambiente hervorheben. Unsere Hostessen und Hosts stehen bereit\, um Ihr Unternehmen vor Ort kompetent zu präsentieren und potenzielle Kunden zu inspirieren – sei es durch persönliche Beratung oder die Präsentation exklusiver Reiseangebote und Insidertipps. \nFAIREVER – Ihr Partner für Erfolg auf der KREUZFAHRTWELT HAMBURG 2025 \nSetzen Sie auf FAIREVER\, um auf der KREUZFAHRTWELT HAMBURG 2025 bleibende Eindrücke zu schaffen und Ihre Marke in der Kreuzfahrtbranche optimal zu positionieren. Lassen Sie uns gemeinsam Ihren Messeauftritt zu einem unvergesslichen Erlebnis machen!
URL:https://www.fairever-events.com/eventagentur/kreuzfahrtwelt-hamburg-2025/
LOCATION:Messe Hamburg\, Messeplatz 1\, Hamburg\, Hamburg\, 20357\, Germany
CATEGORIES:Messen in Hamburg
ATTACH;FMTTYPE=image/gif:https://www.fairever-events.com/wp-content/uploads/2024/11/kreuzfahrtwelt-hamburg.gif
END:VEVENT
BEGIN:VEVENT
DTSTART;VALUE=DATE:20250206
DTEND;VALUE=DATE:20250210
DTSTAMP:20260421T080838
CREATED:20241105T104923Z
LAST-MODIFIED:20241105T110439Z
UID:6753-1738800000-1739145599@www.fairever-events.com
SUMMARY:REISEN HAMBURG 2025
DESCRIPTION:Präsentieren Sie Ihre Marke auf der REISEN HAMBURG 2025\, Norddeutschlands größter Reisemesse\, und setzen Sie auf FAIREVER für professionelle Hostessen\, geschultes Personal und umfassenden Full-Service. Unser erfahrenes Team repräsentiert Ihre Marke kompetent und sympathisch – sei es bei der Beratung am Stand\, der Präsentation von Reisezielen oder bei interaktiven Aktionen\, die Besucher begeistern. \nGroßer Pool an professionellen Hostessen in Hamburg \nMit einem umfangreichen Pool an Hostessen direkt vor Ort in Hamburg sind wir flexibel und zuverlässig für Ihren Messeauftritt aufgestellt. Unsere qualifizierten Hostessen machen Ihren Stand zum Erlebnis: Ob Begrüßung\, Beratung oder Begleitung bei interaktiven Aktionen – die Hostessen von FAIREVER sind perfekt geschult\, um Ihre Marke charmant und professionell zu repräsentieren. Mit umfassender Erfahrung im Tourismus- und Freizeitbereich sorgen sie dafür\, dass Ihre Besucher sich willkommen fühlen und Ihr Stand in bester Erinnerung bleibt. \nIhr starker Auftritt mit FAIREVER \nMit über 850 Ausstellern und 73.000 Besuchern bietet die REISEN HAMBURG eine ideale Plattform\, um Ihr Angebot hervorzuheben und mit neuen Kunden in Kontakt zu treten. FAIREVER unterstützt Sie dabei mit qualifizierten Hostessen und Hosts sowie durchdachter Messeplanung\, damit Ihr Stand ein Anziehungspunkt für das Publikum wird. \nEin Messeerlebnis\, das inspiriert \nDie REISEN HAMBURG beeindruckt mit einem umfangreichen Programm: eindrucksvolle Filmvorführungen\, spannende Vorträge und interaktive Mitmachaktionen. Unsere Hostessen und Hosts sorgen dafür\, dass Ihre Marke im Mittelpunkt steht und Besucher sich bei Ihnen wohlfühlen. \nWählen Sie FAIREVER für einen erfolgreichen Messeauftritt auf der REISEN HAMBURG 2025. Jetzt anfragen!
URL:https://www.fairever-events.com/eventagentur/messe-reisen-hamburg/
LOCATION:Messe Hamburg\, Messeplatz 1\, Hamburg\, Hamburg\, 20357\, Germany
CATEGORIES:Messen in Hamburg
ATTACH;FMTTYPE=image/gif:https://www.fairever-events.com/wp-content/uploads/2024/11/reisen-hamburg.gif
END:VEVENT
BEGIN:VEVENT
DTSTART;VALUE=DATE:20250207
DTEND;VALUE=DATE:20250211
DTSTAMP:20260421T080838
CREATED:20241106T143427Z
LAST-MODIFIED:20241106T143807Z
UID:6820-1738886400-1739231999@www.fairever-events.com
SUMMARY:Creativeworld Frankfurt 2025
DESCRIPTION:Die Creativeworld 2025\, die weltweit größte Kreativmesse\, ist die ideale Plattform\, um Ihre Produkte und Innovationen einem internationalen Fachpublikum zu präsentieren. Mit FAIREVER sorgen wir dafür\, dass Ihr Stand unter den 360 Ausstellern hervorsticht und Ihre Marke die verdiente Aufmerksamkeit erhält. \nProfessionelle Hostessen für die Kreativbranche \nUnser Pool an qualifizierten Hostessen aus der Region Frankfurt ist speziell auf die Anforderungen der Creativeworld vorbereitet. Alle FAIREVER Hostessen sind mehrsprachig und geschult\, um Ihre Produkte kompetent und mit Charme zu präsentieren. Ob bei der Begrüßung\, Beratung oder Unterstützung bei Workshops – unser Personal sorgt dafür\, dass Ihr Stand ein einladender Anlaufpunkt für Fachbesucher wird. \nFAIREVER – Ihr Full-Service für die Creativeworld** \nUnser Full-Service-Angebot umfasst alles\, was Sie für einen erfolgreichen Messeauftritt benötigen: von kreativer Standgestaltung und Organisation bis hin zur Bereitstellung erfahrener Hostessen und Hosts\, die Ihre Marke überzeugend repräsentieren. Mit FAIREVER wird Ihr Auftritt auf der Creativeworld 2025 zum Erfolg. \nEin Messeauftritt\, der inspiriert \nDie Creativeworld begeistert mit einem spannenden Rahmenprogramm: von der Trendschau „Creativity meets Design“ bis hin zu Workshops und dem Innovationspreis „Creative Impulse“. Unsere Hostessen und Hosts schaffen eine einladende Atmosphäre und rücken Ihre Produkte und Ideen ins Rampenlicht. \nSetzen Sie auf FAIREVER für einen erfolgreichen Messeauftritt auf der Creativeworld 2025 in Frankfurt am Main. Kontaktieren Sie uns jetzt für eine unverbindliche Beratung!
URL:https://www.fairever-events.com/eventagentur/creativeworld-frankfurt-2025/
LOCATION:Messe Frankfurt\, Ludwig-Erhard-Anlage 1\, Frankfurt am Main\, Hessen\, 60327\, Germany
CATEGORIES:Messen in Frankfurt
ATTACH;FMTTYPE=image/jpeg:https://www.fairever-events.com/wp-content/uploads/2024/11/creativeworld-frankfurt-logo.jpg
END:VEVENT
BEGIN:VEVENT
DTSTART;VALUE=DATE:20250212
DTEND;VALUE=DATE:20250217
DTSTAMP:20260421T080838
CREATED:20241106T152652Z
LAST-MODIFIED:20241106T152802Z
UID:6843-1739318400-1739750399@www.fairever-events.com
SUMMARY:abf Hannover 2025
DESCRIPTION:Die abf 2025 in Hannover\, Norddeutschlands größte Freizeitmesse\, ist der perfekte Ort\, um Ihre Marke einem breiten und vielseitigen Publikum zu präsentieren. Mit Themenwelten wie Aktiv & Fit\, Caravaning & Camping\, Reisen & Urlaub\, Auto & Mobilität und Fahrrad & Outdoor bietet die Messe eine einzigartige Plattform für Innovationen\, Trends und Inspirationen. Mit FAIREVER an Ihrer Seite sorgen wir dafür\, dass Ihr Stand zu einem Highlight der Messe wird. \nProfessionelle Hostessen für Ihre Freizeitmesse \nUnser umfangreicher Pool an qualifizierten Hostessen aus der Region Hannover ist speziell auf die Anforderungen der abf vorbereitet. Alle FAIREVER Hostessen sind geschult\, um Ihre Marke kompetent\, charmant und einladend zu repräsentieren. Ob zur Begrüßung\, Beratung oder bei interaktiven Mitmachangeboten – unsere Hostessen sorgen dafür\, dass Ihre Besucher sich gut betreut fühlen und Ihr Stand in Erinnerung bleibt. \nFAIREVER – Ihr Full-Service Partner für die abf Hannover \nUnser Full-Service-Angebot umfasst alles\, was Sie für einen erfolgreichen Messeauftritt benötigen: von der kreativen Standgestaltung bis zur Bereitstellung erfahrener Hostessen und Hosts\, die gezielt auf Ihre Marke abgestimmt sind. Mit FAIREVER wird Ihre Präsenz auf der abf nicht nur professionell\, sondern auch wirkungsvoll und einprägsam. \nEin Messeauftritt\, der begeistert \nDie abf begeistert mit einem informativen Rahmenprogramm\, Live-Vorträgen und spannenden Mitmachangeboten. Hier treffen Aktiv-Sportler\, Caravan-Fans\, Reiselustige und Outdoor-Begeisterte auf eine Welt voller Möglichkeiten. Unsere Hostessen und Hosts schaffen eine einladende Atmosphäre\, die Ihren Stand zu einem zentralen Anlaufpunkt macht. \nSetzen Sie auf FAIREVER für einen erfolgreichen Auftritt auf der abf 2025 in Hannover. Kontaktieren Sie uns jetzt für eine unverbindliche Beratung!
URL:https://www.fairever-events.com/eventagentur/abf-hannover-messe-hostessen/
LOCATION:Messe Hannover\, Hermesallee\, Hannover\, 30521\, Germany
CATEGORIES:Messen in Hannover
ATTACH;FMTTYPE=image/jpeg:https://www.fairever-events.com/wp-content/uploads/2024/11/abf2015_Logo.jpg
END:VEVENT
BEGIN:VEVENT
DTSTART;VALUE=DATE:20250219
DTEND;VALUE=DATE:20250224
DTSTAMP:20260421T080839
CREATED:20241112T201310Z
LAST-MODIFIED:20241112T201500Z
UID:6928-1739923200-1740355199@www.fairever-events.com
SUMMARY:MÜNCHNER AUTOTAGE 2025
DESCRIPTION:Die MÜNCHNER AUTOTAGE 2025\, die größte Automobil-Verkaufsmesse in Süddeutschland\, bieten Ihnen die ideale Gelegenheit\, Ihre Fahrzeuge und Dienstleistungen einem breiten Publikum zu präsentieren. Mit FAIREVER an Ihrer Seite sorgen wir dafür\, dass Ihr Stand auf dieser wichtigen Plattform herausragt und Ihre Marke die verdiente Aufmerksamkeit erhält. \nProfessionelle Hostessen für die Automobilbranche \nUnser Pool an qualifizierten Hostessen aus der Region München ist speziell auf die Anforderungen der MÜNCHNER AUTOTAGE vorbereitet. Alle FAIREVER Hostessen sind geschult\, um Ihre Marke charmant und kompetent zu repräsentieren. Ob bei der Begrüßung von Besuchern\, der Vorstellung von Fahrzeugen oder der Unterstützung bei Probefahrten – unser Team sorgt dafür\, dass Ihr Stand als einladender und professioneller Treffpunkt wahrgenommen wird. \n\n		Jetzt Anfrage stellen\n	\n \nFAIREVER – Ihr Full-Service Partner für die MÜNCHNER AUTOTAGE \nUnser Full-Service-Angebot umfasst alles\, was Sie für einen erfolgreichen Messeauftritt benötigen: von kreativer Standgestaltung bis hin zur Bereitstellung erfahrener Hostessen und Hosts\, die gezielt auf Ihre Marke abgestimmt sind. Mit FAIREVER wird Ihre Präsenz auf den MÜNCHNER AUTOTAGEN 2025 ein voller Erfolg. \nEin Messeauftritt\, der überzeugt \nDie MÜNCHNER AUTOTAGE bieten Besuchern die Möglichkeit\, verschiedene Fahrzeugmodelle direkt zu vergleichen\, zu testen und zu erleben. Mit unserer Unterstützung heben Sie Ihre Marke hervor und schaffen eine Umgebung\, die Ihre Zielgruppe anspricht. Profitieren Sie von der Parallelveranstaltung zur f.re.e Messe München\, um Ihre Reichweite zu maximieren. \nSetzen Sie auf FAIREVER für eine erfolgreiche Präsenz auf den MÜNCHNER AUTOTAGEN 2025. Kontaktieren Sie uns jetzt für eine unverbindliche Beratung!
URL:https://www.fairever-events.com/eventagentur/muenchner-autotage-hostessen/
LOCATION:Messe München\, Messegelände\, München\, Bayern\, 81823\, Germany
CATEGORIES:Messen in München
ATTACH;FMTTYPE=image/webp:https://www.fairever-events.com/wp-content/uploads/2024/11/muenchner-autottage-logo.webp
END:VEVENT
BEGIN:VEVENT
DTSTART;VALUE=DATE:20250222
DTEND;VALUE=DATE:20250224
DTSTAMP:20260421T080839
CREATED:20241117T151634Z
LAST-MODIFIED:20241117T195547Z
UID:6940-1740182400-1740355199@www.fairever-events.com
SUMMARY:TACTICA HAMBURG 2025
DESCRIPTION:Die Tactica 2025 in Hamburg\, die führende Miniaturen-Spielemesse\, ist die ideale Plattform\, um Ihre Produkte und Dienstleistungen einem engagierten und internationalen Publikum zu präsentieren. Mit FAIREVER an Ihrer Seite sorgen wir dafür\, dass Ihr Stand unter den zahlreichen Ausstellern hervorsticht und Ihre Marke die verdiente Aufmerksamkeit erhält. \nProfessionelle Hostessen für die Spiele- und Miniaturenbranche \nUnser Pool an qualifizierten Hostessen aus der Region Hamburg ist speziell auf die Anforderungen der Tactica vorbereitet. Alle FAIREVER Hostessen sind geschult\, um Ihre Produkte und Ihre Marke charmant und kompetent zu repräsentieren. Ob bei der Begrüßung von Besuchern\, der Präsentation von Miniaturen und Zubehör oder der Unterstützung bei Workshops – unser Team sorgt dafür\, dass Ihr Stand ein einladender und professioneller Treffpunkt wird. \n\n		Fragen Sie jetzt an\n	\n\nFAIREVER – Ihr Full-Service Partner für die Tactica Hamburg \nUnser Full-Service-Angebot umfasst alles\, was Sie für einen erfolgreichen Messeauftritt benötigen: von kreativer Standgestaltung bis zur Bereitstellung erfahrener Hostessen und Hosts\, die gezielt auf Ihre Zielgruppe abgestimmt sind. Mit FAIREVER wird Ihre Präsenz auf der Tactica 2025 professionell und wirkungsvoll gestaltet. \nEin Messeauftritt\, der begeistert \nDie Tactica bietet eine einzigartige Mischung aus Miniaturen\, Modellen\, Zubehör und spannenden Präsentationen und Workshops. Unsere Hostessen und Hosts schaffen eine einladende Atmosphäre\, die Ihren Stand zu einem zentralen Anlaufpunkt für Wargamer und Sammler macht. \nSetzen Sie auf FAIREVER für eine erfolgreiche Präsenz auf der Tactica 2025 in Hamburg. Kontaktieren Sie uns jetzt für eine unverbindliche Beratung!
URL:https://www.fairever-events.com/eventagentur/tactica-hamburg-messe-hostessen/
LOCATION:Messe Hamburg\, Messeplatz 1\, Hamburg\, Hamburg\, 20357\, Germany
CATEGORIES:Messen in Hamburg
ATTACH;FMTTYPE=image/jpeg:https://www.fairever-events.com/wp-content/uploads/2024/11/hamburg_tactica-e1731856839653.jpg
END:VEVENT
END:VCALENDAR