BEGIN:VCALENDAR
VERSION:2.0
PRODID:-//FAIREVER - ECPv6.15.20//NONSGML v1.0//EN
CALSCALE:GREGORIAN
METHOD:PUBLISH
X-WR-CALNAME:FAIREVER
X-ORIGINAL-URL:https://www.fairever-events.com
X-WR-CALDESC:Veranstaltungen für FAIREVER
REFRESH-INTERVAL;VALUE=DURATION:PT1H
X-Robots-Tag:noindex
X-PUBLISHED-TTL:PT1H
BEGIN:VTIMEZONE
TZID:Europe/Berlin
BEGIN:DAYLIGHT
TZOFFSETFROM:+0100
TZOFFSETTO:+0200
TZNAME:CEST
DTSTART:20240331T010000
END:DAYLIGHT
BEGIN:STANDARD
TZOFFSETFROM:+0200
TZOFFSETTO:+0100
TZNAME:CET
DTSTART:20241027T010000
END:STANDARD
BEGIN:DAYLIGHT
TZOFFSETFROM:+0100
TZOFFSETTO:+0200
TZNAME:CEST
DTSTART:20250330T010000
END:DAYLIGHT
BEGIN:STANDARD
TZOFFSETFROM:+0200
TZOFFSETTO:+0100
TZNAME:CET
DTSTART:20251026T010000
END:STANDARD
BEGIN:DAYLIGHT
TZOFFSETFROM:+0100
TZOFFSETTO:+0200
TZNAME:CEST
DTSTART:20260329T010000
END:DAYLIGHT
BEGIN:STANDARD
TZOFFSETFROM:+0200
TZOFFSETTO:+0100
TZNAME:CET
DTSTART:20261025T010000
END:STANDARD
END:VTIMEZONE
BEGIN:VEVENT
DTSTART;VALUE=DATE:20250930
DTEND;VALUE=DATE:20251003
DTSTAMP:20260420T173235
CREATED:20241124T193136Z
LAST-MODIFIED:20250430T150818Z
UID:7000-1759190400-1759449599@www.fairever-events.com
SUMMARY:Smart Country Convention 2025
DESCRIPTION:Die Smart Country Convention 2025\, die führende Kongressmesse für die Digitalisierung von Verwaltungen und öffentlichen Dienstleistungen\, bietet die ideale Plattform\, um Ihre digitalen Lösungen einem breiten Publikum zu präsentieren. Mit FAIREVER an Ihrer Seite sorgen wir dafür\, dass Ihr Stand unter den 250 Ausstellern hervorsticht und Ihre Innovationen die Aufmerksamkeit erhalten\, die sie verdienen. \n\n		Fragen Sie jetzt an\n	\n\nMehrsprachige und professionelle Hostessen für die Digitalisierung der öffentlichen Verwaltung \nUnser Pool an qualifizierten Hostessen aus der Region Berlin ist speziell auf die Anforderungen der Smart Country Convention vorbereitet. Alle FAIREVER Hostessen sind mehrsprachig und geschult\, um Ihre Marke charmant und kompetent zu repräsentieren. Ob bei der Begrüßung internationaler Gäste\, der Unterstützung bei Präsentationen oder der Betreuung interaktiver Formate – unser Team sorgt dafür\, dass Ihr Stand als professioneller und einladender Treffpunkt wahrgenommen wird. \nFAIREVER – Ihr Full-Service Partner für die Smart Country Convention Berlin \nUnser Full-Service-Angebot umfasst alles\, was Sie für einen erfolgreichen Messeauftritt benötigen: von der kreativen Standgestaltung über Logistik bis hin zur Bereitstellung erfahrener Hostessen und Hosts\, die gezielt auf Ihre Zielgruppe abgestimmt sind. Mit FAIREVER wird Ihre Präsenz auf der Smart Country Convention 2025 professionell und wirkungsvoll gestaltet. \nEin Messeauftritt\, der inspiriert \nDie Smart Country Convention überzeugt mit einem spannenden Kongressprogramm\, hochwertigen Workshops und innovativen Formaten wie dem Public Sector Pitch oder dem Open Data Hackathon. Unsere Hostessen und Hosts schaffen eine einladende Atmosphäre\, die Ihre Marke und Ihre digitalen Lösungen in den Mittelpunkt rückt. \nSetzen Sie auf FAIREVER für eine erfolgreiche Präsenz auf der Smart Country Convention 2025 in Berlin. Kontaktieren Sie uns jetzt für eine unverbindliche Beratung!
URL:https://www.fairever-events.com/eventagentur/smart-country-convention-hostessen-agentur/
LOCATION:Messe Berlin\, Messedamm 22\, Berlin\, Berlin\, 14055\, Germany
CATEGORIES:Messen in Berlin
ATTACH;FMTTYPE=image/jpeg:https://www.fairever-events.com/wp-content/uploads/2024/11/smart-country-convention-e1732476580599.jpg
END:VEVENT
BEGIN:VEVENT
DTSTART;VALUE=DATE:20251004
DTEND;VALUE=DATE:20251009
DTSTAMP:20260420T173235
CREATED:20250508T173938Z
LAST-MODIFIED:20250508T174111Z
UID:7205-1759536000-1759967999@www.fairever-events.com
SUMMARY:Anuga 2025 - Messepersonal\, Hostessen & Promotion
DESCRIPTION:Präsentieren Sie Ihre Produkte auf der Anuga 2025\, der internationalen Leitmesse der globalen Ernährungswirtschaft. FAIREVER stellt Ihnen erfahrenes Messepersonal und umfassenden Service für einen gelungenen Messeauftritt zur Verfügung.​ \n🥗 Die Anuga 2025 – Ihre Bühne für Lebensmittel und Getränke: \nDie Anuga vereint zehn Fachmessen unter einem Dach und bietet eine Plattform für Innovationen und Trends der Lebensmittelbranche.​ \n👩‍💼 Professionelles Messepersonal für die Anuga 2025 \nUnsere Hostessen und Promoter bieten: \n\nProduktpräsentationen und Verkostungen\nKundenberatung in mehreren Sprachen\nBesuchermanagement und Standbetreuung​\n\n🌍 Rundum-Service für Ihre Messepräsenz \nUnser Full-Service-Angebot umfasst: \n\nMessestandgestaltung und Branding\nAuswahl und Schulung des Messepersonals\nPromotionaktionen und Produktvorführungen\nLogistik\, Koordination und Vor-Ort-Betreuung​\n\n📩 Jetzt Messepersonal für die Anuga 2025 anfragen! \n\n		Fragen Sie jetzt an\n	\n\nFAIREVER GmbH – fair. flexibel. nachhaltig.\nIhr Partner für Messepersonal\, Promotion und Full-Service auf der ANUGA 2025 und weit darüber hinaus. \n  \n 
URL:https://www.fairever-events.com/eventagentur/anuga-messepersonal-hostessen-promotion/
LOCATION:Messe Köln\, Messeplatz 1\, Köln\, NRW\, 50679\, Germany
CATEGORIES:Messen in Köln
ATTACH;FMTTYPE=image/webp:https://www.fairever-events.com/wp-content/uploads/2025/05/Logo-Anuga.webp
END:VEVENT
BEGIN:VEVENT
DTSTART;VALUE=DATE:20251006
DTEND;VALUE=DATE:20251009
DTSTAMP:20260420T173235
CREATED:20250508T172807Z
LAST-MODIFIED:20250508T172807Z
UID:7194-1759708800-1759967999@www.fairever-events.com
SUMMARY:EXPO REAL 2025 - Messepersonal\, Hostessen & Promotion
DESCRIPTION:Setzen Sie Ihre Marke in der Welt der Immobilien- und Investitionsmärkte in Szene – auf der EXPO REAL 2025\, der internationalen Fachmesse für Gewerbeimmobilien und Investitionen. Vom 6. bis 8. Oktober 2025 sorgt FAIREVER mit professionellem Messepersonal und einem umfassenden Full-Service-Paket dafür\, dass Ihre Projekte und Ideen optimal präsentiert werden. \n🏢 Die EXPO REAL 2025 – Ihre Bühne für Gewerbeimmobilien und Investitionen\nDie EXPO REAL 2025 ist der wichtigste Treffpunkt für die Immobilienbranche. Auf der Messe präsentieren sich Unternehmen aus den Bereichen: \n\nGewerbeimmobilien und Investmentmöglichkeiten\nProjektentwicklung und Planung\nImmobilienwirtschaft und Finanzierung\n\nMit FAIREVER wird Ihr Messeauftritt auf dieser internationalen Veranstaltung zu einem Erfolg. \n🏠 Professionelles Messepersonal für die EXPO REAL 2025\nUnsere Hostessen und Promoter sind auf Immobilienmessen spezialisiert und bieten Ihnen: \n\nProduktvorstellungen und Beratung (DE/EN und weitere Sprachen auf Wunsch)\nUnterstützung bei Produktvorführungen und Messestandaktivierungen\nBesuchermanagement und Standorganisation\n\n🌍 Rundum-Service für Ihre Messepräsenz\nProfitieren Sie von unserem Full-Service-Angebot für die EXPO REAL 2025: \n\nMessestandgestaltung und Branding im Einklang mit Ihrer Marke\nAuswahl und Briefing des Messepersonals\nPromotionaktionen und Produktvorführungen\nLogistik\, Koordination und Vor-Ort-Betreuung\n\n📩 Jetzt Messepersonal für die EXPO REAL 2025 anfragen! \n\n		Fragen Sie jetzt an\n	\n\nFAIREVER GmbH – fair. flexibel. nachhaltig.\nIhr Partner für Messepersonal\, Promotion und Full-Service auf der EXPO REAL 2025 und darüber hinaus.
URL:https://www.fairever-events.com/eventagentur/expo-real-messepersonal-hostessen-promotion/
LOCATION:Messe München\, Messegelände\, München\, Bayern\, 81823\, Germany
CATEGORIES:Messen in München
ATTACH;FMTTYPE=image/png:https://www.fairever-events.com/wp-content/uploads/2025/05/Expo_Real_logo.svg.png
END:VEVENT
BEGIN:VEVENT
DTSTART;VALUE=DATE:20251007
DTEND;VALUE=DATE:20251010
DTSTAMP:20260420T173235
CREATED:20250511T103715Z
LAST-MODIFIED:20250511T103715Z
UID:7242-1759795200-1760054399@www.fairever-events.com
SUMMARY:it-sa Nürnberg - Messepersonal\, Hostessen & Promotion
DESCRIPTION:Sorgen Sie für eine sichere Präsenz auf der it-sa 2025 – Europas führender Fachmesse für IT-Sicherheit. Vom 07. bis 09. Oktober 2025 unterstützt FAIREVER Ihren Messeauftritt mit technisch versiertem Personal\, professionellen Promoter:innen und einem ganzheitlichen Full-Service – passgenau auf die Welt der Cybersicherheit zugeschnitten. \n🔐 Die it-sa 2025 – Ihre Bühne für Cybersecurity\, Datenschutz & digitale Souveränität\nAls zentrale Plattform für IT-Sicherheitslösungen vernetzt die Messe Hersteller\, Fachpublikum und Entscheider aus: \n\nIT-Security & Netzwerktechnik\nCloud & Mobile Security\nDatenschutz\, Compliance & Identitätsmanagement\nKI\, Infrastruktur & Verschlüsselungstechnologien\n\n🧑‍💻 Messepersonal mit technischem Verständnis & Kommunikationsstärke\nUnsere Hosts\, Hostessen und Promoter:innen übernehmen: \n\nMehrsprachige Fachbesucherbetreuung (DE/EN & weitere Sprachen auf Wunsch)\nUnterstützung bei Live-Demos\, Workshops & Präsentationen\nInfopoint-Service & Standmanagement\nZielgerichtete Produkt- & Lösungsansprache\n\n🛠️ Full-Service für Ihre Präsenz auf der it-sa\nFAIREVER begleitet Sie sicher & effizient mit: \n\nPersonalauswahl\, Schulung & Einsatzplanung\nMesseoutfits\, Technikbetreuung & Besucherkoordination\nPromotionideen\, Aktionen & Logistikkoordination\nTagesmanagement & Nachbereitung auf Wunsch\n\n📩 Jetzt Messepersonal für die it-sa 2025 anfragen! \n\n		Fragen Sie jetzt an\n	\n\nFAIREVER GmbH – fair. flexibel. nachhaltig.\nIhr Partner für Messepersonal\, Promotion und Full-Service auf der it-sa 2025 und allen IT-Fachmessen.
URL:https://www.fairever-events.com/eventagentur/it-sa-nuernberg-messepersonal-hostessen-promotion/
LOCATION:Messe Nürnberg\, Messezentrum 1\, Nürnberg\, Bayern\, 90471\, Germany
CATEGORIES:Messen in Nürnberg
ATTACH;FMTTYPE=image/png:https://www.fairever-events.com/wp-content/uploads/2025/05/It-sa_Logo.svg.png
END:VEVENT
BEGIN:VEVENT
DTSTART;VALUE=DATE:20251008
DTEND;VALUE=DATE:20251016
DTSTAMP:20260420T173235
CREATED:20250512T145924Z
LAST-MODIFIED:20250512T150219Z
UID:7303-1759881600-1760572799@www.fairever-events.com
SUMMARY:Messepersonal\, Hostessen & Promotion für die K Düsseldorf 2025
DESCRIPTION:Präsentieren Sie Ihre Innovationen in der Welt der Kunststoffe und Kautschuk – auf der K 2025\, der weltweit führenden Fachmesse für Kunststoff- und Gummitechnologie. Vom 8. bis 15. Oktober 2025 begleitet FAIREVER Sie mit professionellem Messepersonal und einem individuellen Full-Service-Angebot für einen starken Messeauftritt mit internationaler Wirkung. \n🔬 Die K Messe 2025 – Ihre Bühne für Materialien\, Maschinen & Nachhaltigkeit\nDie K ist das globale Leitereignis für die Kunststoffindustrie und zieht Aussteller und Fachbesucher aus der ganzen Welt an. Im Fokus stehen: \n\nRohstoffe\, Kunststoffverarbeitung & Recyclinglösungen\nMaschinen\, Anlagen & Werkzeuge\nHightech-Kunststoffe & nachhaltige Innovationen\nZukunftsweisende Anwendungen in Automobil\, Bau\, Verpackung & Medizin\n\n👥 Technikaffines Messepersonal für die K 2025\nUnsere Hostessen und Technikbetreuer:innen bieten: \n\nMehrsprachige Produktberatung & Fachbesucherservice\nUnterstützung bei Live-Demonstrationen & Maschinenpräsentationen\nBetreuung internationaler Gäste & Delegationen\nAktive Unterstützung bei Kundenansprache & Leadgenerierung\n\n🛠️ Full-Service für Ihre Präsenz auf der K\nFAIREVER kümmert sich um alles – zuverlässig und transparent: \n\nAuswahl\, Schulung & Koordination des Messepersonals\nUmsetzung Ihrer Promotionaktionen & Markenkommunikation\nLogistikmanagement\, Tagesbetreuung & Nachbereitung\nUnterstützung bei Standkonzepten\, Outfits & Eventeinsätzen\n\n📩 Jetzt Messepersonal für die K Messe Düsseldorf 2025 anfragen! \n\n		Jetzt Anfrage stellen\n	\n\nFAIREVER GmbH – fair. flexibel. nachhaltig.\nIhr Partner für Messepersonal\, Promotion und Full-Service auf der K 2025 und internationalen Technologiemessen.
URL:https://www.fairever-events.com/eventagentur/messepersonal-hostessen-promotion-fuer-die-k-duesseldorf/
LOCATION:Bayern
CATEGORIES:Messen in Düsseldorf
ATTACH;FMTTYPE=image/jpeg:https://www.fairever-events.com/wp-content/uploads/2025/05/csm_JPG_kmd2501_tm02_rgb01_4c28d6abf9.jpg
END:VEVENT
BEGIN:VEVENT
DTSTART;VALUE=DATE:20251011
DTEND;VALUE=DATE:20251020
DTSTAMP:20260420T173235
CREATED:20250624T142912Z
LAST-MODIFIED:20250624T142912Z
UID:7550-1760140800-1760918399@www.fairever-events.com
SUMMARY:Messepersonal für die CARAVANING Barcelona 2025
DESCRIPTION:Made in Germany – präzise. professionell. präsent. \nDie CARAVANING Barcelona 2025 (11.–19. Oktober\, Fira Barcelona Gran Via) ist die führende Messe Spaniens für Camper\, Reisemobile und Outdoor-Lifestyle – mit etwa 130 Ausstellern und rund 55 000 Besucher. Für Ihren Messeauftritt sorgt FAIREVER mit professionellem\, deutsch geprägtem Messepersonal: Zuverlässig in Planung\, stark im Service\, international im Auftritt. \nDarum FAIREVER – deutsche Qualität auf spanischem Boden \n\nStruktur trifft Flexibilität\nWir planen nach deutschen Qualitätsstandards: detaillierte Briefings\, transparente Einsatzpläne und verlässliche Pausengestaltung.\nMehrsprachige Teams\nDeutsche Projektleitung\, gepaart mit erfahrenen Hostessen und Hosts vor Ort – Englisch | Spanisch.\nBranchen-Know-how\nCARAVANING kombiniert Fachbesucher und Endkunden\, Produkttests („Demo Run“\, „Travelvaning“\, „Barcelona Overland“) auf 65 000 m²\nStarke Marke\, starker Auftritt\nUnsere Teams repräsentieren Ihre Marke – mit einheitlichem Auftreten\, souveräner Präsenz und Hands-on-Service.\n\nUnser Leistungspaket zur perfekten Messebetreuung \n\nPersonal-Casting\nAuswahl von Hostessen und Hosts\, die Reise- und Outdoor-Produkte verstehen und erlebbar machen.\nBriefing & Planung\nPräzise Einsatzpläne\, Checklisten & Pausenmanagement – abgestimmt auf Ihre Messeziele.\nMesse-Einsatz\nEmpfang\, Besucherführung\, Produktberatung\, Demonstrationen\, VIP-Kontakt – mit deutschem Anspruch.\nOnsite-Koordination\nDeutschsprachige Leitung vor Ort – Ansprechpartner für alle Anliegen während der Messe.\nNachbereitung\nFeedback\, Reporting und Auswertung zur nächsten erfolgreichen Messeoptimierung.\n\nIhre Vorteile auf einen Blick \n\n✅ Deutsche Planung\, sichere Umsetzung\n✅ Kundennahe und produktaffine Messebetreuung\n✅ Professionelle Kommunikation mit Fach- und Endkunden\n✅ Rundum-sorglos – von Aufbau bis Abbau\n✅ Mit Hands-on-Support & persönlicher Leitung vor Ort\n\nJetzt Messepersonal für CARAVANING Barcelona 2025 buchen \nSichern Sie sich: \n\nEin deutsch strukturiertes Briefing & Planungspaket\nMehrsprachige und erfahrene Messekräfte\n\nOnsite-Betreuung durch deutschsprachige Projektleitung \n\n		Jetzt unverbindlich anfragen – wir freuen uns auf Ihre Anfrage!
URL:https://www.fairever-events.com/eventagentur/messepersonal-caravaning-barcelona/
LOCATION:Messe Barcelona\, Av. Joan Carles I\, 64\, L'Hospitalet de Llobregat\, Barcelona\, 08004\, Spain
CATEGORIES:Messen in Barcelona
ATTACH;FMTTYPE=image/jpeg:https://www.fairever-events.com/wp-content/uploads/2025/06/TEXFIRE-EN-CARAVANING-2016.jpg
END:VEVENT
BEGIN:VEVENT
DTSTART;VALUE=DATE:20251015
DTEND;VALUE=DATE:20251020
DTSTAMP:20260420T173235
CREATED:20241130T083923Z
LAST-MODIFIED:20241130T085140Z
UID:7007-1760486400-1760918399@www.fairever-events.com
SUMMARY:Frankfurter Buchmesse 2025
DESCRIPTION:Die Frankfurter Buchmesse 2025\, die weltweit größte Buchmesse\, bietet die perfekte Plattform\, um Ihre Werke und Innovationen einem internationalen Publikum aus Verlegern\, Buchhändlern und Kulturbegeisterten zu präsentieren. Mit FAIREVER an Ihrer Seite sorgen wir dafür\, dass Ihr Stand unter den 7.000 Ausstellern hervorsticht und Ihre Marke die verdiente Aufmerksamkeit erhält. \n\n		Fragen Sie jetzt an\n	\n\nProfessionelle und mehrsprachige Hostessen für die Buch- und Medienbranche \nUnser umfangreicher Pool an qualifizierten Hostessen aus der Region Frankfurt ist speziell auf die Anforderungen der Frankfurter Buchmesse vorbereitet. Alle FAIREVER Hostessen sind mehrsprachig und geschult\, um Ihre Marke charmant und kompetent zu repräsentieren. Ob bei der Begrüßung internationaler Gäste\, der Unterstützung bei Lesungen oder der Begleitung auf Veranstaltungen – unser Team sorgt dafür\, dass Ihr Stand als professioneller und einladender Treffpunkt wahrgenommen wird. \nFAIREVER – Ihr Full-Service-Partner für die Frankfurter Buchmesse \nUnser Full-Service-Angebot umfasst alles\, was Sie für einen erfolgreichen Messeauftritt benötigen: von der kreativen Standgestaltung über die Logistik bis hin zur Bereitstellung erfahrener Hostessen und Hosts. Mit FAIREVER wird Ihre Präsenz auf der Frankfurter Buchmesse 2025 professionell und wirkungsvoll gestaltet. \nEin Messeauftritt\, der inspiriert \nDie Frankfurter Buchmesse begeistert mit ihrem vielfältigen Angebot\, das von Buchpremieren über Lesungen bis hin zu kulturellen Präsentationen des Gastlandes reicht. Unsere Hostessen und Hosts schaffen eine einladende Atmosphäre\, die Ihre Marke und Ihre Inhalte ins Rampenlicht rückt. \nSetzen Sie auf FAIREVER für eine erfolgreiche Präsenz auf der Frankfurter Buchmesse 2025. Kontaktieren Sie uns jetzt für eine unverbindliche Beratung!
URL:https://www.fairever-events.com/eventagentur/frankfurter-buchmesse-hostessen/
LOCATION:Messe Frankfurt\, Ludwig-Erhard-Anlage 1\, Frankfurt am Main\, Hessen\, 60327\, Germany
CATEGORIES:Messen in Frankfurt
ATTACH;FMTTYPE=image/svg+xml:https://www.fairever-events.com/wp-content/uploads/2024/11/Frankfurter_Buchmesse_logo.svg
END:VEVENT
BEGIN:VEVENT
DTSTART;VALUE=DATE:20251021
DTEND;VALUE=DATE:20251030
DTSTAMP:20260420T173235
CREATED:20250624T144442Z
LAST-MODIFIED:20250624T144713Z
UID:7562-1761004800-1761782399@www.fairever-events.com
SUMMARY:Festival-Service Mallorca – Eventpersonal & Betreuung für das EMIFF 2025
DESCRIPTION:Ihr Partner für reibungslose Abläufe beim Evolution Mallorca International Film Festival \nVon glamourösem Roter-Teppich-Moment bis zur diskreten Backstage-Organisation – FAIREVER stellt für das EMIFF 2025 das passende\, mehrsprachige Eventpersonal sowie strukturierte Unterstützung bereit. Mit über 18 Jahren internationaler Event-Erfahrung sorgen wir dafür\, dass Ihr Festivalauftritt in Palma professionell\, entspannt und eindrucksvoll wird. \nWarum FAIREVER die richtige Wahl für das EMIFF ist \nAls erfahrene Full-Service-Agentur für Event- und Festivalpersonal bringen wir Struktur\, Charme und das richtige Gespür für kreative Events mit – und sorgen dafür\, dass alles im Hintergrund läuft\, damit es vorne glänzt. \nWas uns auszeichnet: \n\n✅ Mehrsprachiges Eventpersonal (DE  EN | ES)\n✅ Geschult im Umgang mit VIPs\, Presse und Festivalgästen\n✅ Lokale Betreuung mit internationaler Planungssicherheit\n✅ Persönlicher Ansprechpartner vor\, während und nach dem Festival\n\nWo wir Sie beim EMIFF unterstützen können \nOb Veranstalter\, Filmteam\, Sponsor oder Ehrengast – unsere Teams passen sich flexibel an Ihre Bedürfnisse und Einsatzbereiche an: \nGästebegrüßung & Akkreditierung \nVom Empfang am Flughafen bis zum Check-in im Kino – wir kümmern uns um Gästelisten\, Namensbadges\, Zugangskontrollen und Welcome Desks. \nRoter Teppich & Gala-Service \nVIP-Begleitung\, Fotopositionierung\, reibungsloser Ablauf am Red Carpet – unser Team sorgt für Professionalität mit Gefühl. \nPanels & Sprecherbetreuung \nOb bei „Women in Leadership“ oder einer Masterclass – wir stellen Panel-Betreuung\, Technik-Support oder auch mehrsprachige Assistenz zur Seite. \nPresse- & Produktionsteams \nHinter den Kulissen sind wir verlässliche Helfer – als technische Runners\, Info-Hosts oder Besuchersteuerung. \nHospitality & Vor-Ort-Koordination \nOb Jury oder internationale Delegation – mit unseren Projektleiter:innen vor Ort läuft Ihr Festivalprogramm rund. \nKreative Umfelder brauchen strukturierte Menschen \nWir liefern nicht einfach Personal – wir stellen ein dediziertes Festivalteam\, das mit der Kultur- und Kreativbranche vertraut ist\, internationale Gäste sicher begleitet und dabei flexibel bleibt. Ob Sie einen Film einreichen\, ein Side-Event veranstalten oder das Festival selbst organisieren – FAIREVER ist Ihre starke\, sympathische Präsenz vor Ort. \nLassen Sie das EMIFF 2025 zu Ihrem Highlight werden \nJetzt anfragen und profitieren: \n\nIndividuelle Personal- und Serviceplanung für Ihre Festivaltage\nKlare Preise & schnelle Umsetzung\nLokales Netzwerk kombiniert mit internationalem Qualitätsanspruch\n\n\n		Jetzt unverbindlich anfragen – wir freuen uns auf Ihre Anfrage!
URL:https://www.fairever-events.com/eventagentur/personal-service-emiff-mallorca/
LOCATION:Bayern
CATEGORIES:Messen auf Mallorca
ATTACH;FMTTYPE=image/avif:https://www.fairever-events.com/wp-content/uploads/2025/06/EMIFF-Logo-NO-background.avif
END:VEVENT
BEGIN:VEVENT
DTSTART;VALUE=DATE:20251023
DTEND;VALUE=DATE:20251027
DTSTAMP:20260420T173235
CREATED:20250512T160941Z
LAST-MODIFIED:20250512T161558Z
UID:7344-1761177600-1761523199@www.fairever-events.com
SUMMARY:SPIEL Messe Essen - Messepersonal\, Hostessen & Promotion
DESCRIPTION:Lassen Sie Ihre Spiele live erlebbar werden – auf der SPIEL Essen 2025\, der weltweit größten Publikumsmesse für Brett-\, Karten- und Rollenspiele. Vom 23. bis 26. Oktober 2025 begleitet FAIREVER Ihren Messeauftritt mit enthusiastischem Messepersonal\, kommunikationsstarken Promoter:innen und einem durchdachten Full-Service-Paket – für echte Spielfreude am Stand. \n🎲 Die SPIEL 2025 – Ihre Bühne für Brettspielkultur\, Neuheiten & Verlage\nJedes Jahr begeistert die SPIEL Essen Zehntausende Fans\, Familien und Fachbesucher. Im Mittelpunkt stehen: \n\nBrett- & Kartenspiele für jedes Alter\nRollenspiele\, Tabletop & Miniaturen\nVerlage\, Autoren & Crowdfunding-Projekte\nMitmachaktionen\, Spielrunden & Autogrammstunden\n\n🧩 Messepersonal mit Spielfreude & Zielgruppenverständnis\nUnsere Hostessen und Spielbetreuer:innen sind spielaffin\, sympathisch und zuverlässig – sie übernehmen: \n\nAnleitung und Moderation von Spielrunden (DE/EN)\nAktive Ansprache & Produktpräsentation am Stand\nBetreuung von Kinder-\, Familien- & Expertenspielbereichen\nUnterstützung bei Verkaufsaktionen\, Meet & Greets & Give-aways\n\n🎯 Full-Service für Ihren Messeauftritt auf der SPIEL 2025\nFAIREVER bietet Ihnen einen entspannten Rundum-Service: \n\nAuswahl\, Briefing & Planung des passenden Messepersonals\nOutfits\, Aktionsideen & Logistikkoordination\nVor-Ort-Betreuung & Tageskoordination\nNachbereitung & Auswertung auf Wunsch\n\n📩 Jetzt Messepersonal für die SPIEL Essen 2025 anfragen!\nIhre Spiele begeistern – wir kümmern uns um den Rest. \n\n		Jetzt Anfrage stellen\n	\n\nFAIREVER GmbH – fair. flexibel. nachhaltig. \nIhr Partner für Messepersonal\, Promotion und Full-Service auf der SPIEL 2025 und weiteren Publikums- und Familienmessen. \n 
URL:https://www.fairever-events.com/eventagentur/spiel-messe-essen-messepersonal-hostessen-promotion/
LOCATION:Messe Essen
CATEGORIES:Messen in Essen
ATTACH;FMTTYPE=image/png:https://www.fairever-events.com/wp-content/uploads/2025/05/spiel.png
END:VEVENT
BEGIN:VEVENT
DTSTART;VALUE=DATE:20251026
DTEND;VALUE=DATE:20251030
DTSTAMP:20260420T173235
CREATED:20250508T174601Z
LAST-MODIFIED:20251006T154348Z
UID:7210-1761436800-1761782399@www.fairever-events.com
SUMMARY:idd cologne 2025 - Messepersonal\, Hostessen & Promotion
DESCRIPTION:Setzen Sie Ihre Interior-Design-Marke auf der idd cologne 2025 in Szene. FAIREVER unterstützt Sie mit professionellem Messepersonal und einem maßgeschneiderten Servicepaket für einen erfolgreichen Auftritt.​ \n\n		Fragen Sie jetzt an\n	\n\n🏠 Die idd cologne 2025 – Ihre Bühne für Interior Design \nDie idd cologne präsentiert Trends und Innovationen aus den Bereichen Möbel\, Beleuchtung\, Textilien und mehr.​ \n👩‍💼 Professionelles Messepersonal für die idd cologne 2025 \nUnsere Hostessen und Promoter bieten: \n\nProduktpräsentationen und Kundenberatung\nUnterstützung bei Designvorführungen\nBesuchermanagement und Standorganisation​\n\n🌍 Rundum-Service für Ihre Messepräsenz \nUnser Full-Service-Angebot umfasst: \n\nMessestandgestaltung und Branding\nAuswahl und Schulung des Messepersonals\nPromotionaktionen und Produktvorführungen\nLogistik\, Koordination und Vor-Ort-Betreuung\n\n📩 Jetzt Messepersonal für die idd cologne 2025 anfragen! \n\n		Fragen Sie jetzt an\n	\n\nFAIREVER GmbH – fair. flexibel. nachhaltig.\nIhr Partner für Messepersonal\, Promotion und Full-Service auf der IDD COLOGNE 2025 und weit darüber hinaus. \n  \n  \n 
URL:https://www.fairever-events.com/eventagentur/idd-cologne-messepersonal-hostessen-promotion/
LOCATION:Messe Köln\, Messeplatz 1\, Köln\, NRW\, 50679\, Germany
CATEGORIES:Messen in Köln
ATTACH;FMTTYPE=image/jpeg:https://www.fairever-events.com/wp-content/uploads/2025/05/idd_cologne_840.jpg
END:VEVENT
BEGIN:VEVENT
DTSTART;VALUE=DATE:20251028
DTEND;VALUE=DATE:20251101
DTSTAMP:20260420T173235
CREATED:20250508T174906Z
LAST-MODIFIED:20250508T175016Z
UID:7215-1761609600-1761955199@www.fairever-events.com
SUMMARY:aquanale Köln - Messepersonal\, Hostessen & Promotion
DESCRIPTION:Präsentieren Sie Ihre Produkte auf der aquanale 2025\, der internationalen Fachmesse für Sauna\, Pool und Ambiente. FAIREVER stellt Ihnen erfahrenes Messepersonal und umfassenden Service für einen gelungenen Messeauftritt zur Verfügung.​ \n💧 Die aquanale 2025 – Ihre Bühne für Wellness und Wasser \nDie aquanale bietet eine Plattform für Innovationen und Trends rund um Schwimmbäder\, Saunen und Wellnessanlagen. \n👩‍💼 Professionelles Messepersonal für die aquanale 2025 \nUnsere Hostessen und Promoter bieten: \n\nProduktpräsentationen und Kundenberatung\nUnterstützung bei Vorführungen\nBesuchermanagement und Standbetreuung​\n\n🌍 Rundum-Service für Ihre Messepräsenz \nUnser Full-Service-Angebot umfasst: \n\nMessestandgestaltung und Branding\nAuswahl und Schulung des Messepersonals\nPromotionaktionen und Produktvorführungen\nLogistik\, Koordination und Vor-Ort-Betreuung​\n\n📩 Jetzt Messepersonal für die aquanale 2025 anfragen! \n\n		Fragen Sie jetzt an\n	\n\nFAIREVER GmbH – fair. flexibel. nachhaltig.\nIhr Partner für Messepersonal\, Promotion und Full-Service auf der Aquanale 2025 und weit darüber hinaus. \n  \n 
URL:https://www.fairever-events.com/eventagentur/aquanale-koeln-messepersonal-hostessen-promotion/
LOCATION:Messe Köln\, Messeplatz 1\, Köln\, NRW\, 50679\, Germany
CATEGORIES:Messen in Köln
ATTACH;FMTTYPE=image/jpeg:https://www.fairever-events.com/wp-content/uploads/2025/05/aquanale_logo_1200x630.jpg
END:VEVENT
END:VCALENDAR