BEGIN:VCALENDAR
VERSION:2.0
PRODID:-//FAIREVER - ECPv6.15.20//NONSGML v1.0//EN
CALSCALE:GREGORIAN
METHOD:PUBLISH
X-WR-CALNAME:FAIREVER
X-ORIGINAL-URL:https://www.fairever-events.com
X-WR-CALDESC:Veranstaltungen für FAIREVER
REFRESH-INTERVAL;VALUE=DURATION:PT1H
X-Robots-Tag:noindex
X-PUBLISHED-TTL:PT1H
BEGIN:VTIMEZONE
TZID:Europe/Berlin
BEGIN:DAYLIGHT
TZOFFSETFROM:+0100
TZOFFSETTO:+0200
TZNAME:CEST
DTSTART:20210328T010000
END:DAYLIGHT
BEGIN:STANDARD
TZOFFSETFROM:+0200
TZOFFSETTO:+0100
TZNAME:CET
DTSTART:20211031T010000
END:STANDARD
BEGIN:DAYLIGHT
TZOFFSETFROM:+0100
TZOFFSETTO:+0200
TZNAME:CEST
DTSTART:20220327T010000
END:DAYLIGHT
BEGIN:STANDARD
TZOFFSETFROM:+0200
TZOFFSETTO:+0100
TZNAME:CET
DTSTART:20221030T010000
END:STANDARD
BEGIN:DAYLIGHT
TZOFFSETFROM:+0100
TZOFFSETTO:+0200
TZNAME:CEST
DTSTART:20230326T010000
END:DAYLIGHT
BEGIN:STANDARD
TZOFFSETFROM:+0200
TZOFFSETTO:+0100
TZNAME:CET
DTSTART:20231029T010000
END:STANDARD
END:VTIMEZONE
BEGIN:VEVENT
DTSTART;VALUE=DATE:20220902
DTEND;VALUE=DATE:20220907
DTSTAMP:20260422T122013
CREATED:20220417T091250Z
LAST-MODIFIED:20220417T091326Z
UID:5083-1662076800-1662508799@www.fairever-events.com
SUMMARY:IFA 2022 - Personal und Hostessen
DESCRIPTION:Sie benötigen Hostessen und Personal für die IFA 2022 – Internationale Leitmesse für Consumer und Home Electronics in Berlin? Wir haben den besten Personalpool in Berlin an geschulten\, qualifizierten und motivierten Messehostessen\, Messehosts und Promotern. \n \n		Jetzt Anfrage stellen\n	\n \n\n\nDie IFA ist die global führende Messe für Consumer und Home Electronics. Sie ist seit 1924 eine bedeutende Größe unter den Industrieausstellungen und die älteste Deutschlands. Hier dreht sich alles um Technik\, Spaß und Innovationen. Weltweit führende Marken der Consumer und Home Electronics präsentieren hier jedes Jahr die neuesten Techniktrends\, Innovationen und Highlights der Technikbranche. Die IFA bietet Händlern\, Einkäufern und Experten eine Plattform zum knüpfen von neuen und Pflegen bestehender Kontakte. \nDie IFA 2019 konnte 245.000 Besucher anziehen. Sie reisten aus mehr als 100 Ländern an und ließen sich von den fast 2.000 Ausstellern über die neuesten Produkte\, Innovationen\, Technologien und Konzepte beraten. Die drei großen Technologien Sprachsteuerung\, Künstliche Intelligenz sowie Vernetzung dominierten die Themen der IFA durch alle Produktkategorien hindurch\, insbesondere in Bezug auf den brandaktuellen Themenkomplex 5G. Japan war in diesem Jahr das erste Innovationspartnerland der IFA. Mehr als 2.800 Journalisten aus der ganzen Welt berichteten vor Ort über das Angebot der Veranstaltung. Die IFA unterteilte sich in 8 Segmente\, welche die gesamte Vielfalt an Marken\, Produkten und Innovationen präsentierten: \n\nIFA Next\nIFA Home & Entertainment Electronics\nIFA Audio Entertainment\nIFA Home Appliances\nIFA My Media\nIFA Public Media\nIFA Communication\nIFA Global Markets\n\nIm Rahmen des Begleitprogramms der Messe gab es ein breites Angebot an Veranstaltungen und Highlights. Die IFA Special Areas waren: IFA Next\, Smart Home\, Fitness & Activity\, die iZONE\, der Reseller Park\, sowie die Verleihung der UX Design Awards. Neben Expert Talks und Fachbesucherführungen\, Keynotes\, Summits\, Konferenzen fanden ebenso Konzerte mit bekannten Stars statt.
URL:https://www.fairever-events.com/eventagentur/ifa-2022-personal-hostessen/
LOCATION:Messe Berlin\, Messedamm 22\, Berlin\, Berlin\, 14055\, Germany
CATEGORIES:Messen in Berlin
ATTACH;FMTTYPE=image/jpeg:https://www.fairever-events.com/wp-content/uploads/2022/04/ifa2022_logo.jpg
END:VEVENT
BEGIN:VEVENT
DTSTART;VALUE=DATE:20220920
DTEND;VALUE=DATE:20220924
DTSTAMP:20260422T122013
CREATED:20220510T095058Z
LAST-MODIFIED:20220510T095058Z
UID:5225-1663632000-1663977599@www.fairever-events.com
SUMMARY:InnoTrans 2022 - Hostessen\, Personal & Service
DESCRIPTION:Sie benötigen Hostessen und Personal für die InnoTrans 2022 – Die internationale Leitmesse für Verkehrstechnikin Berlin? Wir haben den besten Personalpool in Berlin an geschulten\, qualifizierten und motivierten Messehostessen\, Messehosts und Promotern und bieten Ihnen den besten Service. \n \n		Jetzt Anfrage stellen\n	\n \nDie InnoTrans ist die internationale Leitmesse für Verkehrstechnik\, die alle zwei Jahre in Berlin stattfindet. Aufgeteilt in die fünf Messesegmente Railway Technology\, Railway Infrastructure\, Public Transport\, Interiors und Tunnel Construction\, belegt die InnoTrans alle 42 Hallen des Berliner Messegeländes. Die InnoTrans Convention\, das hochkarätige Rahmenprogramm der Veranstaltung\, komplementiert die Fachmesse und wird vollständig live gestreamt. Ein Alleinstellungsmerkmal ist das Gleis- und Freigelände der InnoTrans mit 3.500 laufenden Schienenmetern\, auf denen vom Kesselwagen bis zum Hochgeschwindigkeitszug alles vertreten ist. Das Bus Display bietet Fahrzeugherstellern die Möglichkeit\, Busse im Static Display und auf dem direkt angebundenen Demonstration Course zu präsentieren.
URL:https://www.fairever-events.com/eventagentur/innotrans-2022-hostessen-personal-service/
LOCATION:Messe Berlin\, Messedamm 22\, Berlin\, Berlin\, 14055\, Germany
CATEGORIES:Messen in Berlin
ATTACH;FMTTYPE=image/jpeg:https://www.fairever-events.com/wp-content/uploads/2022/05/innotrans_logo-scaled.jpg
END:VEVENT
BEGIN:VEVENT
DTSTART;VALUE=DATE:20220920
DTEND;VALUE=DATE:20220926
DTSTAMP:20260422T122013
CREATED:20220512T070502Z
LAST-MODIFIED:20220514T091153Z
UID:5286-1663632000-1664150399@www.fairever-events.com
SUMMARY:IAA Transportation 2022 - Hostessen\, Personal\, Service
DESCRIPTION:Buchen Sie bei uns qualifizierte Hostessen und geschultes Personal für die IAA Transportation 2022 – die weltweit wichtigste Leitmesse für Transport\, Logistik und Mobilität in Hannover. Wir haben den besten Personalpool in Hannover an erfahrenen und motivierten Messehostessen\, Messehosts und Promotern. Wir garantieren\, dass Ihr Messeauftritt zu einem Erfolg wird und garantieren Ihnen besten Service zu fairen Konditionen. Fair? Ever!\n \n \n		Jetzt Anfrage stellen\n	\n \nDie IAA Nutzfahrzeuge erweitert ihr Konzept und wird als IAA TRANSPORTATION zur internationalen Leitplattform für Logistik\, Nutzfahrzeuge\, Busse und den Transportsektor. Unter dem Motto „People and Goods on the move“ findet die neue IAA TRANSPORTATION vom 20. bis 25. September 2022 in Hannover statt. Mit dem erweiterten Veranstaltungskonzept vernetzt sie erstmals die relevanten Akteure aus den Bereichen Nutzfahrzeuge\, Busse und Logistik mit führenden Tech-Anbietern sowie Zulieferern. Ein wichtiges Ziel des neuen Konzeptes ist es\, als erste internationale Plattform im Verkehrsbereich den Fokus verstärkt auf die klimaneutrale und technologische Transformation des gesamten Transports zu richten. \nAuf der neuen IAA TRANSPORTATION treffen Besucher und Fachpublikum auf internationale Hersteller\, Zulieferer und Newcomer sowie aufstrebende Start-ups\, führende Tech-Firmen\, Energieversorger\, Anbieter von intermodaler Citylogistik und Hochschulen aus aller Welt. Werden Sie Teil des größten Mobilitätsevents des Jahres. Mit der IAA Exhibition\, IAA Experience\, IAA Conference\, IAA Digital und IAA Career bieten wir Ihnen fünf innovative und abwechslungsreiche Formate für Ihre Zielgruppen. Nutzen Sie jetzt Ihre Chance und melden Sie sich an.
URL:https://www.fairever-events.com/eventagentur/iaa-transportation-2022-hostessen-personal-service/
LOCATION:Messe Hannover\, Hermesallee\, Hannover\, 30521\, Germany
CATEGORIES:Messen in Hannover
ATTACH;FMTTYPE=image/png:https://www.fairever-events.com/wp-content/uploads/2022/05/iaa-transportation-logo-lila.png
END:VEVENT
END:VCALENDAR