BEGIN:VCALENDAR
VERSION:2.0
PRODID:-//FAIREVER - ECPv6.15.20//NONSGML v1.0//EN
CALSCALE:GREGORIAN
METHOD:PUBLISH
X-ORIGINAL-URL:https://www.fairever-events.com
X-WR-CALDESC:Veranstaltungen für FAIREVER
REFRESH-INTERVAL;VALUE=DURATION:PT1H
X-Robots-Tag:noindex
X-PUBLISHED-TTL:PT1H
BEGIN:VTIMEZONE
TZID:Europe/Berlin
BEGIN:DAYLIGHT
TZOFFSETFROM:+0100
TZOFFSETTO:+0200
TZNAME:CEST
DTSTART:20210328T010000
END:DAYLIGHT
BEGIN:STANDARD
TZOFFSETFROM:+0200
TZOFFSETTO:+0100
TZNAME:CET
DTSTART:20211031T010000
END:STANDARD
BEGIN:DAYLIGHT
TZOFFSETFROM:+0100
TZOFFSETTO:+0200
TZNAME:CEST
DTSTART:20220327T010000
END:DAYLIGHT
BEGIN:STANDARD
TZOFFSETFROM:+0200
TZOFFSETTO:+0100
TZNAME:CET
DTSTART:20221030T010000
END:STANDARD
BEGIN:DAYLIGHT
TZOFFSETFROM:+0100
TZOFFSETTO:+0200
TZNAME:CEST
DTSTART:20230326T010000
END:DAYLIGHT
BEGIN:STANDARD
TZOFFSETFROM:+0200
TZOFFSETTO:+0100
TZNAME:CET
DTSTART:20231029T010000
END:STANDARD
END:VTIMEZONE
BEGIN:VEVENT
DTSTART;VALUE=DATE:20221002
DTEND;VALUE=DATE:20221007
DTSTAMP:20260422T103401
CREATED:20220510T103256Z
LAST-MODIFIED:20220510T103256Z
UID:5241-1664668800-1665100799@www.fairever-events.com
SUMMARY:Light & Building 2022 - Hostessen\, Personal & Service
DESCRIPTION:Sie benötigen Hostessen und Personal für die Light & Building 2022 – Weltleitmesse für Licht und Gebäudetechnik in Frankfurt? Wir haben den besten Personalpool in Frankfurt an geschulten\, qualifizierten und motivierten Messehostessen\, Messehosts und Promotern. Dazu bieten wir Ihnen Top-Service zu fairen Konditionen. \n \n		Jetzt Anfrage stellen\n	\n \nDie Light & Building in Frankfurt am Main ist die Weltleitmesse für Licht und Gebäudetechnik. Mehr als 2.700 Aussteller präsentieren sich auf der Innovationsmesse und zeigen ihre Weltneuheiten für Licht\, Elektrotechnik sowie Haus- und Gebäudeautomation. Die Light & Building Messe Frankfurt vereint alle stromgeführten Systeme der Gebäudetechnik und fördert die integrierte Gebäudeplanung mit einem in Breite und Tiefe einzigartigem Produktspektrum\, vom Smart Home bis zum Smart Building. Die Industrie zeigt auf der weltgrößten Messe für Licht und Gebäudetechnik intelligente und vernetzte Lösungen\, zukunftsweisende Technologien und aktuelle Designtrends\, die sowohl die Wirtschaftlichkeit eines Gebäudes erhöhen und das Energiesparpotenzial ausschöpfen als auch den Komfort und das Sicherheitsbedürfnis der Nutzer steigern. Von LED-Technologie über Photovoltaik und Elektromobilität bis hin zur intelligenten Stromnutzung mit Smart Metering und Smart Grids ist alles vertreten. Zusätzlich zum breiten Produktangebot der Aussteller überzeugt die Light&Building in Frankfurt mit einem vielseitigen Rahmenprogramm. Für alle Fachbesucher\, wie Architekten\, Ingenieure\, Planer\, Innenarchitekten\, Designer\, Handwerker\, Handel und Industrie gibt es themenspezifische Angebote\, von Sonderschauen über Fachvorträge bis hin zu Trendpräsentationen.
URL:https://www.fairever-events.com/eventagentur/light-building-2022-hostessen-personal-service/
LOCATION:Messe Frankfurt\, Ludwig-Erhard-Anlage 1\, Frankfurt am Main\, Hessen\, 60327\, Germany
CATEGORIES:Messen in Frankfurt
ATTACH;FMTTYPE=image/jpeg:https://www.fairever-events.com/wp-content/uploads/2022/05/Logo-Light-and-Building-2022-Messe-Frankfurt-scaled.jpg
END:VEVENT
BEGIN:VEVENT
DTSTART;VALUE=DATE:20221024
DTEND;VALUE=DATE:20221031
DTSTAMP:20260422T103401
CREATED:20220512T073511Z
LAST-MODIFIED:20220512T073511Z
UID:5306-1666569600-1667174399@www.fairever-events.com
SUMMARY:Bauma 2022 München - Hostessen und Personal buchen
DESCRIPTION:Buchen Sie bei uns qualifizierte Hostessen und geschultes Personal für die Bauma 2022 in München – Die Weltleitmesse für Baumaschinen\, Baustoffmaschinen\, Bergbaumaschinen\, Baufahrzeuge und Baugeräte. Wir verfügen über den besten Personalpool in München an erfahrenen und motivierten Messehostessen\, Messehosts und Promotern. Mit uns wird Ihr Messeauftritt zum Erfolg – garantiert bester Service und faire Konditionen. Fair? Ever!\n \n \n		Jetzt Anfrage stellen\n	\n \nAls internationaler Branchentreffpunkt bietet die bauma einen umfassenden Überblick an Marktführern und Innovationen. Auch bei der kommenden Ausgabe stehen wieder verschiedenste Zukunftsthemen der Bau-\, Baustoff- und Bergbaumaschinenindustrie in Live-Präsentationen\, Diskussionsrunden und Vorträgen im Fokus. Die Trendthemen für die bauma 2022 sind „Der Weg zur Null-Emission“\, „Digitale Baustelle“\, „Bauweisen und Materialien von morgen“\, „Der Weg zu autonomen Maschinen“ sowie „Bergbau – nachhaltig\, effizient und zuverlässig“.
URL:https://www.fairever-events.com/eventagentur/bauma-2022-muenchen-hostessen-personal-agentur/
LOCATION:Messe München\, Messegelände\, München\, Bayern\, 81823\, Germany
CATEGORIES:Messen in München
ATTACH;FMTTYPE=image/png:https://www.fairever-events.com/wp-content/uploads/2022/05/bauma_logo_2022_date_RGB.png
END:VEVENT
BEGIN:VEVENT
DTSTART;VALUE=DATE:20221025
DTEND;VALUE=DATE:20221029
DTSTAMP:20260422T103401
CREATED:20220512T072213Z
LAST-MODIFIED:20220512T072348Z
UID:5299-1666656000-1667001599@www.fairever-events.com
SUMMARY:EuroBLECH 2022 - Hostessen\, Personal\, Service
DESCRIPTION:Buchen Sie bei uns qualifizierte Hostessen und geschultes Personal für die EuroBLECH 2022 – die internationale Technologiemesse für Blechbearbeitung in Hannover. Wir haben den besten Personalpool in Hannover an erfahrenen und motivierten Messehostessen\, Messehosts und Promotern. Mit FAIREVER wird Ihr Messeauftritt zum Erfolg – wir garantieren Ihnen besten Service zu fairen Konditionen. Fair? Ever!\n \n \n		Jetzt Anfrage stellen\n	\n \n\n\nMit ihrem globalen\, investitionsbereiten Fachpublikum und ihrem Schwerpunkt auf innovativer Technologie und spezifischen Lösungen ist die EuroBLECH in einem Umfeld der sich rasch wandelnden Märkte die fokussierte Präsentationsplattform für internationale Hersteller und Anbieter für die blechbearbeitende Industrie. Als vertikale Fachmesse bildet die Veranstaltung die gesamte Technologiekette der Blechbearbeitung ab und bietet der Branche international einen einzigartigen Marktplatz für Wissenstransfer\, die Schaffung individueller Fertigungslösungen und weltweite Geschäftskontakte. \n\n\n\n\nDie blechbearbeitende Industrie hat sich im Zeitalter des digitalen Wandels ganz vorne positioniert. Wichtige Schlüsselthemen\, wie die Mobilität der Zukunft und die nachhaltige Produktion sind entscheidende Innovationstreiber für neue Werkstoffe und Produkte sowie die Digitalisierung von Fertigungsprozessen einschließlich Planung\, Kontrolle und Logistik. \n\n\n\n\nAuf der EuroBLECH 2022 erreichen Hersteller und Anbieter von Werkstoffen\, Maschinen\, Werkzeugen und Systemen ein Publikum\, das derzeit einen umfassenden Innovationsbedarf hat. Um ihre Betriebe fit zu machen für die komplexen Herausforderungen\, die die smarte Fertigung erfordert\, suchen die Besucher auf der EuroBLECH konkret nach Anlagen und Systemen\, mit denen sie flexibel und kosteneffizient auch zukünftig im Wettbewerb bestehen können.
URL:https://www.fairever-events.com/eventagentur/euroblech-2022-hostessen-personal-service/
LOCATION:Messe Hannover\, Hermesallee\, Hannover\, 30521\, Germany
CATEGORIES:Messen in Hannover
ATTACH;FMTTYPE=image/png:https://www.fairever-events.com/wp-content/uploads/2022/05/EB_Logo_Colour_Side_RGB_1000px_transparent.png
END:VEVENT
END:VCALENDAR