BEGIN:VCALENDAR
VERSION:2.0
PRODID:-//FAIREVER - ECPv6.15.20//NONSGML v1.0//EN
CALSCALE:GREGORIAN
METHOD:PUBLISH
X-WR-CALNAME:FAIREVER
X-ORIGINAL-URL:https://www.fairever-events.com
X-WR-CALDESC:Veranstaltungen für FAIREVER
REFRESH-INTERVAL;VALUE=DURATION:PT1H
X-Robots-Tag:noindex
X-PUBLISHED-TTL:PT1H
BEGIN:VTIMEZONE
TZID:Europe/Berlin
BEGIN:DAYLIGHT
TZOFFSETFROM:+0100
TZOFFSETTO:+0200
TZNAME:CEST
DTSTART:20220327T010000
END:DAYLIGHT
BEGIN:STANDARD
TZOFFSETFROM:+0200
TZOFFSETTO:+0100
TZNAME:CET
DTSTART:20221030T010000
END:STANDARD
BEGIN:DAYLIGHT
TZOFFSETFROM:+0100
TZOFFSETTO:+0200
TZNAME:CEST
DTSTART:20230326T010000
END:DAYLIGHT
BEGIN:STANDARD
TZOFFSETFROM:+0200
TZOFFSETTO:+0100
TZNAME:CET
DTSTART:20231029T010000
END:STANDARD
BEGIN:DAYLIGHT
TZOFFSETFROM:+0100
TZOFFSETTO:+0200
TZNAME:CEST
DTSTART:20240331T010000
END:DAYLIGHT
BEGIN:STANDARD
TZOFFSETFROM:+0200
TZOFFSETTO:+0100
TZNAME:CET
DTSTART:20241027T010000
END:STANDARD
END:VTIMEZONE
BEGIN:VEVENT
DTSTART;VALUE=DATE:20230227
DTEND;VALUE=DATE:20230303
DTSTAMP:20260422T010556
CREATED:20220816T084406Z
LAST-MODIFIED:20220816T095902Z
UID:5424-1677456000-1677801599@www.fairever-events.com
SUMMARY:MWC 2023 Barcelona - Hostessen und Personal
DESCRIPTION:Buchen Sie Hostessen und Personal für den Mobile World Congress MWC 2023 in Barcelona – der bedeutendsten internationalen Messe der Mobilfunkbranche – jetzt bei FAIREVER. Wir haben den besten Personalpool in Barcelona an geschulten\, qualifizierten und motivierten Messehostessen\, Messehosts und Promotern. Unser Serviceversprechen: Mit FAIREVER gelingt Ihr Messeauftritt garantiert. \n \n		Jetzt anfragen für Hostessen für die MWC 2023 in Barcelona\n	\n \nÜber 61000 Teilnehmer aus 168 Ländern kommen in Barcelona zusammen\, um die neuesten zukunftsweisenden Konnektivitätstechnologien zu erkunden\, wertvolle B2B-Kontakte zu knüpfen und Einblicke in die Lösungen für die aktuellen Herausforderungen der branchenübergreifenden Konnektivität zu gewinnen. Die ausstellenden Unternehmen kommen aus verschiedenen Bereichen: an der Spitze stehen einflussreiche Technologie- und Mobilfunkanbieter\, ergänzt durch Gerätehersteller\, Verkäufer und Contentanbieter. \nDer MWC in Barcelona ist der internationale Bezugspunkt für die Technologie-\, Mobilfunk- und Konnektivitätsbranche. Auf der jährlich in der Fira de Barcelona stattfindenden MWC-Messe treffen sich regelmäßig über 100000 Fachbesucher und 1500 Aussteller\, um fünf Tage lang Geschäfte zu machen\, Kontakte zu knüpfen und neueste Technik zu präsentieren. Das gesamte mobile Ökosystem wird in der Messe Barcelona von über 2000 ausstellenden Unternehmen aus allen Bereichen\, vom Gesundheitswesen bis zur Automobilindustrie\, präsentiert. \nDie fünftägige Ausstellung bietet eine Reihe von Konferenzen\, Programmen und Workshops\, die für das Publikum von entscheidender Bedeutung sind\, das sein Unternehmen auf die nächste Stufe heben und der Konkurrenz voraus sein will. MWC ist ein branchenübergreifender Ansatz zur Lösung globaler Konnektivitätsprobleme und als solcher ein Muss\, insbesondere für Besucher aus dem mittleren und oberen Management\, die in der digitalen Welt wirklich etwas bewegen wollen. \nUnsere Hostessen und Hosts für den MWC 2023 kommen vorwiegend aus der Region Barcelona und werden von uns bestens auf ihren Einsatz vorbereitet. Die FAIREVER kennt den MWC seit vielen Jahren und bietet Ihnen bei Ihrem Messeauftritt den bestmöglichen Service und das bestmögliche Personal. Fragen Sie jetzt an und erhalten Sie Ihr Angebot für den MWC 2023.
URL:https://www.fairever-events.com/eventagentur/mwc-2023-barcelona-hostessen-und-personal/
LOCATION:Messe Barcelona\, Av. Joan Carles I\, 64\, L'Hospitalet de Llobregat\, Barcelona\, 08004\, Spain
CATEGORIES:Messen in Barcelona
ATTACH;FMTTYPE=image/png:https://www.fairever-events.com/wp-content/uploads/2022/08/mwc-logo.png
END:VEVENT
BEGIN:VEVENT
DTSTART;VALUE=DATE:20230314
DTEND;VALUE=DATE:20230317
DTSTAMP:20260422T010556
CREATED:20230309T143024Z
LAST-MODIFIED:20230309T143113Z
UID:5579-1678752000-1679011199@www.fairever-events.com
SUMMARY:embedded world 2023 Nürnberg - Hostessen und Personal
DESCRIPTION:Buchen Sie Hostessen und Personal für die embedded world 2023 in Nürnberg – die internationale Weltleitmesse für Embedded-Systeme – jetzt bei FAIREVER. Wir haben den besten Personalpool in Nürnberg an geschulten\, qualifizierten und motivierten Messehostessen\, Messehosts und Promotern. Unser Serviceversprechen: Mit FAIREVER gelingt Ihr Messeauftritt garantiert. \n \n		Jetzt Anfrage stellen\n	\n \n\n\n\nDie embedded world ist eine jährliche Messe und Konferenz\, die sich auf Embedded-Systeme und deren Anwendungen konzentriert. Embedded-Systeme sind Computer-Systeme\, die in anderen Geräten eingebettet sind und spezielle Funktionen ausführen\, wie zum Beispiel Steuerungssysteme für Autos oder Flugzeuge\, medizinische Geräte oder industrielle Automatisierungssysteme. \nDie embedded world Messe bietet eine Plattform für Unternehmen\, die Embedded-Systeme entwickeln und anwenden\, um ihre Produkte und Dienstleistungen zu präsentieren. Die Messe bietet auch Möglichkeiten zum Networking und Wissenstransfer durch Konferenzen\, Seminare und Workshops zu aktuellen Themen und Trends in der Branche. \nDie Messe zieht jedes Jahr tausende Besucher aus der ganzen Welt an und ist ein wichtiger Treffpunkt für Experten und Unternehmen\, die in der Embedded-System-Branche tätig sind.
URL:https://www.fairever-events.com/eventagentur/embedded-world-2023-nuernberg-hostessen-und-personal/
LOCATION:Messe Nürnberg\, Messezentrum 1\, Nürnberg\, Bayern\, 90471\, Germany
CATEGORIES:Messen in Nürnberg
ATTACH;FMTTYPE=image/svg+xml:https://www.fairever-events.com/wp-content/uploads/2023/03/embeddedworld-logo.svg
END:VEVENT
BEGIN:VEVENT
DTSTART;VALUE=DATE:20230314
DTEND;VALUE=DATE:20230319
DTSTAMP:20260422T010556
CREATED:20230309T150734Z
LAST-MODIFIED:20230309T151008Z
UID:5592-1678752000-1679183999@www.fairever-events.com
SUMMARY:IDS Internationale Dental-Schau 2023 - Hostessen\, Personal und Service
DESCRIPTION:Buchen Sie Hostessen und Personal für die IDS 2023 – die Weltleitmesse der Dentalbranche in Köln – bei FAIREVER. Wir haben den besten Personalpool in Köln an geschulten\, qualifizierten und motivierten Messehostessen\, Messehosts und Promotern. Und den besten Service.\n \n \n		Jetzt Anfrage stellen\n	\n \n\n\n\nDie IDS (Internationale Dental-Schau) ist eine Fachmesse für die Dentalindustrie\, die alle zwei Jahre in Köln\, Deutschland\, stattfindet. Die Messe ist eine der größten und wichtigsten Veranstaltungen der Dentalbranche und zieht Fachleute aus der ganzen Welt an. \nDie IDS Köln bietet eine Plattform für Unternehmen\, um ihre neuesten Produkte\, Technologien und Dienstleistungen in der Zahnmedizin vorzustellen. Hierzu gehören unter anderem Geräte\, Instrumente\, Materialien\, Software und digitale Technologien\, die in der Zahnheilkunde eingesetzt werden. \nDie Messe bietet auch eine Gelegenheit für Zahnärzte\, Kieferorthopäden\, Zahntechniker und andere Fachleute\, sich über die neuesten Entwicklungen und Trends in der Dentalindustrie zu informieren. Es gibt auch verschiedene Workshops\, Vorträge und Präsentationen\, bei denen die Teilnehmer ihr Wissen und ihre Fähigkeiten erweitern können. \nInsgesamt ist die IDS Köln eine wichtige Plattform für Unternehmen und Fachleute\, um Kontakte zu knüpfen\, ihre Geschäfte zu erweitern und die Dentalindustrie voranzutreiben.
URL:https://www.fairever-events.com/eventagentur/ids-internationale-dental-schau-2023-hostessen-personal-und-service/
LOCATION:Messe Köln\, Messeplatz 1\, Köln\, NRW\, 50679\, Germany
CATEGORIES:Messen in Köln
ATTACH;FMTTYPE=image/webp:https://www.fairever-events.com/wp-content/uploads/2023/03/IDS-2023.jpg.webp
END:VEVENT
END:VCALENDAR