BEGIN:VCALENDAR
VERSION:2.0
PRODID:-//FAIREVER - ECPv6.15.20//NONSGML v1.0//EN
CALSCALE:GREGORIAN
METHOD:PUBLISH
X-ORIGINAL-URL:https://www.fairever-events.com
X-WR-CALDESC:Veranstaltungen für FAIREVER
REFRESH-INTERVAL;VALUE=DURATION:PT1H
X-Robots-Tag:noindex
X-PUBLISHED-TTL:PT1H
BEGIN:VTIMEZONE
TZID:Europe/Berlin
BEGIN:DAYLIGHT
TZOFFSETFROM:+0100
TZOFFSETTO:+0200
TZNAME:CEST
DTSTART:20220327T010000
END:DAYLIGHT
BEGIN:STANDARD
TZOFFSETFROM:+0200
TZOFFSETTO:+0100
TZNAME:CET
DTSTART:20221030T010000
END:STANDARD
BEGIN:DAYLIGHT
TZOFFSETFROM:+0100
TZOFFSETTO:+0200
TZNAME:CEST
DTSTART:20230326T010000
END:DAYLIGHT
BEGIN:STANDARD
TZOFFSETFROM:+0200
TZOFFSETTO:+0100
TZNAME:CET
DTSTART:20231029T010000
END:STANDARD
BEGIN:DAYLIGHT
TZOFFSETFROM:+0100
TZOFFSETTO:+0200
TZNAME:CEST
DTSTART:20240331T010000
END:DAYLIGHT
BEGIN:STANDARD
TZOFFSETFROM:+0200
TZOFFSETTO:+0100
TZNAME:CET
DTSTART:20241027T010000
END:STANDARD
END:VTIMEZONE
BEGIN:VEVENT
DTSTART;VALUE=DATE:20230509
DTEND;VALUE=DATE:20230513
DTSTAMP:20260421T212100
CREATED:20230309T172957Z
LAST-MODIFIED:20230309T174415Z
UID:5632-1683590400-1683935999@www.fairever-events.com
SUMMARY:transport logistic 2023 - Hostessen\, Personal und Service Agentur
DESCRIPTION:Buchen Sie Hostessen und Personal für die transport logistic 2023 – weltweite Leitmesse für Logistik und Transport – jetzt bei FAIREVER. Wir haben den besten Personalpool in München an geschulten\, qualifizierten und motivierten Messehostessen\, Messehosts und Promotern. Unser Serviceversprechen: Mit FAIREVER gelingt Ihr Messeauftritt garantiert. \n \n		Jetzt Anfrage stellen\n	\n \nDie transport logistic Messe ist eine internationale Fachmesse für Logistik\, Mobilität\, IT und Supply Chain Management. Sie findet alle zwei Jahre in München\, Deutschland statt und ist eine der weltweit größten Messen in der Branche. Auf der Messe präsentieren über 2.000 Aussteller aus mehr als 60 Ländern ihre neuesten Produkte und Dienstleistungen aus den Bereichen Transport\, Logistik und Telematik. Die Messe bietet außerdem ein umfangreiches Rahmenprogramm mit Fachforen\, Konferenzen und Podiumsdiskussionen zu aktuellen Themen der Branche. \nDie transport logistic Messe ist ein wichtiger Treffpunkt für Entscheidungsträger aus Industrie\, Handel und Logistikdienstleistern\, um Kontakte zu knüpfen\, sich über Trends und Entwicklungen zu informieren und neue Geschäftspartner zu finden.
URL:https://www.fairever-events.com/eventagentur/transport-logistic-2023-hostessen-personal-und-service-agentur/
LOCATION:Messe München\, Messegelände\, München\, Bayern\, 81823\, Germany
CATEGORIES:Messen in München
ATTACH;FMTTYPE=image/svg+xml:https://www.fairever-events.com/wp-content/uploads/2023/03/Logo_Transport_Logistic.svg
END:VEVENT
END:VCALENDAR