BEGIN:VCALENDAR
VERSION:2.0
PRODID:-//FAIREVER - ECPv6.15.20//NONSGML v1.0//EN
CALSCALE:GREGORIAN
METHOD:PUBLISH
X-ORIGINAL-URL:https://www.fairever-events.com
X-WR-CALDESC:Veranstaltungen für FAIREVER
REFRESH-INTERVAL;VALUE=DURATION:PT1H
X-Robots-Tag:noindex
X-PUBLISHED-TTL:PT1H
BEGIN:VTIMEZONE
TZID:Europe/Berlin
BEGIN:DAYLIGHT
TZOFFSETFROM:+0100
TZOFFSETTO:+0200
TZNAME:CEST
DTSTART:20220327T010000
END:DAYLIGHT
BEGIN:STANDARD
TZOFFSETFROM:+0200
TZOFFSETTO:+0100
TZNAME:CET
DTSTART:20221030T010000
END:STANDARD
BEGIN:DAYLIGHT
TZOFFSETFROM:+0100
TZOFFSETTO:+0200
TZNAME:CEST
DTSTART:20230326T010000
END:DAYLIGHT
BEGIN:STANDARD
TZOFFSETFROM:+0200
TZOFFSETTO:+0100
TZNAME:CET
DTSTART:20231029T010000
END:STANDARD
BEGIN:DAYLIGHT
TZOFFSETFROM:+0100
TZOFFSETTO:+0200
TZNAME:CEST
DTSTART:20240331T010000
END:DAYLIGHT
BEGIN:STANDARD
TZOFFSETFROM:+0200
TZOFFSETTO:+0100
TZNAME:CET
DTSTART:20241027T010000
END:STANDARD
END:VTIMEZONE
BEGIN:VEVENT
DTSTART;VALUE=DATE:20230901
DTEND;VALUE=DATE:20230906
DTSTAMP:20260421T135931
CREATED:20230311T112607Z
LAST-MODIFIED:20230311T112652Z
UID:5711-1693526400-1693958399@www.fairever-events.com
SUMMARY:IFA 2023 - Hostessen\, Personal und Full-Service-Messeagentur Berlin
DESCRIPTION:Buchen Sie bei uns Hostessen und Personal für die IFA 2023 in Berlin\, der weltweit größten Messe für Unterhaltungselektronik und Haushaltsgeräte. Wir haben das beste Personal in Berlin an geschulten\, qualifizierten und motivierten Messehostessen\, Messehosts und Promotern. Unser Serviceversprechen: Mit FAIREVER gelingt Ihr Messeauftritt garantiert. \n\n		Jetzt Anfrage stellen\n	\n\n\n\n\nDie IFA (Internationale Funkausstellung) ist eine der weltweit größten Messen für Unterhaltungselektronik und Haushaltsgeräte. Die Messe findet jährlich in Berlin statt und zieht Aussteller und Besucher aus der ganzen Welt an. \nAuf der IFA werden die neuesten Technologien und Produkte in den Bereichen Unterhaltungselektronik\, Telekommunikation\, Haushaltsgeräte\, Smart Home\, Künstliche Intelligenz\, virtuelle Realität\, 5G-Netzwerke und vieles mehr präsentiert. Die Messe bietet Unternehmen die Möglichkeit\, ihre Produkte und Technologien zu präsentieren\, Networking-Möglichkeiten und die Chance\, die neuesten Trends in der Branche zu erkunden. \nDie IFA 2023 wird voraussichtlich erneut eine Vielzahl von Ausstellern und Besuchern aus der ganzen Welt anziehen und wird eine wichtige Plattform für Innovationen und Trends in der Unterhaltungselektronik- und Haushaltsgerätebranche sein.
URL:https://www.fairever-events.com/eventagentur/ifa-2023-hostessen-personal-full-service-messeagentur-berlin/
LOCATION:Messe Berlin\, Messedamm 22\, Berlin\, Berlin\, 14055\, Germany
CATEGORIES:Messen in Berlin
ATTACH;FMTTYPE=image/webp:https://www.fairever-events.com/wp-content/uploads/2023/03/ifa2023_logo_NEG_COL.1.webp
END:VEVENT
BEGIN:VEVENT
DTSTART;VALUE=DATE:20230905
DTEND;VALUE=DATE:20230911
DTSTAMP:20260421T135931
CREATED:20220516T071826Z
LAST-MODIFIED:20220516T071826Z
UID:5368-1693872000-1694390399@www.fairever-events.com
SUMMARY:IAA Mobility 2023 - Hostessen und Personal
DESCRIPTION:Buchen Sie Hostessen und Personal für die IAA Mobility 2023 in München – Die Internationale Automobil-Ausstellung- jetzt bei FAIREVER. Wir haben den besten Personalpool in München an geschulten\, qualifizierten und motivierten Messehostessen\, Messehosts und Promotern. Unser Serviceversprechen: Mit FAIREVER gelingt Ihr Messeauftritt garantiert. \n \n		Jetzt Anfrage stellen\n	\n \nNach dem großen Erfolg der ersten IAA MOBILITY steht der Termin für die nächste Auflage bereits fest. Vom 5. bis 10. September 2023 werden in München wieder die wichtigsten Innovationen aus allen Bereichen der Mobilität vorgestellt und der Weg in eine klimaneutrale Zukunft diskutiert.
URL:https://www.fairever-events.com/eventagentur/iaa-mobility-muenchen-hostessen-personal/
LOCATION:Messe München\, Messegelände\, München\, Bayern\, 81823\, Germany
CATEGORIES:Messen in München
ATTACH;FMTTYPE=image/png:https://www.fairever-events.com/wp-content/uploads/2022/05/IAA_Mobility_Logo.png
END:VEVENT
BEGIN:VEVENT
DTSTART;VALUE=DATE:20230918
DTEND;VALUE=DATE:20230924
DTSTAMP:20260421T135931
CREATED:20220515T092713Z
LAST-MODIFIED:20220515T093519Z
UID:5357-1694995200-1695513599@www.fairever-events.com
SUMMARY:EMO 2023 Hannover - Hostessen und Personal
DESCRIPTION:Buchen Sie Hostessen und Personal für die EMO 2023 in Hannover – Weltleitmesse der Produktionstechnologie – jetzt bei FAIREVER. Wir haben den besten Personalpool in Hannover an geschulten\, qualifizierten und motivierten Messehostessen\, Messehosts und Promotern. Unser Serviceversprechen: Mit FAIREVER gelingt Ihr Messeauftritt garantiert. \n \n		Jetzt Anfrage stellen\n	\n \nDie Messe EMO Hannover ist die Weltleitmesse der Metallbearbeitung. Rund 2.000 Aussteller präsentieren sich auf der EMO Messe Hannover und zeigen das gesamte Angebot der Metallbearbeitungstechnik. Die internationale Produktionstechnologie wandelt sich mit nie dagewesener Geschwindigkeit. Als Weltleitmesse der Fertigungsindustrie und internationale Business-Plattform sind wir nicht nur Teil dieses Wandels – wir gestalten ihn aktiv mit. Deshalb definieren wir uns neu: Da die Dienstleistungen und Produkte unserer Aussteller inzwischen weit über die Metallbearbeitung hinausreichen\, steht die gesamte Produktionstechnologie noch viel deutlicher als zuvor im Mittelpunkt. Zudem rücken angrenzende Themenbereiche und Aspekte wie branchenweite und -übergreifende Vernetzung und Weiterbildung stärker in den Fokus.
URL:https://www.fairever-events.com/eventagentur/emo-2023-hannover-hostessen-personal/
LOCATION:Messe Hannover\, Hermesallee\, Hannover\, 30521\, Germany
CATEGORIES:Messen in Hannover
ATTACH;FMTTYPE=image/jpeg:https://www.fairever-events.com/wp-content/uploads/2022/05/emo-logo_claim_rgb_pos.jpg
END:VEVENT
END:VCALENDAR