BEGIN:VCALENDAR
VERSION:2.0
PRODID:-//FAIREVER - ECPv6.15.20//NONSGML v1.0//EN
CALSCALE:GREGORIAN
METHOD:PUBLISH
X-ORIGINAL-URL:https://www.fairever-events.com
X-WR-CALDESC:Veranstaltungen für FAIREVER
REFRESH-INTERVAL;VALUE=DURATION:PT1H
X-Robots-Tag:noindex
X-PUBLISHED-TTL:PT1H
BEGIN:VTIMEZONE
TZID:Europe/Berlin
BEGIN:DAYLIGHT
TZOFFSETFROM:+0100
TZOFFSETTO:+0200
TZNAME:CEST
DTSTART:20220327T010000
END:DAYLIGHT
BEGIN:STANDARD
TZOFFSETFROM:+0200
TZOFFSETTO:+0100
TZNAME:CET
DTSTART:20221030T010000
END:STANDARD
BEGIN:DAYLIGHT
TZOFFSETFROM:+0100
TZOFFSETTO:+0200
TZNAME:CEST
DTSTART:20230326T010000
END:DAYLIGHT
BEGIN:STANDARD
TZOFFSETFROM:+0200
TZOFFSETTO:+0100
TZNAME:CET
DTSTART:20231029T010000
END:STANDARD
BEGIN:DAYLIGHT
TZOFFSETFROM:+0100
TZOFFSETTO:+0200
TZNAME:CEST
DTSTART:20240331T010000
END:DAYLIGHT
BEGIN:STANDARD
TZOFFSETFROM:+0200
TZOFFSETTO:+0100
TZNAME:CET
DTSTART:20241027T010000
END:STANDARD
END:VTIMEZONE
BEGIN:VEVENT
DTSTART;VALUE=DATE:20231007
DTEND;VALUE=DATE:20231016
DTSTAMP:20260421T120825
CREATED:20230322T151726Z
LAST-MODIFIED:20230326T091514Z
UID:5771-1696636800-1697414399@www.fairever-events.com
SUMMARY:Salón Internacional del Caravaning 2023 Barcelona
DESCRIPTION:Buchen Sie bei uns Hostessen und Personal für Ihren Messestand auf dem Salón Internacional del Caravaning 2023 Messe in Barcelona\, die internationale Fachmesse für Caravans. Wir haben das beste Personal in Barcelona an geschulten\, qualifizierten und motivierten Messehostessen\, Messehosts und Promotern. Unser Serviceversprechen: Mit FAIREVER gelingt Ihr Messeauftritt garantiert. \n\n		Jetzt Anfrage stellen\n	\n\nDie Salón Internacional del Caravaning ist eine der größten und wichtigsten Messen für Caravaning und Camping in Spanien. Die Messe findet seit mehr als 30 Jahren statt und wird von der Vereinigung der Caravaning-Industrie (ASEICAR) organisiert. \nDie Messe bietet den Besuchern eine breite Palette von Wohnmobilen\, Caravans\, Zelten\, Campingausrüstungen und Zubehör sowie Dienstleistungen rund um den Caravaning-Bereich. Hier haben die Besucher die Möglichkeit\, die neuesten Modelle von Wohnmobilen und Caravans zu sehen\, sich über die neuesten Technologien und Trends im Caravaning-Bereich zu informieren und sich mit Fachleuten und anderen Enthusiasten auszutauschen. \nDie Salón Internacional del Caravaning findet in der Regel alle zwei Jahre statt und dauert etwa fünf Tage. Die letzte Ausgabe fand im Jahr 2019 statt. \nDie Messe zieht sowohl Fachleute als auch Endverbraucher aus ganz Spanien und anderen Ländern an. Es gibt auch verschiedene Aktivitäten und Veranstaltungen im Rahmen der Messe\, wie z.B. Workshops\, Seminare\, Vorträge und Präsentationen. \nInsgesamt ist die Salón Internacional del Caravaning eine ausgezeichnete Gelegenheit für alle\, die sich für Caravaning und Camping interessieren\, um die neuesten Entwicklungen und Trends im Bereich des mobilen Reisens zu erfahren und sich mit anderen Enthusiasten und Fachleuten auszutauschen.
URL:https://www.fairever-events.com/eventagentur/caravaning-2023-hostessen-personal-full-service-messeagentur-barcelona/
LOCATION:Messe Barcelona\, Av. Joan Carles I\, 64\, L'Hospitalet de Llobregat\, Barcelona\, 08004\, Spain
CATEGORIES:Messen in Barcelona
ATTACH;FMTTYPE=image/png:https://www.fairever-events.com/wp-content/uploads/2023/03/caravaning.png
END:VEVENT
BEGIN:VEVENT
DTSTART;VALUE=DATE:20231024
DTEND;VALUE=DATE:20231027
DTSTAMP:20260421T120825
CREATED:20230322T160607Z
LAST-MODIFIED:20230326T091403Z
UID:5786-1698105600-1698364799@www.fairever-events.com
SUMMARY:CPhI Barcelona 2023
DESCRIPTION:Buchen Sie bei uns Hostessen und Personal für Ihren Messestand auf der CPhI 2023 Messe in Barcelona\, die Internationale Messe der pharmazeutischen Industrie. Wir haben das beste Personal in Barcelona an geschulten\, qualifizierten und motivierten Messehostessen\, Messehosts und Promotern. Unser Serviceversprechen: Mit FAIREVER gelingt Ihr Messeauftritt garantiert. \n\n		Jetzt Anfrage stellen\n	\n\n\nDie CPhI (Convention on Pharmaceutical Ingredients) Worldwide ist eine internationale Fachmesse für die Pharmaindustrie\, die jedes Jahr an verschiedenen Standorten weltweit stattfindet\, dieses Jahr in Barcelona. \nDie Messe bietet eine Plattform für Unternehmen und Fachleute aus der pharmazeutischen Industrie\, um sich zu treffen\, Kontakte zu knüpfen\, neue Produkte und Technologien zu präsentieren und Informationen über die neuesten Trends und Entwicklungen in der Branche auszutauschen. Die CPhI-Messe ist in verschiedene Bereiche unterteilt\, die die verschiedenen Aspekte der Pharmaindustrie abdecken\, darunter Wirkstoffe\, Hilfsstoffe\, Biotechnologie\, Naturheilmittel\, Verpackungen\, Labortechnik und mehr. \nDie Messe zieht jedes Jahr tausende von Besuchern aus der ganzen Welt an\, darunter Hersteller\, Händler\, Lieferanten\, Einkäufer\, Wissenschaftler und Regulierungsbehörden. Die Veranstaltung bietet eine hervorragende Gelegenheit\, Geschäftsbeziehungen aufzubauen\, neue Produkte zu entdecken\, Branchenkenntnisse zu erlangen und über die neuesten Entwicklungen in der Pharmaindustrie auf dem Laufenden zu bleiben. \nDie CPhI Worldwide wird in der Regel von einer Reihe von Veranstaltungen\, Seminaren\, Konferenzen und Podiumsdiskussionen begleitet\, auf denen Experten aus der Branche über aktuelle Themen und Herausforderungen referieren.
URL:https://www.fairever-events.com/eventagentur/cphi-barcelona-2023-hostessen-personal-messeagentur/
LOCATION:Messe Barcelona\, Av. Joan Carles I\, 64\, L'Hospitalet de Llobregat\, Barcelona\, 08004\, Spain
CATEGORIES:Messen in Barcelona
ATTACH;FMTTYPE=image/png:https://www.fairever-events.com/wp-content/uploads/2023/03/CPhI.png
END:VEVENT
END:VCALENDAR