BEGIN:VCALENDAR
VERSION:2.0
PRODID:-//FAIREVER - ECPv6.15.20//NONSGML v1.0//EN
CALSCALE:GREGORIAN
METHOD:PUBLISH
X-WR-CALNAME:FAIREVER
X-ORIGINAL-URL:https://www.fairever-events.com
X-WR-CALDESC:Veranstaltungen für FAIREVER
REFRESH-INTERVAL;VALUE=DURATION:PT1H
X-Robots-Tag:noindex
X-PUBLISHED-TTL:PT1H
BEGIN:VTIMEZONE
TZID:Europe/Berlin
BEGIN:DAYLIGHT
TZOFFSETFROM:+0100
TZOFFSETTO:+0200
TZNAME:CEST
DTSTART:20230326T010000
END:DAYLIGHT
BEGIN:STANDARD
TZOFFSETFROM:+0200
TZOFFSETTO:+0100
TZNAME:CET
DTSTART:20231029T010000
END:STANDARD
BEGIN:DAYLIGHT
TZOFFSETFROM:+0100
TZOFFSETTO:+0200
TZNAME:CEST
DTSTART:20240331T010000
END:DAYLIGHT
BEGIN:STANDARD
TZOFFSETFROM:+0200
TZOFFSETTO:+0100
TZNAME:CET
DTSTART:20241027T010000
END:STANDARD
BEGIN:DAYLIGHT
TZOFFSETFROM:+0100
TZOFFSETTO:+0200
TZNAME:CEST
DTSTART:20250330T010000
END:DAYLIGHT
BEGIN:STANDARD
TZOFFSETFROM:+0200
TZOFFSETTO:+0100
TZNAME:CET
DTSTART:20251026T010000
END:STANDARD
END:VTIMEZONE
BEGIN:VEVENT
DTSTART;VALUE=DATE:20240823
DTEND;VALUE=DATE:20240828
DTSTAMP:20260420T173600
CREATED:20230326T105132Z
LAST-MODIFIED:20240113T094924Z
UID:5911-1724371200-1724803199@www.fairever-events.com
SUMMARY:Gamescom 2024 Köln
DESCRIPTION:Gamescom 2024 – Fairever: Ihr Partner für ein Messeerlebnis der Extraklasse!\nWillkommen auf dem weltweit größten Event für Computer- und Videospiele – der Gamescom 2024 in Köln. Als Aussteller suchen Sie nach einer Messeagentur\, die nicht nur Ihren Messestand\, sondern auch die Faszination und Begeisterung Ihrer Gaming-Produkte perfekt präsentiert. Fairever ist Ihr Full-Service-Management-Partner\, der nicht nur Ihre Spiele\, sondern auch die Gaming-Community in den Mittelpunkt stellt. \nGemeinsam mit Fairever gestalten Sie einen Messeauftritt\, der nicht nur die Aufmerksamkeit der Gaming-Enthusiasten auf sich zieht\, sondern auch ein echtes Spielerlebnis schafft. Unser Team von fachkundigen Hostessen und geschultem Standpersonal repräsentiert Ihr Unternehmen nicht nur mit Professionalität\, sondern auch mit einer Leidenschaft für Gaming\, um die Besucher in die Welt Ihrer Spiele eintauchen zu lassen. \nWir entwickeln für Sie eine zielgerichtete Kommunikationsstrategie\, die nicht nur Informationen vermittelt\, sondern auch die Emotionen und Thematik Ihrer Spiele transportiert. Von der detaillierten Planung bis zur umfassenden Nachbereitung begleitet Sie Fairever als Rundum-Servicepartner. Wir kümmern uns um die organisatorischen Details\, damit Sie sich auf das Wesentliche konzentrieren können – das authentische Gaming-Erlebnis für Ihre Zielgruppe. \nErreichen Sie mit Fairever nicht nur Aufmerksamkeit\, sondern auch die aktive Teilnahme der Gaming-Community. Unsere interaktiven Präsentationen begeistern die Besucher und verschaffen Ihnen wertvolle Kontakte. Seien Sie Teil der Gamescom 2024 und präsentieren Sie mit uns als Partner Ihre Spiele in einer einzigartigen Atmosphäre. Kontaktieren Sie uns noch heute und lassen Sie uns gemeinsam Ihren Messeerfolg planen! \n\n		Jetzt Anfrage stellen
URL:https://www.fairever-events.com/eventagentur/gamescom-2024-koeln-hostessen-messe-und-eventagentur/
LOCATION:Messe Köln\, Messeplatz 1\, Köln\, NRW\, 50679\, Germany
CATEGORIES:Messen in Köln
ATTACH;FMTTYPE=image/jpeg:https://www.fairever-events.com/wp-content/uploads/2023/03/Gamescom-Logo-scaled.jpg
END:VEVENT
END:VCALENDAR