BEGIN:VCALENDAR
VERSION:2.0
PRODID:-//FAIREVER - ECPv6.15.20//NONSGML v1.0//EN
CALSCALE:GREGORIAN
METHOD:PUBLISH
X-ORIGINAL-URL:https://www.fairever-events.com
X-WR-CALDESC:Veranstaltungen für FAIREVER
REFRESH-INTERVAL;VALUE=DURATION:PT1H
X-Robots-Tag:noindex
X-PUBLISHED-TTL:PT1H
BEGIN:VTIMEZONE
TZID:Europe/Berlin
BEGIN:DAYLIGHT
TZOFFSETFROM:+0100
TZOFFSETTO:+0200
TZNAME:CEST
DTSTART:20250330T010000
END:DAYLIGHT
BEGIN:STANDARD
TZOFFSETFROM:+0200
TZOFFSETTO:+0100
TZNAME:CET
DTSTART:20251026T010000
END:STANDARD
BEGIN:DAYLIGHT
TZOFFSETFROM:+0100
TZOFFSETTO:+0200
TZNAME:CEST
DTSTART:20260329T010000
END:DAYLIGHT
BEGIN:STANDARD
TZOFFSETFROM:+0200
TZOFFSETTO:+0100
TZNAME:CET
DTSTART:20261025T010000
END:STANDARD
BEGIN:DAYLIGHT
TZOFFSETFROM:+0100
TZOFFSETTO:+0200
TZNAME:CEST
DTSTART:20270328T010000
END:DAYLIGHT
BEGIN:STANDARD
TZOFFSETFROM:+0200
TZOFFSETTO:+0100
TZNAME:CET
DTSTART:20271031T010000
END:STANDARD
END:VTIMEZONE
BEGIN:VEVENT
DTSTART;VALUE=DATE:20261022
DTEND;VALUE=DATE:20261026
DTSTAMP:20260422T022716
CREATED:20260420T174824Z
LAST-MODIFIED:20260420T174824Z
UID:8372-1792627200-1792972799@www.fairever-events.com
SUMMARY:Messepersonal\, Hostessen & Promotion für die SPIEL Essen 2026
DESCRIPTION:Nutzen Sie die weltweit größte Publikumsmesse für Brett- und Gesellschaftsspiele – auf der SPIEL in Essen. Die Veranstaltung zieht jedes Jahr hunderttausende spielebegeisterte Besucher aus aller Welt an und bietet ideale Voraussetzungen für direkte Verkäufe\, Markenaufbau und Community-Building. \nMit FAIREVER buchen Sie professionelles Messepersonal für die SPIEL Essen\, das Ihre Spiele\, Produkte und Marken erlebbar macht und aktiv zur Conversion am Stand beiträgt. \n\n		Jetzt Anfrage stellen\n	\n\nDie SPIEL Essen – Gaming\, Community & internationale Reichweite \nDie SPIEL ist die weltweit größte Messe für Brett- und Kartenspiele und ein zentraler Treffpunkt der globalen Spielebranche. Jährlich kommen rund 220.000 Besucher aus über 80 Ländern nach Essen\, um Neuheiten zu entdecken und direkt auszuprobieren. \nIm Fokus stehen: • Brettspiele\, Kartenspiele & Neuerscheinungen • Indie-Games & internationale Verlage • Familienspiele\, Expertenspiele & Partygames • Zubehör\, Erweiterungen & Sammlerartikel • Live-Erklärungen\, Events & Community-Aktionen \nBesucher testen Spiele direkt vor Ort\, tauschen sich mit Verlagen aus und kaufen Produkte unmittelbar am Stand – perfekte Bedingungen für direkten Umsatz und Markenbindung. \nMessehostessen & Promotionpersonal für die SPIEL Essen \nUnser Messepersonal ist speziell auf interaktive\, publikumsstarke Messen mit hoher Besucherfrequenz vorbereitet: \n\nAktive Ansprache und Animation von Besuchern • Unterstützung bei Spiel-Erklärungen & Demos • Verkaufsunterstützung direkt am Stand • Betreuung von Warteschlangen & Besucherströmen • Lead-Erfassung & Community-Aktivierung\n\nIdeal für Spieleverlage\, Händler\, Start-ups und Marken im Entertainment-Bereich. \nFull-Service für Ihren Messeauftritt in Essen \nFAIREVER unterstützt Sie ganzheitlich bei Ihrem Auftritt auf der SPIEL: \n\nAuswahl von kommunikationsstarkem\, aktivem Personal • Briefing auf Spiele\, Zielgruppen & Abläufe • Unterstützung bei Verkaufsaktionen & Promotions • Strukturierung von Besucherströmen & Standorganisation • Reporting & Nachbereitung Ihrer Leads\n\nSo holen Sie das Maximum aus jedem Messetag heraus. \nWarum FAIREVER für die SPIEL Essen? \n\nErfahrung auf publikumsstarken Consumer-Messen • Aktives\, verkaufsstarkes und sympathisches Personal • Hohe Energie in der Besucheransprache • Flexibel skalierbare Teams bei Spitzenandrang\n\nJetzt Messepersonal für die SPIEL Essen 2026 buchen \nPositionieren Sie Ihre Marke erfolgreich auf der SPIEL Essen – mit professionellen Hostessen\, erfahrenem Promotionpersonal und gezielter Unterstützung für Ihre Verkaufs- und Marketingziele. \nFAIREVER GmbH – fair. flexibel. nachhaltig. Ihr Partner für Messepersonal\, Hostessen und Promotion in Essen – auf der SPIEL und darüber hinaus.
URL:https://www.fairever-events.com/eventagentur/spiel-messe-essen-personal/
LOCATION:Messe Essen
CATEGORIES:Messen in Essen
ATTACH;FMTTYPE=image/jpeg:https://www.fairever-events.com/wp-content/uploads/2026/04/spiel-essen.jpg
END:VEVENT
BEGIN:VEVENT
DTSTART;VALUE=DATE:20261105
DTEND;VALUE=DATE:20261109
DTSTAMP:20260422T022716
CREATED:20250505T103627Z
LAST-MODIFIED:20260330T195514Z
UID:7167-1793836800-1794182399@www.fairever-events.com
SUMMARY:Messepersonal\, Hostessen & Promotion für die Games Ground Berlin 2026
DESCRIPTION:Bringen Sie Ihre Marke direkt zur Gaming-Community – auf der Games Ground Berlin in Berlin. \nDie Games Ground ist Treffpunkt für Entwickler\, Publisher\, Creator und Gaming-Fans. Hier geht es um neue Games\, kreative Ideen und echte Interaktion mit der Community. \nMit FAIREVER buchen Sie professionelles Messepersonal in Berlin\, das Ihre Marke authentisch präsentiert und Besucher aktiv einbindet. \n\n		Jetzt Anfrage stellen\n	\n\nDie Games Ground – Community\, Gaming & kreative Szene \nAuf der Games Ground erreichen Sie: • Gaming-Community & Fans • Indie-Entwickler & Studios • Publisher & Branchenexperten • Content Creator & Streamer \nHier zählt nicht nur Präsentation – sondern echte Interaktion. \nPromotion Personal & Hostessen für die Games Ground Berlin \nUnser Personal ist perfekt auf Gaming-Events und Community-Formate vorbereitet: \n\nAktive Ansprache von Besuchern & Spielern • Betreuung von Gaming-Stationen & Demos • Unterstützung bei Turnieren & Community-Aktionen • Präsentation von Games & Features • Social-Media- & Creator-Integration vor Ort\n\nIdeal für Game Studios\, Publisher\, Hardware- und Tech-Brands. \nFull-Service für Ihren Auftritt auf der Games Ground \nFAIREVER unterstützt Sie ganzheitlich: \n\nAuswahl gaming-affiner Promoter & Hostessen • Briefing zu Spiel\, Zielgruppe und Community • Unterstützung bei Aktionen\, Turnieren & Activations • Koordination & Betreuung während des Events • Reporting & Auswertung Ihrer Aktivitäten\n\nWarum FAIREVER für die Games Ground Berlin? \n\nErfahrung auf Gaming- und Community-Events • Authentisches\, technikaffines Personal • Verständnis für Zielgruppen & Szene • Flexibel & kurzfristig verfügbar\n\nJetzt Messepersonal für die Games Ground Berlin 2026 buchen \nBegeistern Sie die Gaming-Community und machen Sie Ihre Marke erlebbar – mit professionellem Messepersonal von FAIREVER. \nFAIREVER GmbH – fair. flexibel. nachhaltig. Ihr Partner für Messepersonal\, Hostessen und Promotion in Berlin – auf der Games Ground und darüber hinaus.
URL:https://www.fairever-events.com/eventagentur/games-ground-messepersonal-hostessen-promotion/
LOCATION:Alte Münze Berlin
CATEGORIES:Messen in Berlin
ATTACH;FMTTYPE=image/jpeg:https://www.fairever-events.com/wp-content/uploads/2025/05/csm_Games_Ground_b6932d657d.jpg
END:VEVENT
BEGIN:VEVENT
DTSTART;VALUE=DATE:20261116
DTEND;VALUE=DATE:20261120
DTSTAMP:20260422T022716
CREATED:20250512T151527Z
LAST-MODIFIED:20260420T173109Z
UID:7313-1794787200-1795132799@www.fairever-events.com
SUMMARY:Messepersonal\, Hostessen & Promotion für die COMPAMED Düsseldorf 2026
DESCRIPTION:Nutzen Sie die internationale Leitmesse für die Medizintechnik-Zulieferindustrie – auf der COMPAMED in Düsseldorf. Die Fachmesse bringt Entwickler\, Hersteller\, Zulieferer und Entscheider aus der globalen MedTech-Branche zusammen und schafft ideale Bedingungen für hochwertige Geschäftskontakte. \nMit FAIREVER buchen Sie professionelles Messepersonal in Düsseldorf\, das Ihre Technologien\, Komponenten und Lösungen kompetent präsentiert und gezielt Ihre B2B-Kommunikation unterstützt. \nDie COMPAMED – Hightech\, Innovation & internationale Entscheider \nDie COMPAMED ist eine der weltweit führenden Fachmessen für die medizinische Zulieferindustrie und Produktentwicklung. Hier treffen sich internationale Marktführer\, Ingenieure und Einkäufer\, um Innovationen entlang der gesamten Wertschöpfungskette zu entdecken. \n\n		Jetzt Anfrage stellen\n	\n\nIm Fokus stehen: • Hightech-Komponenten & Materialien für Medizintechnik • Mikro- und Nanotechnologien • Elektronik\, Sensorik & Embedded Systems • Fertigungs- und Automatisierungstechnologien • OEM-Partnerschaften & industrielle Dienstleistungen \nParallel zur MEDICA entsteht ein einzigartiges Umfeld mit hoher Entscheiderdichte und internationaler Reichweite – ideal für Geschäftsanbahnung auf Top-Niveau. \nMessehostessen & Fachpersonal für die COMPAMED \nUnser speziell geschultes Messepersonal ist auf technisch anspruchsvolle B2B-Messen vorbereitet: \n\nProfessionelle Betreuung internationaler Fachbesucher • Mehrsprachige Kommunikation (EN\, DE\, weitere Sprachen auf Anfrage) • Unterstützung bei erklärungsbedürftigen Produkten & Technologien • Lead-Erfassung & strukturierte Gesprächsführung • Unterstützung bei Meetings\, Präsentationen & Produktdemos\n\nIdeal für MedTech-Zulieferer\, OEM-Partner\, Entwickler und Technologieunternehmen. \nFull-Service für Ihren Messeauftritt in Düsseldorf \nFAIREVER bietet Ihnen umfassende Unterstützung für einen erfolgreichen Messeauftritt: \n\nAuswahl & Briefing von qualifiziertem Fachpersonal • Vorbereitung auf komplexe Produkte & Zielgruppen • Unterstützung bei Standorganisation & Ablaufkoordination • Koordination von B2B-Terminen & Geschäftsgesprächen • Reporting & strukturierte Nachbereitung Ihrer Leads\n\nSo wird Ihr Messeauftritt effizient\, professionell und messbar erfolgreich. \nWarum FAIREVER für die COMPAMED Düsseldorf? \n\nErfahrung auf internationalen B2B- und Technologiemessen • Verständnis für erklärungsbedürftige Hightech-Produkte • Souveränes Auftreten im internationalen Geschäftsumfeld • Flexible & kurzfristige Einsatzplanung\n\nJetzt Messepersonal für die COMPAMED 2026 buchen \nPositionieren Sie Ihr Unternehmen erfolgreich auf der COMPAMED Düsseldorf – mit erfahrenem Messepersonal\, professionellen Hostessen und gezielter Unterstützung für Ihre Vertriebs- und Networking-Ziele. \nFAIREVER GmbH – fair. flexibel. nachhaltig. Ihr Partner für Messepersonal\, Hostessen und Promotion in Düsseldorf – auf der COMPAMED und darüber hinaus.
URL:https://www.fairever-events.com/eventagentur/compamed-messepersonal-hostessen-promotion/
CATEGORIES:Messen in Düsseldorf
ATTACH;FMTTYPE=image/jpeg:https://www.fairever-events.com/wp-content/uploads/2025/05/compamed_logo_cmyk.jpg
END:VEVENT
BEGIN:VEVENT
DTSTART;VALUE=DATE:20261117
DTEND;VALUE=DATE:20261121
DTSTAMP:20260422T022716
CREATED:20260421T184301Z
LAST-MODIFIED:20260421T184301Z
UID:8489-1794873600-1795219199@www.fairever-events.com
SUMMARY:Messepersonal\, Hostessen & Promotion für die Formnext Frankfurt 2026
DESCRIPTION:Nutzen Sie die weltweit führende Fachmesse für additive Fertigung und industrielle Produktionstechnologien – die Formnext in Frankfurt. Die Leitmesse bringt Hersteller\, Entwickler\, Ingenieure und Entscheider aus der globalen Industrie zusammen und bietet ideale Voraussetzungen für hochwertige B2B-Kontakte und nachhaltige Geschäftsabschlüsse. \nMit FAIREVER buchen Sie professionelles Messepersonal in Frankfurt\, das Ihre Technologien\, Maschinen und Lösungen kompetent präsentiert und gezielt Ihre Geschäftsanbahnung unterstützt. \n\n		Jetzt Anfrage stellen\n	\n\nDie Formnext – Additive Manufacturing\, Innovation & internationale Entscheider \nDie Formnext ist die internationale Leitmesse für Additive Manufacturing und industriellen 3D-Druck und findet vom 17. bis 20. November 2026 auf dem Messegelände Frankfurt statt. \nAls globale Plattform deckt sie die gesamte Prozesskette der modernen Fertigung ab – von der Produktidee über Materialien und Produktion bis hin zur Serienfertigung. \nMit über 800 Ausstellern und rund 38.000 Fachbesuchern verwandelt die Formnext Frankfurt jedes Jahr in das Zentrum der additiven Fertigung. \nIm Fokus stehen: • Additive Fertigung & industrieller 3D-Druck • Materialien & Werkstoffe (Metalle\, Polymere u. a.) • Maschinen\, Anlagen & Fertigungstechnologien • Software\, Simulation & Prozessoptimierung • Automatisierung\, Qualitätssicherung & Post-Processing \nDie Formnext gilt als Innovationsplattform der nächsten Generation der industriellen Produktion – hier treffen sich Technologieführer und Entscheider\, um die Zukunft der Fertigung zu gestalten. \nMessehostessen & Fachpersonal für die Formnext \nUnser speziell geschultes Messepersonal ist auf technisch anspruchsvolle B2B-Messen und komplexe Industriegüter vorbereitet: \n\nProfessionelle Betreuung internationaler Fachbesucher • Mehrsprachige Kommunikation (EN\, DE\, weitere Sprachen auf Anfrage) • Unterstützung bei erklärungsbedürftigen Technologien & Maschinen • Lead-Erfassung & strukturierte Gesprächsführung • Unterstützung bei Meetings\, Präsentationen & Fachgesprächen\n\nIdeal für Maschinenbauer\, Technologieunternehmen\, OEMs\, Zulieferer und Industrieanbieter. \nFull-Service für Ihren Messeauftritt in Frankfurt \nFAIREVER bietet Ihnen umfassende Unterstützung für einen erfolgreichen Messeauftritt: \n\nAuswahl & Briefing von qualifiziertem Fachpersonal • Vorbereitung auf komplexe Technologien & internationale Zielgruppen • Unterstützung bei Standorganisation & Ablaufkoordination • Koordination von B2B-Terminen & Geschäftsgesprächen • Reporting & strukturierte Nachbereitung Ihrer Leads\n\nSo wird Ihr Messeauftritt effizient\, professionell und messbar erfolgreich. \nWarum FAIREVER für die Formnext Frankfurt? \n\nErfahrung auf internationalen Industrie- und Technologiemessen • Verständnis für erklärungsbedürftige Hightech- und Produktionslösungen • Souveränes Auftreten im internationalen Geschäftsumfeld • Flexible & kurzfristige Einsatzplanung\n\nJetzt Messepersonal für die Formnext 2026 buchen \nPositionieren Sie Ihr Unternehmen erfolgreich auf der Formnext Frankfurt – mit erfahrenem Messepersonal\, professionellen Hostessen und gezielter Unterstützung für Ihre Vertriebs- und Networking-Ziele. \nFAIREVER GmbH – fair. flexibel. nachhaltig. Ihr Partner für Messepersonal\, Hostessen und Promotion in Frankfurt – auf der Formnext und darüber hinaus.
URL:https://www.fairever-events.com/eventagentur/formnext-ffm-promotion/
LOCATION:Messe Frankfurt\, Ludwig-Erhard-Anlage 1\, Frankfurt am Main\, Hessen\, 60327\, Germany
CATEGORIES:Messen in Frankfurt
ATTACH;FMTTYPE=image/jpeg:https://www.fairever-events.com/wp-content/uploads/2026/04/formnext-logo.jpg
END:VEVENT
BEGIN:VEVENT
DTSTART;VALUE=DATE:20261128
DTEND;VALUE=DATE:20261207
DTSTAMP:20260422T022716
CREATED:20250512T161935Z
LAST-MODIFIED:20260420T175431Z
UID:7356-1795824000-1796601599@www.fairever-events.com
SUMMARY:ESSEN MOTOR SHOW - Messepersonal\, Hostessen & Promotion
DESCRIPTION:Nutzen Sie das größte Performance- und Tuning-Festival Europas – auf der Essen Motor Show in Essen. Die Messe bringt Automobilfans\, Marken\, Tuning-Unternehmen und Hersteller aus aller Welt zusammen und bietet ideale Voraussetzungen für direkte Verkäufe\, Markenaufbau und maximale Reichweite. \nMit FAIREVER buchen Sie professionelles Messepersonal für die Essen Motor Show\, das Ihre Fahrzeuge\, Produkte und Marken erlebbar macht und aktiv zur Conversion am Stand beiträgt. \n\n		Jetzt Anfrage stellen\n	\n\nDie Essen Motor Show – Performance\, Lifestyle & internationale Community \nDie Essen Motor Show ist eines der bedeutendsten Events der Automobil- und Tuningbranche in Europa und zieht jährlich über 200.000 Besucher sowie rund 500 Aussteller an. \nVom 28. November bis 6. Dezember 2026 verwandelt sich die Messe Essen in ein Festival für Performance\, Motorsport und automobile Leidenschaft. \nIm Fokus stehen: • Sportwagen\, Performance-Fahrzeuge & Supercars • Tuning & Individualisierung • Motorsport & Racing-Szene • Classic Cars\, Youngtimer & Sammlerfahrzeuge • Zubehör\, Parts & Lifestyle-Produkte \nDie Messe verbindet Show\, Community und Kaufinteresse – Besucher kommen nicht nur zum Anschauen\, sondern auch zum Kaufen und Erleben. \nMessehostessen & Promotionpersonal für die Essen Motor Show \nUnser Messepersonal ist speziell auf publikumsstarke\, dynamische Events mit hoher Besucherfrequenz vorbereitet: \n\nAktive Ansprache und Aktivierung von Besuchern • Unterstützung bei Produktpräsentationen & Fahrzeugvorstellungen • Verkaufsunterstützung & Beratung am Stand • Betreuung von Besucherströmen & Warteschlangen • Promotion-Aktionen\, Gewinnspiele & Markeninszenierung\n\nIdeal für Automobilmarken\, Tuning-Unternehmen\, Zubehöranbieter und Lifestyle-Brands. \nFull-Service für Ihren Messeauftritt in Essen \nFAIREVER unterstützt Sie ganzheitlich bei Ihrem Auftritt auf der Essen Motor Show: \n\nAuswahl von kommunikationsstarkem\, verkaufsorientiertem Personal • Briefing auf Produkte\, Zielgruppen & Markenauftritt • Unterstützung bei Promotions\, Aktionen & Verkaufsprozessen • Strukturierung von Besucherströmen & Standorganisation • Reporting & Auswertung Ihrer Leads\n\nSo maximieren Sie Aufmerksamkeit\, Interaktion und Umsatz auf der Messe. \nWarum FAIREVER für die Essen Motor Show? \n\nErfahrung auf großen Publikums- und Lifestyle-Messen • Verkaufsstarkes\, aktives und markenaffines Personal • Hohe Energie in der Besucheransprache • Flexible Teams – auch bei starkem Besucherandrang\n\nJetzt Messepersonal für die Essen Motor Show 2026 buchen \nPositionieren Sie Ihre Marke erfolgreich auf der Essen Motor Show – mit professionellen Hostessen\, erfahrenem Promotionpersonal und gezielter Unterstützung für Ihre Verkaufs- und Marketingziele. \nFAIREVER GmbH – fair. flexibel. nachhaltig. Ihr Partner für Messepersonal\, Hostessen und Promotion in Essen – auf der Essen Motor Show und darüber hinaus.
URL:https://www.fairever-events.com/eventagentur/essen-motor-show/
LOCATION:Messe Essen
CATEGORIES:Messen in Essen
ATTACH;FMTTYPE=image/png:https://www.fairever-events.com/wp-content/uploads/2025/05/logo_essenmotorshow_2024_rgb-scaled.png
END:VEVENT
END:VCALENDAR