BEGIN:VCALENDAR
VERSION:2.0
PRODID:-//FAIREVER - ECPv6.15.20//NONSGML v1.0//EN
CALSCALE:GREGORIAN
METHOD:PUBLISH
X-WR-CALNAME:FAIREVER
X-ORIGINAL-URL:https://www.fairever-events.com
X-WR-CALDESC:Veranstaltungen für FAIREVER
REFRESH-INTERVAL;VALUE=DURATION:PT1H
X-Robots-Tag:noindex
X-PUBLISHED-TTL:PT1H
BEGIN:VTIMEZONE
TZID:Europe/Berlin
BEGIN:DAYLIGHT
TZOFFSETFROM:+0100
TZOFFSETTO:+0200
TZNAME:CEST
DTSTART:20210328T010000
END:DAYLIGHT
BEGIN:STANDARD
TZOFFSETFROM:+0200
TZOFFSETTO:+0100
TZNAME:CET
DTSTART:20211031T010000
END:STANDARD
BEGIN:DAYLIGHT
TZOFFSETFROM:+0100
TZOFFSETTO:+0200
TZNAME:CEST
DTSTART:20220327T010000
END:DAYLIGHT
BEGIN:STANDARD
TZOFFSETFROM:+0200
TZOFFSETTO:+0100
TZNAME:CET
DTSTART:20221030T010000
END:STANDARD
BEGIN:DAYLIGHT
TZOFFSETFROM:+0100
TZOFFSETTO:+0200
TZNAME:CEST
DTSTART:20230326T010000
END:DAYLIGHT
BEGIN:STANDARD
TZOFFSETFROM:+0200
TZOFFSETTO:+0100
TZNAME:CET
DTSTART:20231029T010000
END:STANDARD
END:VTIMEZONE
BEGIN:VEVENT
DTSTART;VALUE=DATE:20220426
DTEND;VALUE=DATE:20220430
DTSTAMP:20260420T125536
CREATED:20220419T090500Z
LAST-MODIFIED:20220419T092354Z
UID:5099-1650931200-1651276799@www.fairever-events.com
SUMMARY:Interlift 2022 - Hostessen und Personal
DESCRIPTION:Sie benötigen Hostessen und Personal für die Interlift 2022 – Weltleitmesse der Aufzugsbranche in Augsburg? Wir haben den größten Personalpool in Augsburg an geschulten\, qualifizierten und motivierten Messehostessen\, Messehosts und Promotern. \n\n		Jetzt Anfrage stellen\n	\n \nDie Messe interlift 2022 in Augsburg ist die internationale Fachmesse für Aufzüge\, Komponenten und Zubehör. Mehr als 570 Aussteller\, mehrheitlich kleinere und mittlere Hersteller von Aufzugskomponenten\, hoch spezialisiert und oft weltweit tätig\, präsentieren sich auf der interlift Messe Augsburg und zeigen den Weltmarkt an Produkten\, Dienstleistungen\, Neuheiten und Trends rund um die Aufzugstechnik. Die wesentlichen Angebots- und Informationsbereiche der Aufzugsmesse in Augsburg sind Aufzugsanlagen und vorgefertigte Komponenten\, Fahrtreppen und Laufbänder\, Parksysteme\, Getriebe\, Steuerungen und Regelungen\, Überwachungs- und Sicherheitssysteme\, Kabinen\, Türen\, Seile\, Bedien- und Anzeigenelemente\, sowie Hydraulik und entsprechendes Zubehör. Daneben präsentieren sich auch verschiedene internationale Verbände und Medien der Aufzugsbranche. Im begleitenden VFA-Forum\, der Kommunikations-Plattform der interlift in Augsburg\, informieren zudem verschiedene renommierte Aufzugsexperten zu aktuellen Branchenthemen und zukünftigen Entwicklungen. Anwender und Fachbesucher aus der ganzen Welt nutzen diese hochkarätige Weiterbildungsmaßnahme auf der Weltleitmesse für Lifttechnologie zum wertvollen Informationstransfer.
URL:https://www.fairever-events.com/eventagentur/interlift-2022-hostessen-personal/
LOCATION:Messe Augsburg\, Am Messezentrum 5\, Augsburg\, Bayern\, 86159\, Germany
CATEGORIES:Messen in Nürnberg
ATTACH;FMTTYPE=image/jpeg:https://www.fairever-events.com/wp-content/uploads/2022/04/Logo_interlift_2022.jpg
END:VEVENT
END:VCALENDAR