BEGIN:VCALENDAR
VERSION:2.0
PRODID:-//FAIREVER - ECPv6.15.20//NONSGML v1.0//EN
CALSCALE:GREGORIAN
METHOD:PUBLISH
X-ORIGINAL-URL:https://www.fairever-events.com
X-WR-CALDESC:Veranstaltungen für FAIREVER
REFRESH-INTERVAL;VALUE=DURATION:PT1H
X-Robots-Tag:noindex
X-PUBLISHED-TTL:PT1H
BEGIN:VTIMEZONE
TZID:Europe/Berlin
BEGIN:DAYLIGHT
TZOFFSETFROM:+0100
TZOFFSETTO:+0200
TZNAME:CEST
DTSTART:20210328T010000
END:DAYLIGHT
BEGIN:STANDARD
TZOFFSETFROM:+0200
TZOFFSETTO:+0100
TZNAME:CET
DTSTART:20211031T010000
END:STANDARD
BEGIN:DAYLIGHT
TZOFFSETFROM:+0100
TZOFFSETTO:+0200
TZNAME:CEST
DTSTART:20220327T010000
END:DAYLIGHT
BEGIN:STANDARD
TZOFFSETFROM:+0200
TZOFFSETTO:+0100
TZNAME:CET
DTSTART:20221030T010000
END:STANDARD
BEGIN:DAYLIGHT
TZOFFSETFROM:+0100
TZOFFSETTO:+0200
TZNAME:CEST
DTSTART:20230326T010000
END:DAYLIGHT
BEGIN:STANDARD
TZOFFSETFROM:+0200
TZOFFSETTO:+0100
TZNAME:CET
DTSTART:20231029T010000
END:STANDARD
END:VTIMEZONE
BEGIN:VEVENT
DTSTART;VALUE=DATE:20220530
DTEND;VALUE=DATE:20220604
DTSTAMP:20260420T093309
CREATED:20220420T112556Z
LAST-MODIFIED:20220420T113413Z
UID:5121-1653868800-1654300799@www.fairever-events.com
SUMMARY:IFAT 2022 - Hostessen und Personal
DESCRIPTION:Sie benötigen Hostessen und Personal für die IFAT 2022 – Weltleitmesse für Wasser-\, Abwasser-\, Abfall- und Rohstoffwirtschaft in München? Wir bieten den besten Personalpool in München an geschulten\, qualifizierten und motivierten Messehostessen\, Messehosts und Promotern. \n \n		Jetzt Anfrage stellen\n	\n \nDie Messe IFAT München ist die Weltleitmesse für Wasser-\, Abwasser-\, Abfall- und Rohstoffwirtschaft. Mehr als 3.000 Aussteller präsentieren auf der IFAT Messe München ein breites Spektrum von Angebotsbereichen\, Funktions- und Leistungsumfängen sowie speziell angepassten Technologien. Das Angebot der Leitmesse für Umwelttechnologie München umfasst die Bereiche Wassergewinnung\, Meerwasserentsalzung\, Wasser- und Abwasserbehandlung\, Wasserverteilung und Kanalisation\, Küsten- und Hochwasserschutz\, Abfallentsorgung und Recycling\, Energiegewinnung aus Abfallstoffen\, Straßenreinigung\, Altlastensanierung und Bodenaufbereitung\, Abgas- und Abluftreinigung\, Lärmminderung und Schallschutz\, Mess-\, Regel- und Labortechnik sowie Wissenschaft\, Forschung und Technologietransfer. Ein umfangreiches Rahmenprogramm mit Konferenzen\, Symposien\, Workshops und Foren bietet darüber hinaus auf der IFAT München Messe eine Informationsbühne für aktuelle Technologien\, Themen und Trends.
URL:https://www.fairever-events.com/eventagentur/ifat-2022-hostessen-und-personal/
LOCATION:Messe München\, Messegelände\, München\, Bayern\, 81823\, Germany
CATEGORIES:Messen in München
ATTACH;FMTTYPE=image/jpeg:https://www.fairever-events.com/wp-content/uploads/2022/04/ifat-muenchen-2022.jpg
END:VEVENT
BEGIN:VEVENT
DTSTART;VALUE=DATE:20220531
DTEND;VALUE=DATE:20220603
DTSTAMP:20260420T093309
CREATED:20220417T083158Z
LAST-MODIFIED:20220417T083158Z
UID:5058-1653955200-1654214399@www.fairever-events.com
SUMMARY:IMEX 2022 - Personal und Hostessen
DESCRIPTION:Sie benötigen Hostessen und Personal für die IMEX 2022 – Die internationale Fachmesse für Meetings\, Incentives\, Tagungen und Events in Frankfurt? Wir haben den besten Personalpool in Frankfurt an geschulten\, qualifizierten und motivierten Messehostessen\, Messehosts und Promotern. \n \n		Jetzt Anfrage stellen\n	\n \n\n\nDie IMEX Messe findet in Frankfurt am Main statt und ist die internationale Messe der Kongress-\, Meeting-\, Event- und Incentivebranche. Die IMEX ist der internationale Treffpunkt für die verschiedenste Aussteller. Angefangen von Kongresszentren\, Hotels\, über Destinationen bis hin zu Veranstaltungsagenturen und andere Dienstleistungen aus der Meetingbranche. \nOb Veranstaltungsorganisatoren\, Eventagenturen\, Tourismusbüros\, Kongressbüros\, Konferenz- und Ausstellungszentren\, Kreuzfahrtunternehmen\, Airlines\, Hotelketten\, Wellness-Resorts\, Verbandsmanagement\, Anbieter von Incentive-Reisen oder unternehmensinterne Eventplaner – alle finden auf der IMEX das richtige Angebot und können sich über zukünftige Veranstaltungen\, neueste Event-Locations\, aktuelle Gesetzeslagen und modernste Event-Technologien informieren. So entstehen unzählige Gelegenheiten zum Netzwerken. \nIn den Jahren 2020 und 2021 konnte die Messe pandemiebedingt leider nicht stattfinden. Im Jahr 2018 kamen jedoch mehr als 4.900 Besucher zur IMEX 2018 und ließen sich von den Locations\, Technologien und Dienstleistungen der mehr als 3.500 Aussteller aus 160 verschiedenen Ländern begeistern. 13 % der Hosted Buyer verfügten über ein Budget von mehr als 10.000.000 US$ und es gab ganze 68.500 im Voraus gebuchte Termine.\nDas Leitthema der IMEX 2019 ist die Vorstellungskraft unter Berücksichtigung der Konzepte Neugierde und Kreativität. \nThemenschwerpunkte der Messe 2022 werden sein: \n\nNatur\nEvent-Technologie\nEntspannung auf der IMEX\nInteractiv und erlebnisreich\nCSR (Corporate Social Responsibility) und Nachhaltigkeit\n\nDie IMEX bietet mehr als 250 Fortbildungsmöglichkeiten in verschiedensten Formaten an. Darunter finden sich Diskussionsrunden\, Fachgespräche\, Seminare und Foren. So erwarten die Besucher beim „EduMonday“ beispielsweise inspirierende und kostenlose Weiterbildungen\, bei „She Means Business“ dreht alles um die Fortbildung zur Rolle von Frauen in der Meeting-Branche. In Verbindung damit lassen weitere Bildungs-Events zu den Themen Transformation und Zusammenarbeit\, Vielfalt und Integration sowie Nachhaltigkeit keinerlei Wünsche offen. Mit dem exklusiven CIM Clubbing wird eine ganz besondere Art des Kontaktknüpfens geboten.
URL:https://www.fairever-events.com/eventagentur/imex-2022-personal-und-hostessen/
LOCATION:Messe Frankfurt\, Ludwig-Erhard-Anlage 1\, Frankfurt am Main\, Hessen\, 60327\, Germany
CATEGORIES:Messen in Frankfurt
ATTACH;FMTTYPE=image/jpeg:https://www.fairever-events.com/wp-content/uploads/2022/04/IMEX-logo.jpg
END:VEVENT
BEGIN:VEVENT
DTSTART;VALUE=DATE:20220622
DTEND;VALUE=DATE:20220625
DTSTAMP:20260420T093309
CREATED:20220509T131508Z
LAST-MODIFIED:20220509T131616Z
UID:5199-1655856000-1656115199@www.fairever-events.com
SUMMARY:Hauptstadtkongress 2022 Berlin - Hostessen und Personal
DESCRIPTION:Sie benötigen Hostessen und Personal für den Hauptstadtkongress 2022 in Berlin – Leitkongress für Medizin und Gesundheit in Berlin? Wir haben den besten Personalpool in Berlin an geschulten\, qualifizierten und motivierten Messehostessen\, Messehosts und Promotern. \n \n		Jetzt Anfrage stellen\n	\n \nDer Hauptstadtkongress Medizin und Gesundheit ist die Leitveranstaltung der Gesundheitsbranche. Drei Tage debattieren 8.000 Entscheidungsträger aus Kliniken\, Ärzteschaft\, Pflege\, Apothekerschaft\, Politik\, Krankenkassen und Wissenschaft im CityCube Berlin. Bei rund 150 Einzelveranstaltungen werden über 600 Referentinnen und Referenten auftreten – darunter viele Spitzenpolitiker aus Bund und Ländern\, prominente Wissenschaftler und Führungspersönlichkeiten aus allen Institutionen des Gesundheitswesens.
URL:https://www.fairever-events.com/eventagentur/hauptstadtkongress-2022-berlin-hostessen-und-personal/
LOCATION:Messe Berlin\, Messedamm 22\, Berlin\, Berlin\, 14055\, Germany
CATEGORIES:Messen in Berlin
ATTACH;FMTTYPE=image/jpeg:https://www.fairever-events.com/wp-content/uploads/2022/05/Hauptstadtkonkress_2022_logo.jpg
END:VEVENT
BEGIN:VEVENT
DTSTART;VALUE=DATE:20220622
DTEND;VALUE=DATE:20220727
DTSTAMP:20260420T093309
CREATED:20220510T090945Z
LAST-MODIFIED:20220510T090945Z
UID:5206-1655856000-1658879999@www.fairever-events.com
SUMMARY:ILA 2022 Berlin - Personal und Hostessen
DESCRIPTION:Sie benötigen Hostessen und Personal für die ILA 2022 Berlin – Die größte internationale Luft- und Raumfahrtausstellung in Europa? Wir haben den besten Personalpool in Berlin an geschulten\, qualifizierten und motivierten Messehostessen\, Messehosts und Promotern. \n \n		Jetzt Anfrage stellen\n	\n \nDie ILA Berlin ist die größte und wichtigste Luft- und Raumfahrtmesse in der EU und findet in diesem Jahr vom 22. bis 26. Juni 2022 statt. Sie zeigt die Zukunft der Luft- und Raumfahrt mit den Schwerpunkten Innovation\, neue Technologien und Nachhaltigkeit sowie die Zukunft des klimaneutralen Fliegens und neue Mobilität. Die Mission: “Pioneering Aerospace for a save\, sustainable and connected world.”
URL:https://www.fairever-events.com/eventagentur/ila-2022-berlin-personal-und-hostessen/
LOCATION:Messe Berlin\, Messedamm 22\, Berlin\, Berlin\, 14055\, Germany
CATEGORIES:Messen in Berlin
ATTACH;FMTTYPE=image/png:https://www.fairever-events.com/wp-content/uploads/2022/05/ILA_2022_Logo.png
END:VEVENT
END:VCALENDAR