BEGIN:VCALENDAR
VERSION:2.0
PRODID:-//FAIREVER - ECPv6.15.20//NONSGML v1.0//EN
CALSCALE:GREGORIAN
METHOD:PUBLISH
X-WR-CALNAME:FAIREVER
X-ORIGINAL-URL:https://www.fairever-events.com/en/
X-WR-CALDESC:Events for FAIREVER
REFRESH-INTERVAL;VALUE=DURATION:PT1H
X-Robots-Tag:noindex
X-PUBLISHED-TTL:PT1H
BEGIN:VTIMEZONE
TZID:Europe/Berlin
BEGIN:DAYLIGHT
TZOFFSETFROM:+0100
TZOFFSETTO:+0200
TZNAME:CEST
DTSTART:20240331T010000
END:DAYLIGHT
BEGIN:STANDARD
TZOFFSETFROM:+0200
TZOFFSETTO:+0100
TZNAME:CET
DTSTART:20241027T010000
END:STANDARD
BEGIN:DAYLIGHT
TZOFFSETFROM:+0100
TZOFFSETTO:+0200
TZNAME:CEST
DTSTART:20250330T010000
END:DAYLIGHT
BEGIN:STANDARD
TZOFFSETFROM:+0200
TZOFFSETTO:+0100
TZNAME:CET
DTSTART:20251026T010000
END:STANDARD
BEGIN:DAYLIGHT
TZOFFSETFROM:+0100
TZOFFSETTO:+0200
TZNAME:CEST
DTSTART:20260329T010000
END:DAYLIGHT
BEGIN:STANDARD
TZOFFSETFROM:+0200
TZOFFSETTO:+0100
TZNAME:CET
DTSTART:20261025T010000
END:STANDARD
END:VTIMEZONE
BEGIN:VEVENT
DTSTART;VALUE=DATE:20250202
DTEND;VALUE=DATE:20250206
DTSTAMP:20260421T102157
CREATED:20241111T162647Z
LAST-MODIFIED:20241111T163600Z
UID:6904-1738454400-1738799999@www.fairever-events.com
SUMMARY:ProSweet Cologne 2025
DESCRIPTION:ProSweets Cologne 2025\, the international supplier trade fair for the confectionery and snack industry\, is the perfect platform to showcase your products and innovations to an international professional audience. With FAIREVER by your side\, we ensure your booth stands out among the 119 exhibitors\, giving your brand the attention it deserves. \nProfessional Hostesses for the Supplier Industry \nOur pool of qualified hostesses from the Cologne area is specifically prepared for the demands of ProSweets Cologne. All FAIREVER hostesses are professionally trained to represent your brand with charm and expertise. Whether welcoming trade visitors\, supporting during special exhibitions\, or assisting in the Newcomer Area\, our team ensures your booth becomes a central meeting point. \n\n		Contact us now\n	\n \nFAIREVER – Your Full-Service Solution for ProSweets Cologne \nOur full-service offering covers everything you need for a successful trade fair appearance: from creative booth design to providing experienced hostesses and hosts who are perfectly aligned with your brand. With FAIREVER\, your presence at ProSweets Cologne 2025 will be professional and impactful. \nAn Inspiring Trade Fair Experience \nProSweets Cologne offers a wide range of opportunities to discover innovations and set trends with its program\, including the Speakers Corner\, Newcomer Area\, and exciting special exhibitions. Our hostesses and hosts create a welcoming atmosphere\, turning your booth into a highlight of the fair. \nChoose FAIREVER for a successful presence at ProSweets Cologne 2025. Contact us now for a consultation!
URL:https://www.fairever-events.com/en/eventagentur/prosweet-cologne-hostess-service/
LOCATION:Messe Köln\, Messeplatz 1\, Köln\, NRW\, 50679\, Germany
CATEGORIES:Cologne Trade Fairs
ATTACH;FMTTYPE=image/jpeg:https://www.fairever-events.com/wp-content/uploads/2024/11/prosweets_logo.jpg
END:VEVENT
END:VCALENDAR