BEGIN:VCALENDAR
VERSION:2.0
PRODID:-//FAIREVER - ECPv6.15.20//NONSGML v1.0//EN
CALSCALE:GREGORIAN
METHOD:PUBLISH
X-ORIGINAL-URL:https://www.fairever-events.com/en/
X-WR-CALDESC:Events for FAIREVER
REFRESH-INTERVAL;VALUE=DURATION:PT1H
X-Robots-Tag:noindex
X-PUBLISHED-TTL:PT1H
BEGIN:VTIMEZONE
TZID:Europe/Berlin
BEGIN:DAYLIGHT
TZOFFSETFROM:+0100
TZOFFSETTO:+0200
TZNAME:CEST
DTSTART:20240331T010000
END:DAYLIGHT
BEGIN:STANDARD
TZOFFSETFROM:+0200
TZOFFSETTO:+0100
TZNAME:CET
DTSTART:20241027T010000
END:STANDARD
BEGIN:DAYLIGHT
TZOFFSETFROM:+0100
TZOFFSETTO:+0200
TZNAME:CEST
DTSTART:20250330T010000
END:DAYLIGHT
BEGIN:STANDARD
TZOFFSETFROM:+0200
TZOFFSETTO:+0100
TZNAME:CET
DTSTART:20251026T010000
END:STANDARD
BEGIN:DAYLIGHT
TZOFFSETFROM:+0100
TZOFFSETTO:+0200
TZNAME:CEST
DTSTART:20260329T010000
END:DAYLIGHT
BEGIN:STANDARD
TZOFFSETFROM:+0200
TZOFFSETTO:+0100
TZNAME:CET
DTSTART:20261025T010000
END:STANDARD
END:VTIMEZONE
BEGIN:VEVENT
DTSTART;VALUE=DATE:20250206
DTEND;VALUE=DATE:20250210
DTSTAMP:20260421T102315
CREATED:20241030T180043Z
LAST-MODIFIED:20241030T181100Z
UID:6703-1738800000-1739145599@www.fairever-events.com
SUMMARY:CARAVANING Hamburg 2025
DESCRIPTION:Discover the ideal support for your brand presence at CARAVANING HAMBURG with FAIREVER\, your specialized agency for hostesses\, personnel\, and full-service event management. CARAVANING HAMBURG\, part of the REISEN & CARAVANING Hamburg event\, is the ultimate destination for camping and outdoor travel enthusiasts. Renowned exhibitors present a wide range of new vehicles\, high-quality accessories\, and inspiring travel offers—perfect for both beginners and experienced camping enthusiasts. \n\n		Get in touch with us\n	\n\nOur experienced team at FAIREVER ensures that your presence at the fair leaves a lasting impression. With trained and dedicated hostesses\, hosts\, and brand ambassadors\, we create personal and impactful interactions\, authentically and warmly representing your brand. \nBenefit from our full-service offering: from personnel planning to training and comprehensive support—FAIREVER guarantees your trade fair appearance will be a success.
URL:https://www.fairever-events.com/en/eventagentur/caravaning-hamburg-hostess-agency/
LOCATION:Messe Hamburg\, Messeplatz 1\, Hamburg\, Hamburg\, 20357\, Germany
CATEGORIES:Hamburg trade fairs
ATTACH;FMTTYPE=image/png:https://www.fairever-events.com/wp-content/uploads/2024/10/reisen-hamburg-2025.png
END:VEVENT
BEGIN:VEVENT
DTSTART;VALUE=DATE:20250206
DTEND;VALUE=DATE:20250210
DTSTAMP:20260421T102315
CREATED:20241105T102231Z
LAST-MODIFIED:20241105T103516Z
UID:6742-1738800000-1739145599@www.fairever-events.com
SUMMARY:KREUZFAHRTWELT HAMBURG 2025
DESCRIPTION:KREUZFAHRTWELT HAMBURG 2025\, Northern Germany’s largest cruise fair within REISEN & CARAVANING Hamburg\, is the ideal platform to showcase your brand in the cruise sector. As an experienced trade fair agency\, FAIREVER ensures that your company captures attention at this unique event. \n\n		Get in touch with us\n	\n\nWith over 800 exhibitors and 73\,000 visitors across 77\,000 square meters\, KREUZFAHRTWELT HAMBURG offers an exciting environment for renowned cruise lines and travel providers. FAIREVER supports you with professional service and qualified hostesses and hosts who represent your brand\, making a welcoming first impression on all visitors. \nA Strong Trade Fair Presence – with FAIREVER \nWhether luxury liners\, expedition ships\, or family cruises – we ensure your booth provides the ideal setting for your travel offerings. Our experienced team handles every aspect\, from design to on-site support\, so that you impress visitors with a well-coordinated\, professional presence. \nExperience KREUZFAHRTWELT HAMBURG on a New Level \nWith an engaging event program\, including a 500-square-meter ship deck installation complete with a pool and pool bar\, we’ll highlight your brand in the perfect setting. Our hostesses and hosts are ready to represent your company on-site\, inspiring potential clients with personalized consultation\, exclusive travel offers\, and insider tips. \nFAIREVER – Your Partner for Success at KREUZFAHRTWELT HAMBURG 2025 \nTrust FAIREVER to create lasting impressions and strategically position your brand in the cruise industry at KREUZFAHRTWELT HAMBURG 2025. Let’s make your trade fair presence an unforgettable experience together! \n 
URL:https://www.fairever-events.com/en/eventagentur/kreuzfahrtwelt-hamburg/
LOCATION:Messe Hamburg\, Messeplatz 1\, Hamburg\, Hamburg\, 20357\, Germany
CATEGORIES:Hamburg trade fairs
ATTACH;FMTTYPE=image/gif:https://www.fairever-events.com/wp-content/uploads/2024/11/kreuzfahrtwelt-hamburg.gif
END:VEVENT
BEGIN:VEVENT
DTSTART;VALUE=DATE:20250206
DTEND;VALUE=DATE:20250210
DTSTAMP:20260421T102315
CREATED:20241105T105744Z
LAST-MODIFIED:20241105T112310Z
UID:6758-1738800000-1739145599@www.fairever-events.com
SUMMARY:REISEN Hamburg 2025
DESCRIPTION:REISEN HAMBURG 2025 is Northern Germany’s largest travel platform and the perfect opportunity to showcase your brand. As an experienced trade fair agency\, FAIREVER helps you capture visitors’ attention and win new customers at this popular event. \nWith over 850 exhibitors and 73\,000 visitors across 77\,000 square meters\, REISEN HAMBURG has everything from dream vacations and exotic destinations to adventure trips and travel within Germany. Our professional hostesses and hosts\, experts in tourism and leisure\, represent your brand confidently and warmly – whether presenting travel tips\, engaging with visitors\, or facilitating interactive activities at your booth. \nYour Booth\, Perfectly Executed – with FAIREVER \nFrom dream getaways to distant lands\, to active adventure trips\, and family vacations\, REISEN HAMBURG offers everything a travel lover could wish for. With FAIREVER as your full-service agency\, you’re set for success: Our team handles booth design\, planning\, and on-site support to present your brand attractively and professionally. \nA Trade Fair Experience to Inspire \nREISEN HAMBURG features an extensive program: immersive film screenings\, exciting country and travel presentations\, and an interactive partner region exhibition that gives visitors a taste of real travel adventures. With our qualified hostesses and hosts\, we ensure your brand shines and inspires visitors. \nChoose FAIREVER for an unforgettable trade fair presence at REISEN HAMBURG 2025. Contact us now and make an impact!
URL:https://www.fairever-events.com/en/eventagentur/reisen-hamburg-2025/
LOCATION:Messe Hamburg\, Messeplatz 1\, Hamburg\, Hamburg\, 20357\, Germany
CATEGORIES:Hamburg trade fairs
ATTACH;FMTTYPE=image/gif:https://www.fairever-events.com/wp-content/uploads/2024/11/reisen-hamburg.gif
END:VEVENT
END:VCALENDAR