BEGIN:VCALENDAR
VERSION:2.0
PRODID:-//FAIREVER - ECPv6.15.20//NONSGML v1.0//EN
CALSCALE:GREGORIAN
METHOD:PUBLISH
X-WR-CALNAME:FAIREVER
X-ORIGINAL-URL:https://www.fairever-events.com/en/
X-WR-CALDESC:Events for FAIREVER
REFRESH-INTERVAL;VALUE=DURATION:PT1H
X-Robots-Tag:noindex
X-PUBLISHED-TTL:PT1H
BEGIN:VTIMEZONE
TZID:Europe/Berlin
BEGIN:DAYLIGHT
TZOFFSETFROM:+0100
TZOFFSETTO:+0200
TZNAME:CEST
DTSTART:20240331T010000
END:DAYLIGHT
BEGIN:STANDARD
TZOFFSETFROM:+0200
TZOFFSETTO:+0100
TZNAME:CET
DTSTART:20241027T010000
END:STANDARD
BEGIN:DAYLIGHT
TZOFFSETFROM:+0100
TZOFFSETTO:+0200
TZNAME:CEST
DTSTART:20250330T010000
END:DAYLIGHT
BEGIN:STANDARD
TZOFFSETFROM:+0200
TZOFFSETTO:+0100
TZNAME:CET
DTSTART:20251026T010000
END:STANDARD
BEGIN:DAYLIGHT
TZOFFSETFROM:+0100
TZOFFSETTO:+0200
TZNAME:CEST
DTSTART:20260329T010000
END:DAYLIGHT
BEGIN:STANDARD
TZOFFSETFROM:+0200
TZOFFSETTO:+0100
TZNAME:CET
DTSTART:20261025T010000
END:STANDARD
END:VTIMEZONE
BEGIN:VEVENT
DTSTART;VALUE=DATE:20250905
DTEND;VALUE=DATE:20250910
DTSTAMP:20260420T212923
CREATED:20250512T163634Z
LAST-MODIFIED:20260330T202937Z
UID:7374-1757030400-1757462399@www.fairever-events.com
SUMMARY:Trade Fair Staff & Promotion for IFA 2026
DESCRIPTION:Present your brand on one of the world’s leading platforms for technology and innovation – IFA Berlin in Berlin. \nIFA brings together leading brands\, retailers\, media and millions of tech-savvy visitors. First impressions matter – and this is exactly where FAIREVER ensures maximum attention at your booth. \nIFA Berlin – Innovation Meets Audience & Media \nAt IFA\, you reach: • International retailers & buyers • Tech-savvy end consumers • Media\, influencers & content creators • Industry experts from consumer electronics & home appliances \nYour products are in the spotlight – we make sure they get noticed. \nPromotion Staff & Hostesses for IFA Berlin \nOur staff is specifically trained for complex products and high visitor volumes: \n\nActive visitor engagement & product demonstrations • Support for product launches & live presentations • Management of giveaways\, campaigns & promotions • Lead generation & data capture • Social media & influencer support on-site\n\nIdeal for brands in tech\, consumer electronics and smart home. \nFull-Service for Your IFA Trade Show Appearance \nWith FAIREVER\, you get a complete service package: \n\nSelection & training of experienced promoters and hostesses • Support with product briefings & presentations • Planning and execution of promotional activities • On-site coordination & supervision • Reporting & analysis of your leads and campaigns\n\nWhy FAIREVER for IFA Berlin? \n\nExperience at high-traffic consumer trade shows • Technically skilled and communicative staff • Fast scaling of large teams possible • Flexible\, reliable and available on short notice\n\nBook Trade Show Staff for IFA Berlin 2026 Now \nLeverage the enormous reach of IFA Berlin and inspire visitors\, retailers and media alike – with professional staff from FAIREVER. FAIREVER GmbH – fair. flexible. sustainable. Your partner for trade show staff\, hostesses and promotion in Berlin – at IFA and beyond.
URL:https://www.fairever-events.com/en/eventagentur/trade-fair-staff-promotion-for-ifa-2026/
LOCATION:Messe Berlin\, Messedamm 22\, Berlin\, Berlin\, 14055\, Germany
CATEGORIES:Berlin trade fairs
ATTACH;FMTTYPE=image/jpeg:https://www.fairever-events.com/wp-content/uploads/2025/04/ifa_logo_ohnedatum_1920x1080px.jpg
END:VEVENT
BEGIN:VEVENT
DTSTART;VALUE=DATE:20250909
DTEND;VALUE=DATE:20250915
DTSTAMP:20260420T212923
CREATED:20250512T165503Z
LAST-MODIFIED:20250512T165503Z
UID:7391-1757376000-1757894399@www.fairever-events.com
SUMMARY:Trade Fair Staff & Promotion for IAA 2025
DESCRIPTION:Put your brand on the global stage of mobility – at IAA 2025\, the world’s leading trade fair for mobility and automotive technology.\nFrom September 9 to 14\, 2025\, FAIREVER ensures that your products and innovations attract the attention of the international automotive industry with professional trade fair staff and a comprehensive full-service package. \n🚗 IAA 2025 – Your Stage for Mobility and Automotive Technology \nIAA 2025 is the central platform for innovations in the field of mobility\, with a focus on: \n\nElectromobility and sustainability\nAutonomous vehicles and smart mobility\nFuture automotive technologies\n\nWith FAIREVER\, you bring your brand into the spotlight and secure the attention of key decision-makers in the industry. \n🚙 Professional Trade Fair Staff for IAA 2025 \nOur hostesses and promoters specialize in automotive trade fairs and offer: \n\nProduct presentations and consulting (DE/EN and other languages upon request)\nSupport for product demonstrations and booth activations\nVisitor management and booth organization\n\n🌍 Full-Service for Your Trade Fair Presence \nBenefit from our full-service package for IAA 2025: \n\nBooth design and branding aligned with your brand\nSelection and briefing of trade fair staff\nPromotion activities and product demonstrations\nLogistics\, coordination\, and on-site support\n\n📩 Request Your Trade Fair Staff for IAA 2025 Now! \nFAIREVER GmbH – fair. flexible. sustainable.\nYour partner for trade fair staff\, promotion\, and full-service at IAA 2025 and beyond.
URL:https://www.fairever-events.com/en/eventagentur/trade-fair-staff-promotion-for-iaa-2025/
LOCATION:Messe München\, Messegelände\, München\, Bayern\, 81823\, Germany
CATEGORIES:Munich trade fairs
ATTACH;FMTTYPE=image/webp:https://www.fairever-events.com/wp-content/uploads/2025/05/iaa.webp
END:VEVENT
END:VCALENDAR