BEGIN:VCALENDAR
VERSION:2.0
PRODID:-//FAIREVER - ECPv6.15.20//NONSGML v1.0//EN
CALSCALE:GREGORIAN
METHOD:PUBLISH
X-WR-CALNAME:FAIREVER
X-ORIGINAL-URL:https://www.fairever-events.com/en/
X-WR-CALDESC:Events for FAIREVER
REFRESH-INTERVAL;VALUE=DURATION:PT1H
X-Robots-Tag:noindex
X-PUBLISHED-TTL:PT1H
BEGIN:VTIMEZONE
TZID:Europe/Berlin
BEGIN:DAYLIGHT
TZOFFSETFROM:+0100
TZOFFSETTO:+0200
TZNAME:CEST
DTSTART:20240331T010000
END:DAYLIGHT
BEGIN:STANDARD
TZOFFSETFROM:+0200
TZOFFSETTO:+0100
TZNAME:CET
DTSTART:20241027T010000
END:STANDARD
BEGIN:DAYLIGHT
TZOFFSETFROM:+0100
TZOFFSETTO:+0200
TZNAME:CEST
DTSTART:20250330T010000
END:DAYLIGHT
BEGIN:STANDARD
TZOFFSETFROM:+0200
TZOFFSETTO:+0100
TZNAME:CET
DTSTART:20251026T010000
END:STANDARD
BEGIN:DAYLIGHT
TZOFFSETFROM:+0100
TZOFFSETTO:+0200
TZNAME:CEST
DTSTART:20260329T010000
END:DAYLIGHT
BEGIN:STANDARD
TZOFFSETFROM:+0200
TZOFFSETTO:+0100
TZNAME:CET
DTSTART:20261025T010000
END:STANDARD
END:VTIMEZONE
BEGIN:VEVENT
DTSTART;VALUE=DATE:20250915
DTEND;VALUE=DATE:20250920
DTSTAMP:20260420T212924
CREATED:20250512T162614Z
LAST-MODIFIED:20250512T162649Z
UID:7367-1757894400-1758326399@www.fairever-events.com
SUMMARY:Trade Fair Staff & Promotion for SCHWEISSEN & SCHNEIDEN 2025
DESCRIPTION:Present your technologies and solutions at SCHWEISSEN & SCHNEIDEN 2025 – the world’s leading trade fair for joining\, cutting\, and surfacing.\nFrom September 15 to 19\, 2025\, FAIREVER supports your trade fair appearance with technical trade fair staff\, experienced promoters\, and a full-service package designed for precision and professionalism. \n⚙️ SCHWEISSEN & SCHNEIDEN 2025 – Your Stage for Industrial Joining Technologies \nAs an international leading trade fair\, it brings together experts from mechanical engineering\, industry\, research\, and development. Focus areas include: \n\nWelding\, cutting & coating technologies\nAutomation\, robotics & digitalization\nMaterial solutions\, additive manufacturing & safety technology\nSustainability & efficiency in industrial manufacturing\n\n👷 Skilled Trade Fair Staff for Technology & Industrial Communication \nOur technical promoters\, hostesses\, and supporters offer: \n\nSupervision of live demonstrations & machinery presentations\nCustomer engagement (DE/EN & other languages upon request)\nVisitor guidance\, product consulting & documentation support\nTrade fair assistance with a focus on safety & process awareness\n\n🛠️ Full-Service for Your Appearance at SCHWEISSEN & SCHNEIDEN \nWith FAIREVER\, you have everything from a single source: \n\nSelection & technical briefing of staff\nSupport with trade fair concept\, promotion & logistics\nAssistance during setup\, execution & follow-up\nSkilled personnel experienced in industry & technology trade fairs\n\n📩 Request Your Trade Fair Staff for SCHWEISSEN & SCHNEIDEN 2025 Now! \nMaximum impact – precisely planned and professionally executed. \nFAIREVER GmbH – fair. flexible. sustainable.\nYour partner for trade fair staff\, promotion & full-service at SCHWEISSEN & SCHNEIDEN 2025 and technical trade fairs worldwide. \n  \n 
URL:https://www.fairever-events.com/en/eventagentur/trade-fair-staff-promotion-for-schweissen-schneiden/
LOCATION:Messe Essen
ATTACH;FMTTYPE=image/jpeg:https://www.fairever-events.com/wp-content/uploads/2025/05/schweissen_schneiden.jpg
END:VEVENT
BEGIN:VEVENT
DTSTART;VALUE=DATE:20250915
DTEND;VALUE=DATE:20250920
DTSTAMP:20260420T212924
CREATED:20250512T165848Z
LAST-MODIFIED:20250512T165931Z
UID:7396-1757894400-1758326399@www.fairever-events.com
SUMMARY:Trade Fair Staff & Promotion for drinktec 2025
DESCRIPTION:Showcase your brand at drinktec 2025\, the world’s leading trade fair for beverage and liquid food technology.\nFrom September 15 to 19\, 2025\, FAIREVER ensures that your products and innovations are presented effectively and attractively with professional trade fair staff and a comprehensive full-service package. \n🍹 drinktec 2025 – Your Stage for Beverage Innovation and Technology \ndrinktec 2025 is the international platform for brands involved in the production and processing of beverages and liquid foods. Focus areas include: \n\nBeverage technology and production\nPackaging technologies and innovations\nTrends and developments in the beverage industry\n\nWith FAIREVER\, you successfully showcase your products and technologies at this important global event. \n🥤 Professional Trade Fair Staff for drinktec 2025 \nOur hostesses and promoters specialize in beverage industry trade fairs and offer: \n\nProduct presentations and consulting (DE/EN and other languages upon request)\nSupport for product demonstrations and booth activations\nVisitor management and booth organization\n\n🌍 Full-Service for Your Trade Fair Presence \nBenefit from our full-service package for drinktec 2025: \n\nBooth design and branding aligned with your brand\nSelection and briefing of trade fair staff\nPromotion activities and product demonstrations\nLogistics\, coordination\, and on-site support\n\n📩 Request Your Trade Fair Staff for drinktec 2025 Now! \nFAIREVER GmbH – fair. flexible. sustainable.\nYour partner for trade fair staff\, promotion\, and full-service at drinktec 2025 and beyond.
URL:https://www.fairever-events.com/en/eventagentur/trade-fair-staff-promotion-for-drinktec/
LOCATION:Messe München\, Messegelände\, München\, Bayern\, 81823\, Germany
CATEGORIES:Munich trade fairs
ATTACH;FMTTYPE=image/png:https://www.fairever-events.com/wp-content/uploads/2025/05/drinktec.png
END:VEVENT
END:VCALENDAR