BEGIN:VCALENDAR
VERSION:2.0
PRODID:-//FAIREVER - ECPv6.15.20//NONSGML v1.0//EN
CALSCALE:GREGORIAN
METHOD:PUBLISH
X-WR-CALNAME:FAIREVER
X-ORIGINAL-URL:https://www.fairever-events.com/en/
X-WR-CALDESC:Events for FAIREVER
REFRESH-INTERVAL;VALUE=DURATION:PT1H
X-Robots-Tag:noindex
X-PUBLISHED-TTL:PT1H
BEGIN:VTIMEZONE
TZID:Europe/Berlin
BEGIN:DAYLIGHT
TZOFFSETFROM:+0100
TZOFFSETTO:+0200
TZNAME:CEST
DTSTART:20240331T010000
END:DAYLIGHT
BEGIN:STANDARD
TZOFFSETFROM:+0200
TZOFFSETTO:+0100
TZNAME:CET
DTSTART:20241027T010000
END:STANDARD
BEGIN:DAYLIGHT
TZOFFSETFROM:+0100
TZOFFSETTO:+0200
TZNAME:CEST
DTSTART:20250330T010000
END:DAYLIGHT
BEGIN:STANDARD
TZOFFSETFROM:+0200
TZOFFSETTO:+0100
TZNAME:CET
DTSTART:20251026T010000
END:STANDARD
BEGIN:DAYLIGHT
TZOFFSETFROM:+0100
TZOFFSETTO:+0200
TZNAME:CEST
DTSTART:20260329T010000
END:DAYLIGHT
BEGIN:STANDARD
TZOFFSETFROM:+0200
TZOFFSETTO:+0100
TZNAME:CET
DTSTART:20261025T010000
END:STANDARD
END:VTIMEZONE
BEGIN:VEVENT
DTSTART;VALUE=DATE:20250918
DTEND;VALUE=DATE:20250921
DTSTAMP:20260420T212924
CREATED:20250512T163917Z
LAST-MODIFIED:20250512T163943Z
UID:7376-1758153600-1758412799@www.fairever-events.com
SUMMARY:Trade Fair Staff & Promotion for the MARATHON EXPO Berlin
DESCRIPTION:The MARATHON EXPO Berlin 2025 is the official sports and health trade fair for the BMW BERLIN-MARATHON. Over 100\,000 visitors are expected\, and with FAIREVER\, you place your products and services directly in the spotlight of a sports-enthusiastic audience.\nOur experienced trade fair staff ensures a professional and emotional brand presence. \n📍 Trade Fair Staff & Promotion for the MARATHON EXPO Berlin 2025 – with FAIREVER \nYour brand at the pulse of movement – at the MARATHON EXPO Berlin 2025\, the official sports and health trade fair for the BMW BERLIN-MARATHON\, you will meet over 100\,000 sports-enthusiastic visitors from all over the world.\nFAIREVER brings your products\, innovations\, and services into motion with trained promotional staff\, friendly hostesses\, and a holistic trade fair concept – attention-grabbing\, professional\, and emotionally engaging. \n🏃‍♂️ The Stage for Sports\, Health & Lifestyle \nThe MARATHON EXPO is the central meeting point for brands from the following sectors: \n\nRunning & sports equipment\nNutrition & supplements\nHealth\, therapy & recovery\nTravel & outdoor\nFitness apps & wearables\n\nWith FAIREVER at your side\, you not only secure visibility but also build trust – through credible brand ambassadors who authentically engage your target audience. \n👟 Sporty Trade Fair Staff That Makes an Impact \nOur promoters\, hostesses\, and booth attendants are experienced in sports and health fairs – friendly\, fit\, and brand-affine: \n\nActive approach & product presentation (DE/EN)\nSampling\, consulting & sweepstakes activities\nSupport with booth organization & visitor management\nTarget group-appropriate appearance: sporty\, friendly\, service-oriented\n\nWhether it’s a protein bar or running shoes – we bring your brand to the finish line. \n🛠️ All-Inclusive Package for Your Trade Fair Presence \nAs a full-service agency\, we take care of everything you need\, including: \n\nSelection & briefing of trade fair staff\nOutfit and clothing in brand design\nPromotion campaigns & booth activation\nLogistics\, coordination & on-site support\nReporting & evaluation after the event\n\nYou focus on your brand – we handle the rest. \n🌍 Why FAIREVER for the MARATHON EXPO Berlin 2025? \n✔ Experience with over 100 trade fairs per year – nationwide\n✔ Specialization in sports\, health & lifestyle topics\n✔ Fast and flexible staffing – even at short notice\n✔ Fair pricing\, transparent communication\n✔ Sustainable thinking & action at events & promotions \n📩 Request Your Staff & Trade Fair Presence for MARATHON EXPO 2025 Now! \nBring your products into motion – with a professional team that inspires. \nFAIREVER GmbH – fair. flexible. sustainable.\nYour partner for promotion\, hostesses & impactful trade fair appearances – at MARATHON EXPO Berlin and beyond.
URL:https://www.fairever-events.com/en/eventagentur/trade-fair-staff-promotion-for-the-marathon-expo-berlin/
LOCATION:Messe Berlin\, Messedamm 22\, Berlin\, Berlin\, 14055\, Germany
CATEGORIES:Berlin trade fairs
ATTACH;FMTTYPE=image/png:https://www.fairever-events.com/wp-content/uploads/2025/04/marathon_expo.png
END:VEVENT
END:VCALENDAR