BEGIN:VCALENDAR
VERSION:2.0
PRODID:-//FAIREVER - ECPv6.15.20//NONSGML v1.0//EN
CALSCALE:GREGORIAN
METHOD:PUBLISH
X-WR-CALNAME:FAIREVER
X-ORIGINAL-URL:https://www.fairever-events.com/en/
X-WR-CALDESC:Events for FAIREVER
REFRESH-INTERVAL;VALUE=DURATION:PT1H
X-Robots-Tag:noindex
X-PUBLISHED-TTL:PT1H
BEGIN:VTIMEZONE
TZID:Europe/Berlin
BEGIN:DAYLIGHT
TZOFFSETFROM:+0100
TZOFFSETTO:+0200
TZNAME:CEST
DTSTART:20240331T010000
END:DAYLIGHT
BEGIN:STANDARD
TZOFFSETFROM:+0200
TZOFFSETTO:+0100
TZNAME:CET
DTSTART:20241027T010000
END:STANDARD
BEGIN:DAYLIGHT
TZOFFSETFROM:+0100
TZOFFSETTO:+0200
TZNAME:CEST
DTSTART:20250330T010000
END:DAYLIGHT
BEGIN:STANDARD
TZOFFSETFROM:+0200
TZOFFSETTO:+0100
TZNAME:CET
DTSTART:20251026T010000
END:STANDARD
BEGIN:DAYLIGHT
TZOFFSETFROM:+0100
TZOFFSETTO:+0200
TZNAME:CEST
DTSTART:20260329T010000
END:DAYLIGHT
BEGIN:STANDARD
TZOFFSETFROM:+0200
TZOFFSETTO:+0100
TZNAME:CET
DTSTART:20261025T010000
END:STANDARD
END:VTIMEZONE
BEGIN:VEVENT
DTSTART;VALUE=DATE:20251008
DTEND;VALUE=DATE:20251016
DTSTAMP:20260420T200417
CREATED:20250512T172434Z
LAST-MODIFIED:20250512T172555Z
UID:7434-1759881600-1760572799@www.fairever-events.com
SUMMARY:Trade Fair Staff & Promotion for K 2025
DESCRIPTION:Present your innovations in the world of plastics and rubber – at K 2025\, the world’s leading trade fair for plastics and rubber technologies.\nFrom October 8 to 15\, 2025\, FAIREVER supports your trade fair appearance with professional staff and a customized full-service offering for a strong international presence. \n🔬 K Trade Fair 2025 – Your Stage for Materials\, Machinery & Sustainability \nK is the global flagship event for the plastics industry\, attracting exhibitors and professional visitors from around the world. Focus areas include: \n\nRaw materials\, plastics processing & recycling solutions\nMachinery\, equipment & tools\nHigh-tech plastics & sustainable innovations\nGroundbreaking applications in automotive\, construction\, packaging & healthcare\n\n👥 Technically Skilled Trade Fair Staff for K 2025 \nOur hostesses and technical attendants offer: \n\nMultilingual product consulting & professional visitor service\nSupport for live demonstrations & machinery presentations\nAssistance with international guests & delegations\nActive support for customer engagement & lead generation\n\n🛠️ Full-Service for Your Presence at K 2025 \nFAIREVER handles everything – reliably and transparently: \n\nSelection\, training & coordination of trade fair staff\nExecution of your promotion campaigns & brand communication\nLogistics management\, daily support & follow-up\nSupport for booth concepts\, outfits & event operations\n\n📩 Request Your Trade Fair Staff for K Messe Düsseldorf 2025 Now! \nFAIREVER GmbH – fair. flexible. sustainable.\nYour partner for trade fair staff\, promotion\, and full-service support at K 2025 and international technology trade fairs.
URL:https://www.fairever-events.com/en/eventagentur/trade-fair-staff-promotion-for-k-trade-fair/
CATEGORIES:Dusseldorf Trade Fairs
ATTACH;FMTTYPE=image/jpeg:https://www.fairever-events.com/wp-content/uploads/2025/05/csm_JPG_kmd2501_tm02_rgb01_4c28d6abf9.jpg
END:VEVENT
BEGIN:VEVENT
DTSTART;VALUE=DATE:20251011
DTEND;VALUE=DATE:20251020
DTSTAMP:20260420T200417
CREATED:20250624T143054Z
LAST-MODIFIED:20250624T143308Z
UID:7555-1760140800-1760918399@www.fairever-events.com
SUMMARY:Trade Show Staff for CARAVANING Barcelona 2025
DESCRIPTION:Global Presentation. Local Presence. German-Backed Structure. \nCARAVANING Barcelona 2025 (October 11–19\, Fira Barcelona Gran Via) is Spain’s premier trade show for campers\, motorhomes\, and outdoor lifestyles – with around 130 exhibitors and 55\,000 visitors. With FAIREVER\, you get internationally trained trade show staff: reliable in planning\, strong in service\, and culturally fluent. \nWhy FAIREVER – Structured Service with a Global Mindset \n\nStructured yet flexible workflows\nInternational service planning guided by German organizational standards – clear briefings\, transparent schedules\, reliable coordination.\nMultilingual\, culturally aware staff\nEnglish- and Spanish-speaking teams with international experience in visitor communication.\nIn-depth industry knowledge\nCARAVANING merges B2B and B2C experiences. We provide staff who connect with diverse audiences and understand travel/lifestyle products.\nElevate your brand\nOur team members act as confident brand ambassadors with strong presentation and problem-solving skills.\n\nOur Full-Service Support for Your Trade Show \n\nPersonnel Selection\nRecruitment of hosts familiar with outdoor and travel audiences.\nBriefing & Planning\nPrecise deployment plans and communication structures tailored to your show needs.\nOnsite Support\nProfessional reception\, guest engagement\, demonstrations\, and consulting.\nOnsite Leadership\nExperienced international team leads present on-site throughout the event.\nPost-show Evaluation\nReporting\, team feedback\, and improvements for your next activation.\n\nYour Benefits at a Glance \n\n✅ Globally competent project execution\n✅ Attendee-focused support with product affinity\n✅ Multilingual guest communication\n✅ Turnkey solutions from arrival to breakdown\n✅ Reliable onsite leads with intercultural sensitivity\n\nBook Trade Show Staff for CARAVANING Barcelona 2025 Now \nSecure: \n\nA clearly structured\, internationally led planning process\nMultilingual\, skilled and experienced booth staff\nOnsite coordination tailored to your brand needs\n\n\n		Get in touch – we look forward to your inquiry!
URL:https://www.fairever-events.com/en/eventagentur/trade-show-staff-for-caravaning-barcelona-2025/
LOCATION:Messe Barcelona\, Av. Joan Carles I\, 64\, L'Hospitalet de Llobregat\, Barcelona\, 08004\, Spain
CATEGORIES:Barcelona trade fairs
ATTACH;FMTTYPE=image/jpeg:https://www.fairever-events.com/wp-content/uploads/2025/06/TEXFIRE-EN-CARAVANING-2016.jpg
END:VEVENT
BEGIN:VEVENT
DTSTART;VALUE=DATE:20251015
DTEND;VALUE=DATE:20251020
DTSTAMP:20260420T200417
CREATED:20241130T084549Z
LAST-MODIFIED:20241130T084748Z
UID:7012-1760486400-1760918399@www.fairever-events.com
SUMMARY:Frankfurt Book Fair 2025
DESCRIPTION:The Frankfurt Book Fair 2025\, the world’s largest book fair\, is the perfect platform to showcase your works and innovations to an international audience of publishers\, booksellers\, and culture enthusiasts. With FAIREVER by your side\, we ensure your booth stands out among the 7\,000 exhibitors and your brand gets the attention it deserves. \n\n		Contact us now\n	\n \nMultilingual and Professional Hostesses for the Book and Media Industry \nOur extensive pool of qualified hostesses from the Frankfurt area is specifically prepared to meet the demands of the Frankfurt Book Fair. All FAIREVER hostesses are multilingual and professionally trained to represent your brand with charm and expertise. Whether welcoming international guests\, supporting readings\, or assisting at cultural events\, our team ensures your booth becomes a professional and inviting meeting point. \nFAIREVER – Your Full-Service Solution for the Frankfurt Book Fair \nOur full-service offering includes everything you need for a successful trade fair appearance: from creative booth design to providing experienced hostesses and hosts tailored to your needs. With FAIREVER\, your presence at the Frankfurt Book Fair 2025 will be impactful and professionally executed. \nAn Inspiring Trade Fair Experience \nThe Frankfurt Book Fair captivates with its diverse offerings\, from book premieres and readings to cultural presentations from the guest country. Our hostesses and hosts create a welcoming atmosphere that puts your brand and your works in the spotlight. \nChoose FAIREVER for a successful presence at the Frankfurt Book Fair 2025. Contact us now for a consultation!
URL:https://www.fairever-events.com/en/eventagentur/frankfurt-book-fair-hostess-agency/
LOCATION:Messe Frankfurt\, Ludwig-Erhard-Anlage 1\, Frankfurt am Main\, Hessen\, 60327\, Germany
CATEGORIES:Frankfurt trade fairs
ATTACH;FMTTYPE=image/svg+xml:https://www.fairever-events.com/wp-content/uploads/2024/11/Frankfurter_Buchmesse_logo.svg
END:VEVENT
END:VCALENDAR