BEGIN:VCALENDAR
VERSION:2.0
PRODID:-//FAIREVER - ECPv6.15.20//NONSGML v1.0//EN
CALSCALE:GREGORIAN
METHOD:PUBLISH
X-WR-CALNAME:FAIREVER
X-ORIGINAL-URL:https://www.fairever-events.com/en/
X-WR-CALDESC:Events for FAIREVER
REFRESH-INTERVAL;VALUE=DURATION:PT1H
X-Robots-Tag:noindex
X-PUBLISHED-TTL:PT1H
BEGIN:VTIMEZONE
TZID:Europe/Berlin
BEGIN:DAYLIGHT
TZOFFSETFROM:+0100
TZOFFSETTO:+0200
TZNAME:CEST
DTSTART:20240331T010000
END:DAYLIGHT
BEGIN:STANDARD
TZOFFSETFROM:+0200
TZOFFSETTO:+0100
TZNAME:CET
DTSTART:20241027T010000
END:STANDARD
BEGIN:DAYLIGHT
TZOFFSETFROM:+0100
TZOFFSETTO:+0200
TZNAME:CEST
DTSTART:20250330T010000
END:DAYLIGHT
BEGIN:STANDARD
TZOFFSETFROM:+0200
TZOFFSETTO:+0100
TZNAME:CET
DTSTART:20251026T010000
END:STANDARD
BEGIN:DAYLIGHT
TZOFFSETFROM:+0100
TZOFFSETTO:+0200
TZNAME:CEST
DTSTART:20260329T010000
END:DAYLIGHT
BEGIN:STANDARD
TZOFFSETFROM:+0200
TZOFFSETTO:+0100
TZNAME:CET
DTSTART:20261025T010000
END:STANDARD
END:VTIMEZONE
BEGIN:VEVENT
DTSTART;VALUE=DATE:20251021
DTEND;VALUE=DATE:20251030
DTSTAMP:20260420T194142
CREATED:20250624T144947Z
LAST-MODIFIED:20250624T150819Z
UID:7567-1761004800-1761782399@www.fairever-events.com
SUMMARY:Festival Services Mallorca – Personal & Event Support for EMIFF 2025
DESCRIPTION:Your Partner for Seamless Guest Experiences at the Evolution Mallorca International Film Festival \nFrom red carpet glamour to smooth backstage logistics – at EMIFF 2025\, FAIREVER provides the multilingual personnel and structured support your film team or brand presence needs. With over 18 years of international event experience\, we ensure that your festival appearance in Palma is effortless\, elegant\, and unforgettable. \nWhy FAIREVER for EMIFF? \nAs a long-standing full-service agency for event and hospitality staffing\, we bring precision\, presence\, and people who perform under pressure – without losing the charm that a cultural event like EMIFF demands. \nWhat sets us apart: \n\n✅ Experienced\, multilingual staff (EN | ES | DE)\n✅ Trained in cultural etiquette\, red carpet protocol & backstage dynamics\n✅ Local coordination with international structure\n✅ Personal contact before\, during & after the festival\n\nWhere We Support You at EMIFF \nWhether you’re a festival organizer\, production team\, sponsor or invited guest – our teams adapt flexibly to your needs and program areas: \nGuest Reception & Accreditation \nFrom first contact at the airport to check-in at CineCiutat – we handle guest lists\, welcome desks\, name badges and access logistics with professionalism. \nRed Carpet & Gala Staffing \nSmooth VIP escort\, step-and-repeat management\, photo coordination – our team knows how to keep the spotlight in motion and guests relaxed. \nPanel Coordination & Speaker Support \nWhether for “Women in Leadership” or a Masterclass in cinematography: We provide on-site assistance\, multilingual moderation support and technical liaison staff. \nPress & Production Assistance \nBehind the scenes\, we keep things moving: with technical runners\, guest flow guides\, info staff and more. \nHospitality & Onsite Management \nNeed local project leads or concierge-style services for delegations or juries? We’ve got it covered – with clear planning\, calm execution and cultural fluency. \nA Perfect Match for Creative Environments \nWe don’t just send staff – we provide a dedicated festival support team that understands the creative industry\, cultural nuances and the tempo of international events. Whether you represent a film\, a sponsor\, or EMIFF itself – we’re your professional\, personable presence on site. \nLet’s Make EMIFF 2025 Your Spotlight Moment \nGet in touch now and receive: \n\nA custom staffing and service plan for your event days\nTransparent pricing & quick onboarding\nLocal expertise backed by international standards\n\n\n		Get in touch – we look forward to your inquiry!
URL:https://www.fairever-events.com/en/eventagentur/festival-services-mallorca-emiff/
CATEGORIES:mallorca-events-en
ATTACH;FMTTYPE=image/avif:https://www.fairever-events.com/wp-content/uploads/2025/06/EMIFF-Logo-NO-background.avif
END:VEVENT
END:VCALENDAR