BEGIN:VCALENDAR
VERSION:2.0
PRODID:-//FAIREVER - ECPv6.15.20//NONSGML v1.0//EN
CALSCALE:GREGORIAN
METHOD:PUBLISH
X-WR-CALNAME:FAIREVER
X-ORIGINAL-URL:https://www.fairever-events.com/en/
X-WR-CALDESC:Events for FAIREVER
REFRESH-INTERVAL;VALUE=DURATION:PT1H
X-Robots-Tag:noindex
X-PUBLISHED-TTL:PT1H
BEGIN:VTIMEZONE
TZID:Europe/Berlin
BEGIN:DAYLIGHT
TZOFFSETFROM:+0100
TZOFFSETTO:+0200
TZNAME:CEST
DTSTART:20240331T010000
END:DAYLIGHT
BEGIN:STANDARD
TZOFFSETFROM:+0200
TZOFFSETTO:+0100
TZNAME:CET
DTSTART:20241027T010000
END:STANDARD
BEGIN:DAYLIGHT
TZOFFSETFROM:+0100
TZOFFSETTO:+0200
TZNAME:CEST
DTSTART:20250330T010000
END:DAYLIGHT
BEGIN:STANDARD
TZOFFSETFROM:+0200
TZOFFSETTO:+0100
TZNAME:CET
DTSTART:20251026T010000
END:STANDARD
BEGIN:DAYLIGHT
TZOFFSETFROM:+0100
TZOFFSETTO:+0200
TZNAME:CEST
DTSTART:20260329T010000
END:DAYLIGHT
BEGIN:STANDARD
TZOFFSETFROM:+0200
TZOFFSETTO:+0100
TZNAME:CET
DTSTART:20261025T010000
END:STANDARD
END:VTIMEZONE
BEGIN:VEVENT
DTSTART;VALUE=DATE:20251028
DTEND;VALUE=DATE:20251101
DTSTAMP:20260420T175135
CREATED:20250512T171423Z
LAST-MODIFIED:20251006T154739Z
UID:7421-1761609600-1761955199@www.fairever-events.com
SUMMARY:Trade Fair Staff & Promotion for aquanale 2025
DESCRIPTION:Present your products at aquanale 2025\, the international trade fair for sauna\, pool\, and ambience.\nFAIREVER provides you with experienced trade fair staff and a comprehensive service package for a successful trade fair presence. \n\n		Contact us now\n	\n\n💧 aquanale 2025 – Your Stage for Wellness and Water \naquanale offers a platform for innovations and trends around swimming pools\, saunas and wellness facilities. \n👩‍💼 Professional Trade Fair Staff for aquanale 2025 \nOur hostesses and promoters offer: \n\nProduct presentations and customer consulting\nSupport for demonstrations\nVisitor management and booth supervision\n\n🌍 Full-Service for Your Trade Fair Presence \nOur full-service offer includes: \n\nBooth design and branding\nSelection and training of trade fair staff\nPromotion activities and product demonstrations\nLogistics\, coordination\, and on-site support\n\n📩 Request Your Trade Fair Staff for aquanale 2025 Now! \nFAIREVER GmbH – fair. flexible. sustainable.\nYour partner for trade fair staff\, promotion\, and full-service at aquanale 2025 and beyond. \n\n		Contact us now
URL:https://www.fairever-events.com/en/eventagentur/trade-fair-staff-promotion-for-aquanale/
LOCATION:Messe Köln\, Messeplatz 1\, Köln\, NRW\, 50679\, Germany
CATEGORIES:Cologne Trade Fairs
ATTACH;FMTTYPE=image/jpeg:https://www.fairever-events.com/wp-content/uploads/2025/05/aquanale_logo_1200x630.jpg
END:VEVENT
END:VCALENDAR