BEGIN:VCALENDAR
VERSION:2.0
PRODID:-//FAIREVER - ECPv6.15.20//NONSGML v1.0//EN
CALSCALE:GREGORIAN
METHOD:PUBLISH
X-ORIGINAL-URL:https://www.fairever-events.com/en/
X-WR-CALDESC:Events for FAIREVER
REFRESH-INTERVAL;VALUE=DURATION:PT1H
X-Robots-Tag:noindex
X-PUBLISHED-TTL:PT1H
BEGIN:VTIMEZONE
TZID:Europe/Berlin
BEGIN:DAYLIGHT
TZOFFSETFROM:+0100
TZOFFSETTO:+0200
TZNAME:CEST
DTSTART:20240331T010000
END:DAYLIGHT
BEGIN:STANDARD
TZOFFSETFROM:+0200
TZOFFSETTO:+0100
TZNAME:CET
DTSTART:20241027T010000
END:STANDARD
BEGIN:DAYLIGHT
TZOFFSETFROM:+0100
TZOFFSETTO:+0200
TZNAME:CEST
DTSTART:20250330T010000
END:DAYLIGHT
BEGIN:STANDARD
TZOFFSETFROM:+0200
TZOFFSETTO:+0100
TZNAME:CET
DTSTART:20251026T010000
END:STANDARD
BEGIN:DAYLIGHT
TZOFFSETFROM:+0100
TZOFFSETTO:+0200
TZNAME:CEST
DTSTART:20260329T010000
END:DAYLIGHT
BEGIN:STANDARD
TZOFFSETFROM:+0200
TZOFFSETTO:+0100
TZNAME:CET
DTSTART:20261025T010000
END:STANDARD
END:VTIMEZONE
BEGIN:VEVENT
DTSTART;VALUE=DATE:20251101
DTEND;VALUE=DATE:20251110
DTSTAMP:20260420T175222
CREATED:20250512T170421Z
LAST-MODIFIED:20250512T170516Z
UID:7406-1761955200-1762732799@www.fairever-events.com
SUMMARY:Trade Fair Staff & Promotion for Consumenta 2025
DESCRIPTION:Inspire your audience with a convincing appearance – at Consumenta 2025\, the traditional consumer fair in Southern Germany.\nFrom November 1 to 9\, 2025\, FAIREVER brings your products\, services\, and brand messages to life with friendly promotional staff\, strong-selling hostesses\, and a comprehensive full-service package. \n🛍️ Consumenta 2025 – Your Stage for Lifestyle\, Enjoyment & Modern Living \nWhether innovation or regional specialties – Consumenta unites exhibitors from sectors such as: \n\nHousehold\, kitchen & living\nHealth\, wellness & nutrition\nFashion\, beauty & lifestyle\nLeisure\, travel & pets\n\n👥 Trade Fair Staff with Sales Talent & Service Orientation \nOur promoters\, hostesses\, and product specialists offer: \n\nTarget group-oriented communication & consulting (DE/EN)\nSupport for activities\, demonstrations & tastings\nSales support at booths & presentations\nManagement of info areas\, events & prize draws\n\n🛠️ Full-Service for Your Presence at Consumenta 2025 \nFAIREVER takes care of the organization – you focus on your brand: \n\nSelection\, briefing & equipping of personnel\nLogistics\, activity planning & daily coordination\nSupport with booth design & POS experience areas\nEvaluation & follow-up after the fair\n\n📩 Request Your Trade Fair Staff for Consumenta 2025 Now! \nFAIREVER GmbH – fair. flexible. sustainable.\nYour partner for trade fair staff\, promotion\, and full-service at Consumenta 2025 and all lifestyle consumer fairs.
URL:https://www.fairever-events.com/en/eventagentur/trade-fair-staff-promotion-for-consumenta/
LOCATION:Messe Nürnberg\, Messezentrum 1\, Nürnberg\, Bayern\, 90471\, Germany
CATEGORIES:Nuremberg Trade Fairs
ATTACH;FMTTYPE=image/jpeg:https://www.fairever-events.com/wp-content/uploads/2025/05/logo-consumenta-nodate-520x207-1.jpg
END:VEVENT
BEGIN:VEVENT
DTSTART;VALUE=DATE:20251105
DTEND;VALUE=DATE:20251107
DTSTAMP:20260420T175222
CREATED:20250512T164701Z
LAST-MODIFIED:20250512T164736Z
UID:7382-1762300800-1762473599@www.fairever-events.com
SUMMARY:Trade Fair Staff & Promotion for Deutscher Pflegetag 2025
DESCRIPTION:Strengthen your presence in the healthcare and nursing sector – with a compelling appearance at Deutscher Pflegetag 2025\, Germany’s leading congress for the nursing industry.\nFrom November 5 to 6\, 2025\, FAIREVER supports you with experienced trade fair staff and a tailor-made full-service offering for maximum impact and sustainable contacts. \n🩺 Deutscher Pflegetag 2025 – Your Forum for Healthcare\, Nursing\, and the Future \nDeutscher Pflegetag brings together caregivers\, decision-makers\, politicians\, and business leaders. Topics include: \n\nDigitalization in healthcare\nNursing policies & skilled labor shortage\nInnovations\, products & services for nursing care\n\n💬 Dedicated Trade Fair & Congress Staff for Deutscher Pflegetag 2025 \nOur qualified hostesses and promoters ensure: \n\nInformation dissemination and visitor guidance\nSensitive product & service presentations\nOrganization of meetings and congress processes\n\n🔧 All-Round Support for Your Successful Appearance \nFAIREVER offers you professional implementation with: \n\nPersonnel planning & comprehensive briefing\nSupport throughout the entire event duration\nCoordination of outfits\, materials & logistics\n\n📩 Request Your Trade Fair Staff for Deutscher Pflegetag 2025 Now! \nFAIREVER GmbH – fair. flexible. sustainable.\nYour partner for trade fair staff\, promotion\, and full-service support at Deutscher Pflegetag 2025 and many other industry events.
URL:https://www.fairever-events.com/en/eventagentur/trade-fair-staff-promotion-for-deutscher-pflegetag-2025/
LOCATION:Messe Berlin\, Messedamm 22\, Berlin\, Berlin\, 14055\, Germany
CATEGORIES:Berlin trade fairs
ATTACH;FMTTYPE=image/png:https://www.fairever-events.com/wp-content/uploads/2025/05/Logo-Deutscher-Pflegetag.png
END:VEVENT
END:VCALENDAR